Workbook
Name ChartAB: OFFSET(INDIRECT('1) Gesamtübersicht'!$E$117),,,,'1) Gesamtübersicht'!$F$99)
Name ChartAndere: #NAME?
Name ChartAndere: OFFSET('1) Gesamtübersicht'!$E$92,,,,IF('1) Gesamtübersicht'!$T$83,16,15))
Name ChartAuszahlung: #NAME?
Name ChartAuszahlung: OFFSET(INDIRECT('1) Gesamtübersicht'!$E$105),,,,'1) Gesamtübersicht'!$F$99)
Name ChartBV: #NAME?
Name ChartBV: OFFSET(INDIRECT('1) Gesamtübersicht'!$E$111),,,,'1) Gesamtübersicht'!$F$99)
Name ChartDV: #NAME?
Name ChartDV: OFFSET(INDIRECT('1) Gesamtübersicht'!$E$99),,,,'1) Gesamtübersicht'!$F$99)
Name ChartEff: #NAME?
Name ChartEff: OFFSET(INDIRECT('1) Gesamtübersicht'!$E$114),,,,'1) Gesamtübersicht'!$F$99)
Name ChartÜber: #NAME?
Name ChartÜber: OFFSET(INDIRECT('1) Gesamtübersicht'!$E$108),,,,'1) Gesamtübersicht'!$F$99)
Name ChartYears: #NAME?
Name ChartYears: OFFSET(INDIRECT('1) Gesamtübersicht'!$E$102),,,,'1) Gesamtübersicht'!$F$99)

Sheet Inhaltsverzeichnis
C5: Tabellenblatt/Abschnitt | D5: Inhalt
C7: 1) Gesamtübersicht | D7: Zusammenfassung der wichtigsten Angaben und basierend auf den Eingaben ein Überblick über die berechneten maximalen Fördersummen, die zu erwartenden Auszahlungen sowie die Erfüllung der Mindestanforderungen gemäß Nummer 4.15 FRL KSV und die Erfüllung der Auszahlungsbedingungen.
C9: 2a) Preisannahmen | D9: Angabe von Annahmen zu indexierten Preisen (bis zu drei Szenarien).
C11: 2b) Allg. Inputs | D11: Angabe der allgemeinen Daten des Antrags sowie anderweitiger für das Vorhaben bewilligter Förderungen gemäß Nummer 7.5(c) FRL KSV. Zudem sind Annahmen über kostenlose Zuteilungen im ETS hier einzutragen.
C13: 2c) Elektrolyseurförderung | D13: Angaben zur Elektrolyseanlage, falls im Vorhaben Wasserstoff verwendet wird, der durch Elektrolyseanlagen eines verbundenen Unternehmens produziert wird.
C15: 2d) Planwerte (Anlage) | D15: Angabe des/der Referenzsystem(e) und zugrundeliegender geplanter Verbrauchsparameter sowie Produktionsmengen.
C16: 2e) Realisierte Werte (Anlage) | D16: Angabe realisierter Verbrauchsparameter sowie Produktionsmengen (bei Abweichung von geplanten Verbrauchsparametern).
C17: 3a) KSV Parameter | D17: Übersicht der durch die Bewilligungsbehörde festgelegten Parameter des KSV-Programms.
C18: 3b) Referenzsysteme | D18: Angabe des/der Referenzsystem(e) und zugrundeliegender vorhabenspezifischer, geplanter Verbrauchsparameter sowie Produktionsmengen.
C19: 4a) Berechnungen zu Planwerten | D19: Allgemeine Berechnung zur Bestimmung der maximalen Fördersumme und der Auszahlungen basierend auf geplanten Verbrauchsparametern.
C20: 4b) Berechnungen zu realisierten Werten | D20: Berechnung zur Bestimmung der Auszahlungen basierend auf realisierten Verbrauchsparametern (bei Abweichung von geplanten Verbrauchsparametern).
C21: 4c) Berechnung_MFS | D21: Berechnung der maximalen Fördersummen.
... C23: 5) Eingabeprüfung | D23: Eingabeprüfung für besonders relevante Inputdaten.

Sheet Read Me
C6: Zweck | D6: Das vorliegende Excel-Tool dient der Berechnung der zu erwartenden jährlichen Auszahlungsbeträge eines Vorhabens im Rahmen des ersten Gebotsverfahrens des Förderprogramms Klimaschutzverträge gemäß der Förderrichtlinie vom 11.03.2024. Unternehmen können hier die zu erwartende Auszahlung unter Eingabe ihrer Energie- und CO2-Preisannahmen entnehmen. Zudem dient das Excel-Tool der Berechnung der jährlichen maximalen Fördersummen. So können im Falle einer geplanten Verschiebung des operativen Beginns die neuen jährlichen maximalen Fördersummen und die zu erwartenden jährlichen Auszahlungsbeträge basierend auf den geplanten Verbrauchsparametern abgeschätzt werden. Das Excel-Tool stellt kein verbindliches Dokument im Rahmen des Klimaschutzvertrags dar, sondern ist lediglich als Hilfestellung für die Zuwendungsempfänger des ersten Gebotsverfahrens zu sehen.
C8: Gliederung | D8: Das Tabellenblatt 1) Gesamtübersicht zeigt die zu erwartende Auszahlung und maximale gesamte Fördersumme sowie die Einhaltung der Mindestanforderungen nach Nummer 4.15 FRL KSV und die Erfüllung von Auszahlungsbedingungen. Der zeitliche Verlauf der Aus- bzw. Überschusszahlungen ist zudem graphisch dargestellt. Außerdem wird für besonders relevante Inputdaten geprüft, ob eine Eingabe (in aktiven Jahren) erfolgt ist. Im Abschnitt (Tabellengruppe) Inputs sind die Angaben des Vorhabens einzutragen. Dies umfasst insbesondere Produktionsmengen, Emissionen, Energieverbräuche und anderweitige Förderung. Die Vorhabensdaten sind jeweils in absoluten Werten anzugeben. Im Abschnitt (Tabellengruppe) KSV Parameter sind die durch die Bewilligungsbehörde festgelegten Programmparameter dargestellt. Der Abschnitt (Tabellengruppe) Berechnungen zeigt die Berechnungen, die der zu erwartenden Auszahlung und der maximalen Fördersumme des Vorhabens zugrundeliegen.
C10: Verwendungshinweis | D10: Grundsätzlich sind Felder zur Eingabe farblich markiert: Grün bezeichnet die von dem Zuwendungsempfänger zu machenden Angaben. Hellgrau bezeichnet die Angaben des Zuwendungsempfängers, welche für weitere Berechnungen aus den Angaben übernommen wurden. Orange hinterlegte Felder sind Angaben der Bewilligungsbehörde. Im vorliegenden Excel-Tool hat der Zuwendungsempfänger lediglich die Tabellenblätter im Abschnitt Inputs auszufüllen. Bitte beachten Sie, dass sich die Farbe der Felder teilweise dynamisch anpasst, z.B. bei Auswahl eines vorgelagerten Referenzsystems. Im Tabellenblatt 2a) Preisannahmen werden Annahmen zu indexierten Preisen für die kommenden Jahre eingetragen. Sie können Annahmen für drei verschiedene Preisszenarien eingeben und das jeweilige Szenario in Tabellenblatt 2b) Allg. Inputs auswählen. Im Tabellenblatt 2b) Allg. Inputs werden allgemeine Informationen des Vorhabens, einschließlich bewilligter anderweitiger Förderung und kostenloser Zuteilungen von Emissionsberechtigungen des EU-ETS, abgefragt. Zudem wird hier das anzuwendende Preisszenario ausgewählt. Falls in Ihrem Vorhaben Wasserstoff eingesetzt wird, der durch Elektrolyseanlagen eines verbundenen Unternehmens produziert wird, füllen Sie bitte das Tabellenblatt 2c) Elektrolyseurförderung aus. Ansonsten ist dieses Tabellenblatt nicht auszufüllen. Im Tabellenblatt 2d) Planwerte (Anlage) ist das jeweilige Referenzsystem aus einer Dropdown-Liste auszuwählen. Es gibt die Möglichkeit, mehrere Referenzsysteme auszuwählen, welche gewichtet in die Berechnungen einfließen. Bei der Wahl eines vorgelagerten Referenzsystems (Wasserstoff, Synthesegas, Wärmebereitstellung oder Brennstoffeinsatz) müssen zusätzlich die Prozessemissionen, hergestellten Industrieprodukte und jeweiligen Produktionsmengen angegeben werden. Die Prozessemissionen der vorgelagerten Referenzsysteme wurden den Zuwendungsempfängern mit Veröffentlichung des Förderaufrufs gesondert mitgeteilt. Die Abfrage von grünem und CO2-armem Wasserstoff erfolgt getrennt. In Anhang 1 des Förderaufrufs ist die jeweilige Mengeneinheit aufgeführt, mit der die Produktmenge anzugeben ist (z.B. für Grauzementklinker in Tonnen Klinker). Falls erwartet wird, dass realisierte Verbrauchsparameter von den geplanten Verbrauchsparametern abweichen werden, ist zusätzlich zum Tabellenblatt 2c) Planwerte (Anlage) das Tabellenblatt 2d) Realisierte Werte (Anlage) auszufüllen. Die Eingabe abweichender realisierter Verbrauchsparameter wird durch den Schalter in Zelle "C6" des Tabellenblatts 2e) Realisierte Werte (Anlage) freigeschaltet. Zu beachten ist ebenfalls, dass die Auszahlungsbeträge im Rahmen der KSV grundsätzlich nachschüssig gewährt werden (mit Ausnahme von Abschlagszahlungen).
C12: Disclaimer | D12: Bitte beachten Sie, dass es sich bei diesem Erklärungstool um eine rechtlich unverbindliche Erklärhilfe handelt. Maßgeblich für diese Erklärhilfe sind die Förderrichtlinie Klimaschutzverträge (FRL KSV) in der für das erste Gebotsverfahren geltenden Fassung vom 11.03.2024, der 1. Förderaufruf zum Gebotsverfahren Klimaschutzverträge vom 12.03.2024 sowie die Regelungen im Zuwendungsbescheid und im Klimaschutzvertrag (KSV).
C14: Kontakt | D14: fragen@klimaschutzvertraege.info
C16: Version | D16: Erklärhilfe zur Abschätzung der jährlichen Förderhöhe (26.02.2026)

Sheet 1) Gesamtübersicht
B2: Gesamtübersicht
B3: Dieses Tabellenblatt gibt einen Überblick über die wichtigsten Angaben und Ergebnisse der nachfolgenden Berechnungen. Zudem wird für besonders relevante Inputdaten geprüft, ob eine Eingabe (in aktiven Jahren) erfolgt ist.
B5: Eingabeprüfung von Schlüsselparametern
B6: Kategorie | C6: Prüfung
B7: Operativer Beginn | C7: ='5) Eingabeprüfung'!C7 -> Nicht befüllt
B8: Basis-Vertragspreis | C8: ='5) Eingabeprüfung'!C8 -> Nicht befüllt
B9: Preisannahmen | C9: ='5) Eingabeprüfung'!C9 -> Nicht befüllt
B10: Angabe Referenzsystem 1 | C10: ='5) Eingabeprüfung'!C10 -> Nicht befüllt
B11: Geplante Produktionsmenge | C11: ='5) Eingabeprüfung'!C11 -> Nicht befüllt
B12: Geplante Emissionen Vorhaben | C12: ='5) Eingabeprüfung'!C12 -> Nicht befüllt
B13: Ggf. realisierte Produktionsmenge | C13: ='5) Eingabeprüfung'!C13 -> -
B14: Ggf. realisierte Emissionen Vorhaben | C14: ='5) Eingabeprüfung'!C14 -> -
B16: Eingabeprüfung: Planwerte vs. realisierte Werte
B17: Nutzung abweichender Eingaben von realisierten Werten im Vergleich zu den Planwerten | C17: ='2e) Realisierte Werte (Anlage)'!$C$6 -> Nein
B19: Allgemeine Angaben & Mindestanforderungen
B20: Kategorie | C20: Einheit
B21: Operativer Beginn | C21: - | D21: =IF(ISBLANK('2b) Allg. Inputs'!C7),"",'2b) Allg. Inputs'!C7)
B22: Basis-Vertragspreis | C22: EUR/t CO2-Äq. | D22: =IF(ISBLANK('2b) Allg. Inputs'!C9),"",'2b) Allg. Inputs'!C9)
B23: Relative geplante Treibhausgasemissionsminderung der ersten 5 vollständigen Jahre der Vertragslaufzeit | C23: % | D23: =IF(ISBLANK('4c) Berechnungen_MFS'!E119),"",'4c) Berechnungen_MFS'!E119) -> 0
B24: Maximale gesamte Fördersumme | C24: EUR | D24: =IFERROR('4c) Berechnungen_MFS'!E110,"")
B25: Maximale gesamte Fördersumme von mind. 15 Mio. EUR | C25: - | D25: =IFERROR(IF('4c) Berechnungen_MFS'!E110>=15000000,"Erreicht","Nicht erreicht"),"")
B26: Maximale gesamte Fördersumme nicht größer als 1 Mrd. EUR | C26: - | D26: =IFERROR(IF('4c) Berechnungen_MFS'!E110>1000000000,"Nicht erreicht","Erreicht"),"")
B27: Erreichte geplante Treibhausgasemissionsminderung von 60 % ab dem 3. vollständigen Kalenderjahr | C27: - | D27: =IFERROR(IF('4c) Berechnungen_MFS'!E114="Nein",IF(MIN('4a) Berechnungen zu Planwerten'!G22:S22)>=60%,"Erreicht","Nicht erreicht"),IF(AND(MIN('4a) Berechnungen zu Planwerten'!H22:R22)>=60%, (('4a) Berechnungen zu Planwerten'!S21 + '4a) Berechnungen zu Planwerten'!T21)/('4a) Berechnungen zu Planwerten'!S93 + '4a) Berechnungen zu Planwerten'!T93))>=60%, ('4a) Berechnungen zu Planwerten'!U22)>=60%),"Erreicht","Nicht erreicht")),"-") -> Nicht erreicht
B28: Erreichte geplante Treibhausgasemissionsminderung von 90 % in den letzten 12 Monaten der Vertragslaufzeit | C28: - | D28: =IFERROR(IF('4c) Berechnungen_MFS'!E114="Nein",IF('4a) Berechnungen zu Planwerten'!S22>=0.9,"Erreicht","Nicht erreicht"),IF(SUM('4a) Berechnungen zu Planwerten'!T21:U21)/SUM('4a) Berechnungen zu Planwerten'!T93:U93)>=0.9,"Erreicht","Nicht erreicht")),"-") -> Nicht erreicht
B29: Ab dem 6. vollständigen Kalenderjahr wird die geplante Treibhausgasemissionsminderung aus dem 5. vollständigen Kalenderjahr nicht unterschritten | C29: - | D29: =IFERROR(IF('4c) Berechnungen_MFS'!E114="Nein", IF(MIN('4a) Berechnungen zu Planwerten'!J22:S22) < '4a) Berechnungen zu Planwerten'!I22 - 0.001, "Nicht erreicht", "Erreicht"), IF(OR(('4a) Berechnungen zu Planwerten'!S21+'4a) Berechnungen zu Planwerten'!T21)/('4a) Berechnungen zu Planwerten'!S93+'4a) Berechnungen zu Planwerten'!T93) < '4a) Berechnungen zu Planwerten'!J22 - 0.001, MIN('4a) Berechnungen zu Planwerten'!K22:R22, '4a) Berechnungen zu Planwerten'!U22) < '4a) Berechnungen zu Planwerten'!J22 - 0.001), "Nicht erreicht", "Erreicht")),"-") -> Erreicht
B30: Mindestgröße des Referenzsystems erreicht (10 kt CO2-Äq.) | C30: - | D30: =IF(SUM( '4c) Berechnungen_MFS'!E39:T39)/15>=10000,"Erreicht","Nicht erreicht") -> Nicht erreicht
M31: Anmerkung: Grafik wird ab dem ersten Jahr, in dem eine Emissionsminderung erreicht wird (geplant oder realisiert), angezeigt.
B32: Auszahlungsbedingungen
B33: Kategorie | C33: Einheit | D33: Gesamte Laufzeit | E33: =YEAR('2b) Allg. Inputs'!C7) -> 1900 | F33: =E44+1 -> 1901 | G33: =F44+1 -> 1902 | H33: =G44+1 -> 1903 | I33: =H44+1 -> 1904 | J33: =I44+1 -> 1905 | K33: =J44+1 -> 1906 | L33: =K44+1 -> 1907 | M33: =L44+1 -> 1908 | ... S33: =R44+1 -> 1914 | T33: =IF('4c) Berechnungen_MFS'!E114="Nein","",S33+1)
B34: Realisierte absolute Treibhausgasemissionsminderung liegt nicht mehr als 10 % unterhalb der geplanten absoluten Treibhausgasemissionsminderung. | C34: - | D34: =IF(AND(COUNTIF(E34:T34,"Nicht erfüllt")=0,COUNTIF(E34:T34,"Erfüllt")=0),"",IF(COUNTIF(E34:T34,"Nicht erfüllt")>0,"Nicht erfüllt","Erfüllt")) | E34: =IFERROR('4d) Berechnungen_Auszahlung'!E372,"") | F34: =IFERROR('4d) Berechnungen_Auszahlung'!F372,"") | G34: =IFERROR('4d) Berechnungen_Auszahlung'!G372,"") | H34: =IFERROR('4d) Berechnungen_Auszahlung'!H372,"") | I34: =IFERROR('4d) Berechnungen_Auszahlung'!I372,"") | J34: =IFERROR('4d) Berechnungen_Auszahlung'!J372,"") | K34: =IFERROR('4d) Berechnungen_Auszahlung'!K372,"") | L34: =IFERROR('4d) Berechnungen_Auszahlung'!L372,"") | ... T34: =IFERROR('4d) Berechnungen_Auszahlung'!T372,"")
B35: Realisierte Treibhausgasemissionsminderung von 60 % ab dem 3. bzw. 4. vollständigen Kalenderjahr (Mindestanforderung). | C35: - | D35: =IF(AND(COUNTIF(E35:T35,"Nicht erfüllt")=0,COUNTIF(E35:T35,"Erfüllt")=0),"",IF(COUNTIF(E35:T35,"Nicht erfüllt")>0,"Nicht erfüllt","Erfüllt")) -> Nicht erfüllt | E35: =IFERROR('4d) Berechnungen_Auszahlung'!E376,"") -> - | F35: =IFERROR('4d) Berechnungen_Auszahlung'!F376,"") -> - | G35: =IFERROR('4d) Berechnungen_Auszahlung'!G376,"") -> Nicht erfüllt | H35: =IFERROR('4d) Berechnungen_Auszahlung'!H376,"") -> Nicht erfüllt | I35: =IFERROR('4d) Berechnungen_Auszahlung'!I376,"") -> Nicht erfüllt | J35: =IFERROR('4d) Berechnungen_Auszahlung'!J376,"") -> Nicht erfüllt | K35: =IFERROR('4d) Berechnungen_Auszahlung'!K376,"") -> Nicht erfüllt | L35: =IFERROR('4d) Berechnungen_Auszahlung'!L376,"") -> Nicht erfüllt | ... T35: =IFERROR('4d) Berechnungen_Auszahlung'!T376,"")
B36: Realisierte Treibhausgasemissionsminderung von 90 % in den letzten 12 Monaten der Vertragslaufzeit (Mindestanforderung). | C36: - | D36: =IF(AND(COUNTIF(E36:T36,"Nicht erfüllt")=0,COUNTIF(E36:T36,"Erfüllt")=0),"",IF(COUNTIF(E36:T36,"Nicht erfüllt")>0,"Nicht erfüllt","Erfüllt")) -> Nicht erfüllt | E36: =IFERROR(IF('4c) Berechnungen_MFS'!$E$114="Nein",'4d) Berechnungen_Auszahlung'!$S$381,'4d) Berechnungen_Auszahlung'!$T$381),"") -> Nicht erfüllt
B37: Keine Unterschreitung der geplanten relativen Treibhausgasemissionsminderung des 5. vollständigen Kalenderjahres ab dem 6. vollständigen Kalenderjahr (Mindestanforderung). | C37: - | D37: =IF(AND(COUNTIF(E37:T37,"Nicht erfüllt")=0,COUNTIF(E37:T37,"Erfüllt")=0),"",IF(COUNTIF(E37:T37,"Nicht erfüllt")>0,"Nicht erfüllt","Erfüllt")) -> Erfüllt | E37: =IFERROR('4d) Berechnungen_Auszahlung'!E387,"") -> - | F37: =IFERROR('4d) Berechnungen_Auszahlung'!F387,"") -> - | G37: =IFERROR('4d) Berechnungen_Auszahlung'!G387,"") -> - | H37: =IFERROR('4d) Berechnungen_Auszahlung'!H387,"") -> - | I37: =IFERROR('4d) Berechnungen_Auszahlung'!I387,"") -> - | J37: =IFERROR('4d) Berechnungen_Auszahlung'!J387,"") -> Erfüllt | K37: =IFERROR('4d) Berechnungen_Auszahlung'!K387,"") -> Erfüllt | L37: =IFERROR('4d) Berechnungen_Auszahlung'!L387,"") -> Erfüllt | ... T37: =IFERROR('4d) Berechnungen_Auszahlung'!T387,"")
B38: Unterschreitung der geplanten spezifischen Treibhausgasemissionsminderung nicht öfter als in 4 Kalenderjahren. | C38: - | D38: =IF(AND(COUNTIF(E38:T38,"Nicht erfüllt")=0,COUNTIF(E38:T38,"Erfüllt")=0),"",IF(COUNTIF(E38:T38,"Nicht erfüllt")>0,"Nicht erfüllt",IF(COUNTIF(E38:T38,"Nicht erfüllt, aber unkritisch")>0,"Nicht erfüllt, aber unkritisch","Erfüllt"))) | E38: =IFERROR('4d) Berechnungen_Auszahlung'!E393,"") | F38: =IFERROR('4d) Berechnungen_Auszahlung'!F393,"") | G38: =IFERROR('4d) Berechnungen_Auszahlung'!G393,"") | H38: =IFERROR('4d) Berechnungen_Auszahlung'!H393,"") | I38: =IFERROR('4d) Berechnungen_Auszahlung'!I393,"") | J38: =IFERROR('4d) Berechnungen_Auszahlung'!J393,"") | K38: =IFERROR('4d) Berechnungen_Auszahlung'!K393,"") | L38: =IFERROR('4d) Berechnungen_Auszahlung'!L393,"") | ... T38: =IFERROR('4d) Berechnungen_Auszahlung'!T393,"")
B39: Der Wasserstoffmindestpfad wird nicht um mehr als 10% unterschritten. | C39: - | D39: =IF(AND(COUNTIF(E39:T39,"Nicht erfüllt")=0,COUNTIF(E39:T39,"Erfüllt")=0),"",IF(COUNTIF(E39:T39,"Nicht erfüllt")>0,"Nicht erfüllt","Erfüllt")) -> Erfüllt | E39: =IFERROR('4d) Berechnungen_Auszahlung'!E398,"") -> Erfüllt | F39: =IFERROR('4d) Berechnungen_Auszahlung'!F398,"") -> Erfüllt | G39: =IFERROR('4d) Berechnungen_Auszahlung'!G398,"") -> Erfüllt | H39: =IFERROR('4d) Berechnungen_Auszahlung'!H398,"") -> Erfüllt | I39: =IFERROR('4d) Berechnungen_Auszahlung'!I398,"") -> Erfüllt | J39: =IFERROR('4d) Berechnungen_Auszahlung'!J398,"") -> Erfüllt | K39: =IFERROR('4d) Berechnungen_Auszahlung'!K398,"") -> Erfüllt | L39: =IFERROR('4d) Berechnungen_Auszahlung'!L398,"") -> Erfüllt | ... T39: =IFERROR('4d) Berechnungen_Auszahlung'!T398,"")
B40: Der operative Beginn des geförderten Vorhabens erfolgt spätestens 36 Monate nach Bestandskraft des Zuwendungsbescheids. | C40: - | D40: =IF(AND(COUNTIF(E40:T40,"Nicht erfüllt")=0,COUNTIF(E40:T40,"Erfüllt")=0),"",IF(COUNTIF(E40:T40,"Nicht erfüllt")>0,"Nicht erfüllt","Erfüllt")) -> Erfüllt | E40: =IFERROR('4d) Berechnungen_Auszahlung'!E401,"") -> Erfüllt
B41: Die realisierten relativen Bedarfe weichen nicht um mehr als fünf Prozentpunkte von den geplanten relativen Bedarfen eines oder mehrerer Energieträger ab. | C41: - | D41: =IF(AND(COUNTIF(E41:T41,"Nicht erfüllt")=0,COUNTIF(E41:T41,"Erfüllt")=0),"",IF(COUNTIF(E41:T41,"Nicht erfüllt")>0,"Nicht erfüllt","Erfüllt")) | E41: =IFERROR('4d) Berechnungen_Auszahlung'!E493,"") | F41: =IFERROR('4d) Berechnungen_Auszahlung'!F493,"") | G41: =IFERROR('4d) Berechnungen_Auszahlung'!G493,"") | H41: =IFERROR('4d) Berechnungen_Auszahlung'!H493,"") | I41: =IFERROR('4d) Berechnungen_Auszahlung'!I493,"") | J41: =IFERROR('4d) Berechnungen_Auszahlung'!J493,"") | K41: =IFERROR('4d) Berechnungen_Auszahlung'!K493,"") | L41: =IFERROR('4d) Berechnungen_Auszahlung'!L493,"") | ... T41: =IFERROR('4d) Berechnungen_Auszahlung'!T493,"")
D42: =IF(AND(COUNTIF(E42:T42,"Nicht erfüllt")=0,COUNTIF(E42:T42,"Erfüllt")=0),"",IF(COUNTIF(E42:T42,"Nicht erfüllt")>0,"Nicht erfüllt","Erfüllt"))
B43: Maximale jährliche Fördersumme und zu erwartende Auszahlung
B44: Kategorie | C44: Einheit | D44: Gesamte Laufzeit | E44: =YEAR('2b) Allg. Inputs'!C7) -> 1900 | F44: =E44+1 -> 1901 | G44: =F44+1 -> 1902 | H44: =G44+1 -> 1903 | I44: =H44+1 -> 1904 | J44: =I44+1 -> 1905 | K44: =J44+1 -> 1906 | L44: =K44+1 -> 1907 | M44: =L44+1 -> 1908 | ... S44: =R44+1 -> 1914 | T44: =IF('4c) Berechnungen_MFS'!E114="Nein","",S44+1)
B45: Maximale jährliche Fördersumme | C45: EUR/Jahr | D45: =IF(SUM(E45:T45)=0,"",SUM(E45:T45)) | E45: =IF('4c) Berechnungen_MFS'!E44=TRUE,IFERROR('4c) Berechnungen_MFS'!E$109,""),"") | F45: =IF('4c) Berechnungen_MFS'!F44=TRUE,IFERROR('4c) Berechnungen_MFS'!F$109,""),"") | G45: =IF('4c) Berechnungen_MFS'!G44=TRUE,IFERROR('4c) Berechnungen_MFS'!G$109,""),"") | H45: =IF('4c) Berechnungen_MFS'!H44=TRUE,IFERROR('4c) Berechnungen_MFS'!H$109,""),"") | I45: =IF('4c) Berechnungen_MFS'!I44=TRUE,IFERROR('4c) Berechnungen_MFS'!I$109,""),"") | J45: =IF('4c) Berechnungen_MFS'!J44=TRUE,IFERROR('4c) Berechnungen_MFS'!J$109,""),"") | K45: =IF('4c) Berechnungen_MFS'!K44=TRUE,IFERROR('4c) Berechnungen_MFS'!K$109,""),"") | L45: =IF('4c) Berechnungen_MFS'!L44=TRUE,IFERROR('4c) Berechnungen_MFS'!L$109,""),"") | ... T45: =IF('4c) Berechnungen_MFS'!T44=TRUE,IFERROR('4c) Berechnungen_MFS'!T$109,""),"")
B46: Absolute Treibhausgasemissionsminderung | C46: t CO2-Äq./Jahr | D46: =IF(SUM(E46:T46)=0,"",SUM(E46:T46)) | E46: =IF('4c) Berechnungen_MFS'!E44=TRUE,IFERROR('4d) Berechnungen_Auszahlung'!E501,""),"") | F46: =IF('4c) Berechnungen_MFS'!F44=TRUE,IFERROR('4d) Berechnungen_Auszahlung'!F501,""),"") | G46: =IF('4c) Berechnungen_MFS'!G44=TRUE,IFERROR('4d) Berechnungen_Auszahlung'!G501,""),"") | H46: =IF('4c) Berechnungen_MFS'!H44=TRUE,IFERROR('4d) Berechnungen_Auszahlung'!H501,""),"") | I46: =IF('4c) Berechnungen_MFS'!I44=TRUE,IFERROR('4d) Berechnungen_Auszahlung'!I501,""),"") | J46: =IF('4c) Berechnungen_MFS'!J44=TRUE,IFERROR('4d) Berechnungen_Auszahlung'!J501,""),"") | K46: =IF('4c) Berechnungen_MFS'!K44=TRUE,IFERROR('4d) Berechnungen_Auszahlung'!K501,""),"") | L46: =IF('4c) Berechnungen_MFS'!L44=TRUE,IFERROR('4d) Berechnungen_Auszahlung'!L501,""),"") | ... T46: =IF('4c) Berechnungen_MFS'!T44=TRUE,IFERROR('4d) Berechnungen_Auszahlung'!T501,""),"")
B47: Auszahlung innerhalb der jährlichen maximalen Fördersumme | C47: - | D47: =IF(AND(COUNTIF(E47:T47,"Nein")=0,COUNTIF(E47:T47,"Ja")=0),"",IF(COUNTIF(E47:T47,"Nein")>0,"Nein","Ja")) | E47: =IF('4d) Berechnungen_Auszahlung'!E7=TRUE,IFERROR('4d) Berechnungen_Auszahlung'!E507,""),"") | F47: =IF('4d) Berechnungen_Auszahlung'!F7=TRUE,IFERROR('4d) Berechnungen_Auszahlung'!F507,""),"") | G47: =IF('4d) Berechnungen_Auszahlung'!G7=TRUE,IFERROR('4d) Berechnungen_Auszahlung'!G507,""),"") | H47: =IF('4d) Berechnungen_Auszahlung'!H7=TRUE,IFERROR('4d) Berechnungen_Auszahlung'!H507,""),"") | I47: =IF('4d) Berechnungen_Auszahlung'!I7=TRUE,IFERROR('4d) Berechnungen_Auszahlung'!I507,""),"") | J47: =IF('4d) Berechnungen_Auszahlung'!J7=TRUE,IFERROR('4d) Berechnungen_Auszahlung'!J507,""),"") | K47: =IF('4d) Berechnungen_Auszahlung'!K7=TRUE,IFERROR('4d) Berechnungen_Auszahlung'!K507,""),"") | L47: =IF('4d) Berechnungen_Auszahlung'!L7=TRUE,IFERROR('4d) Berechnungen_Auszahlung'!L507,""),"") | ... T47: =IF('4d) Berechnungen_Auszahlung'!T7=TRUE,IFERROR('4d) Berechnungen_Auszahlung'!T507,""),"")
B48: Zu erwartende Auszahlung | C48: EUR/Jahr | D48: =IF(SUM(E48:T48)=0,"",SUM(E48:T48)) | E48: =IF('4d) Berechnungen_Auszahlung'!E7=TRUE,IFERROR('4d) Berechnungen_Auszahlung'!E508,""),"") | F48: =IF('4d) Berechnungen_Auszahlung'!F7=TRUE,IFERROR('4d) Berechnungen_Auszahlung'!F508,""),"") | G48: =IF('4d) Berechnungen_Auszahlung'!G7=TRUE,IFERROR('4d) Berechnungen_Auszahlung'!G508,""),"") | H48: =IF('4d) Berechnungen_Auszahlung'!H7=TRUE,IFERROR('4d) Berechnungen_Auszahlung'!H508,""),"") | I48: =IF('4d) Berechnungen_Auszahlung'!I7=TRUE,IFERROR('4d) Berechnungen_Auszahlung'!I508,""),"") | J48: =IF('4d) Berechnungen_Auszahlung'!J7=TRUE,IFERROR('4d) Berechnungen_Auszahlung'!J508,""),"") | K48: =IF('4d) Berechnungen_Auszahlung'!K7=TRUE,IFERROR('4d) Berechnungen_Auszahlung'!K508,""),"") | L48: =IF('4d) Berechnungen_Auszahlung'!L7=TRUE,IFERROR('4d) Berechnungen_Auszahlung'!L508,""),"") | ... T48: =IF('4d) Berechnungen_Auszahlung'!T7=TRUE,IFERROR('4d) Berechnungen_Auszahlung'!T508,""),"")
B66: Für Grafik
B68: Kategorie | C68: Einheit
B69: Jahr mit Produktion
B70: Jahr | E70: =YEAR('2b) Allg. Inputs'!C7) -> 1900 | F70: =E70+1 -> 1901 | G70: =F70+1 -> 1902 | H70: =G70+1 -> 1903 | I70: =H70+1 -> 1904 | J70: =I70+1 -> 1905 | K70: =J70+1 -> 1906 | L70: =K70+1 -> 1907 | M70: =L70+1 -> 1908 | ... T70: =S70+1 -> 1915
B71: Basis-Vertragspreis | C71: EUR/Jahr | E71: =$D$22 | F71: =$D$22 | G71: =$D$22 | H71: =$D$22 | I71: =$D$22 | J71: =$D$22 | K71: =$D$22 | L71: =$D$22 | ... T71: =$D$22
B72: delta_m | C72: EUR/tCO2 | E72: ='4d) Berechnungen_Auszahlung'!E502/'4d) Berechnungen_Auszahlung'!E501 -> #DIV/0! | F72: ='4d) Berechnungen_Auszahlung'!F502/'4d) Berechnungen_Auszahlung'!F501 -> #DIV/0! | G72: ='4d) Berechnungen_Auszahlung'!G502/'4d) Berechnungen_Auszahlung'!G501 -> #DIV/0! | H72: ='4d) Berechnungen_Auszahlung'!H502/'4d) Berechnungen_Auszahlung'!H501 -> #DIV/0! | I72: ='4d) Berechnungen_Auszahlung'!I502/'4d) Berechnungen_Auszahlung'!I501 -> #DIV/0! | J72: ='4d) Berechnungen_Auszahlung'!J502/'4d) Berechnungen_Auszahlung'!J501 -> #DIV/0! | K72: ='4d) Berechnungen_Auszahlung'!K502/'4d) Berechnungen_Auszahlung'!K501 -> #DIV/0! | L72: ='4d) Berechnungen_Auszahlung'!L502/'4d) Berechnungen_Auszahlung'!L501 -> #DIV/0! | ... T72: ='4d) Berechnungen_Auszahlung'!T502/'4d) Berechnungen_Auszahlung'!T501 -> #DIV/0!
B73: delta_k | C73: EUR/tCO2 | E73: ='4d) Berechnungen_Auszahlung'!E503/'4d) Berechnungen_Auszahlung'!E501 -> #DIV/0! | F73: ='4d) Berechnungen_Auszahlung'!F503/'4d) Berechnungen_Auszahlung'!F501 -> #DIV/0! | G73: ='4d) Berechnungen_Auszahlung'!G503/'4d) Berechnungen_Auszahlung'!G501 -> #DIV/0! | H73: ='4d) Berechnungen_Auszahlung'!H503/'4d) Berechnungen_Auszahlung'!H501 -> #DIV/0! | I73: ='4d) Berechnungen_Auszahlung'!I503/'4d) Berechnungen_Auszahlung'!I501 -> #DIV/0! | J73: ='4d) Berechnungen_Auszahlung'!J503/'4d) Berechnungen_Auszahlung'!J501 -> #DIV/0! | K73: ='4d) Berechnungen_Auszahlung'!K503/'4d) Berechnungen_Auszahlung'!K501 -> #DIV/0! | L73: ='4d) Berechnungen_Auszahlung'!L503/'4d) Berechnungen_Auszahlung'!L501 -> #DIV/0! | ... T73: ='4d) Berechnungen_Auszahlung'!T503/'4d) Berechnungen_Auszahlung'!T501 -> #DIV/0!
B74: Dynamisierter Vertragspreis | C74: EUR/tCO2 | E74: =E71+E72+E73 -> #VALUE! | F74: =F71+F72+F73 -> #VALUE! | G74: =G71+G72+G73 -> #VALUE! | H74: =H71+H72+H73 -> #VALUE! | I74: =I71+I72+I73 -> #VALUE! | J74: =J71+J72+J73 -> #VALUE! | K74: =K71+K72+K73 -> #VALUE! | L74: =L71+L72+L73 -> #VALUE! | ... T74: =T71+T72+T73 -> #VALUE!
B75: Dynamisierter Vertragspreis abzügl. anderweitiger Förderung | C75: EUR/tCO2 | E75: =E74-'4d) Berechnungen_Auszahlung'!E505/'4d) Berechnungen_Auszahlung'!E501 -> #VALUE! | F75: =F74-'4d) Berechnungen_Auszahlung'!F505/'4d) Berechnungen_Auszahlung'!F501 -> #VALUE! | G75: =G74-'4d) Berechnungen_Auszahlung'!G505/'4d) Berechnungen_Auszahlung'!G501 -> #VALUE! | H75: =H74-'4d) Berechnungen_Auszahlung'!H505/'4d) Berechnungen_Auszahlung'!H501 -> #VALUE! | I75: =I74-'4d) Berechnungen_Auszahlung'!I505/'4d) Berechnungen_Auszahlung'!I501 -> #VALUE! | J75: =J74-'4d) Berechnungen_Auszahlung'!J505/'4d) Berechnungen_Auszahlung'!J501 -> #VALUE! | K75: =K74-'4d) Berechnungen_Auszahlung'!K505/'4d) Berechnungen_Auszahlung'!K501 -> #VALUE! | L75: =L74-'4d) Berechnungen_Auszahlung'!L505/'4d) Berechnungen_Auszahlung'!L501 -> #VALUE! | ... T75: =T74-'4d) Berechnungen_Auszahlung'!T505/'4d) Berechnungen_Auszahlung'!T501 -> #VALUE!
B76: Effektiver CO2-Preis | C76: EUR/tCO2 | E76: ='4d) Berechnungen_Auszahlung'!E504 -> 0 | F76: ='4d) Berechnungen_Auszahlung'!F504 -> 0 | G76: ='4d) Berechnungen_Auszahlung'!G504 -> 0 | H76: ='4d) Berechnungen_Auszahlung'!H504 -> 0 | I76: ='4d) Berechnungen_Auszahlung'!I504 -> 0 | J76: ='4d) Berechnungen_Auszahlung'!J504 -> 0 | K76: ='4d) Berechnungen_Auszahlung'!K504 -> 0 | L76: ='4d) Berechnungen_Auszahlung'!L504 -> 0 | ... T76: ='4d) Berechnungen_Auszahlung'!T504 -> 0
B77: Überschusszahlung | C77: EUR/tCO2 | E77: =IF(OR(HLOOKUP(E70,'4d) Berechnungen_Auszahlung'!$E$95:$T$96,2)<=0,HLOOKUP(E70,'4d) Berechnungen_Auszahlung'!$E$499:$T$501,3)<=0),0,MAX(E76-E74,0)) -> #DIV/0! | F77: =IF(OR(HLOOKUP(F70,'4d) Berechnungen_Auszahlung'!$E$95:$T$96,2)<=0,HLOOKUP(F70,'4d) Berechnungen_Auszahlung'!$E$499:$T$501,3)<=0),0,MAX(F76-F74,0)) -> #DIV/0! | G77: =IF(OR(HLOOKUP(G70,'4d) Berechnungen_Auszahlung'!$E$95:$T$96,2)<=0,HLOOKUP(G70,'4d) Berechnungen_Auszahlung'!$E$499:$T$501,3)<=0),0,MAX(G76-G74,0)) -> #DIV/0! | H77: =IF(OR(HLOOKUP(H70,'4d) Berechnungen_Auszahlung'!$E$95:$T$96,2)<=0,HLOOKUP(H70,'4d) Berechnungen_Auszahlung'!$E$499:$T$501,3)<=0),0,MAX(H76-H74,0)) -> #DIV/0! | I77: =IF(OR(HLOOKUP(I70,'4d) Berechnungen_Auszahlung'!$E$95:$T$96,2)<=0,HLOOKUP(I70,'4d) Berechnungen_Auszahlung'!$E$499:$T$501,3)<=0),0,MAX(I76-I74,0)) -> #DIV/0! | J77: =IF(OR(HLOOKUP(J70,'4d) Berechnungen_Auszahlung'!$E$95:$T$96,2)<=0,HLOOKUP(J70,'4d) Berechnungen_Auszahlung'!$E$499:$T$501,3)<=0),0,MAX(J76-J74,0)) -> #DIV/0! | K77: =IF(OR(HLOOKUP(K70,'4d) Berechnungen_Auszahlung'!$E$95:$T$96,2)<=0,HLOOKUP(K70,'4d) Berechnungen_Auszahlung'!$E$499:$T$501,3)<=0),0,MAX(K76-K74,0)) -> #DIV/0! | L77: =IF(OR(HLOOKUP(L70,'4d) Berechnungen_Auszahlung'!$E$95:$T$96,2)<=0,HLOOKUP(L70,'4d) Berechnungen_Auszahlung'!$E$499:$T$501,3)<=0),0,MAX(L76-L74,0)) -> #DIV/0! | ... T77: =IF(OR(HLOOKUP(T70,'4d) Berechnungen_Auszahlung'!$E$95:$T$96,2)<=0,HLOOKUP(T70,'4d) Berechnungen_Auszahlung'!$E$499:$T$501,3)<=0),0,MAX(T76-T74,0)) -> 0
B78: Auszahlung | C78: EUR/tCO2 | E78: =IF(OR(HLOOKUP(E70,'4d) Berechnungen_Auszahlung'!$E$95:$T$96,2)<=0,HLOOKUP(E70,'4d) Berechnungen_Auszahlung'!$E$499:$T$501,3)<=0),0,MAX(E74-E76,0)) -> #DIV/0! | F78: =IF(OR(HLOOKUP(F70,'4d) Berechnungen_Auszahlung'!$E$95:$T$96,2)<=0,HLOOKUP(F70,'4d) Berechnungen_Auszahlung'!$E$499:$T$501,3)<=0),0,MAX(F74-F76,0)) -> #DIV/0! | G78: =IF(OR(HLOOKUP(G70,'4d) Berechnungen_Auszahlung'!$E$95:$T$96,2)<=0,HLOOKUP(G70,'4d) Berechnungen_Auszahlung'!$E$499:$T$501,3)<=0),0,MAX(G74-G76,0)) -> #DIV/0! | H78: =IF(OR(HLOOKUP(H70,'4d) Berechnungen_Auszahlung'!$E$95:$T$96,2)<=0,HLOOKUP(H70,'4d) Berechnungen_Auszahlung'!$E$499:$T$501,3)<=0),0,MAX(H74-H76,0)) -> #DIV/0! | I78: =IF(OR(HLOOKUP(I70,'4d) Berechnungen_Auszahlung'!$E$95:$T$96,2)<=0,HLOOKUP(I70,'4d) Berechnungen_Auszahlung'!$E$499:$T$501,3)<=0),0,MAX(I74-I76,0)) -> #DIV/0! | J78: =IF(OR(HLOOKUP(J70,'4d) Berechnungen_Auszahlung'!$E$95:$T$96,2)<=0,HLOOKUP(J70,'4d) Berechnungen_Auszahlung'!$E$499:$T$501,3)<=0),0,MAX(J74-J76,0)) -> #DIV/0! | K78: =IF(OR(HLOOKUP(K70,'4d) Berechnungen_Auszahlung'!$E$95:$T$96,2)<=0,HLOOKUP(K70,'4d) Berechnungen_Auszahlung'!$E$499:$T$501,3)<=0),0,MAX(K74-K76,0)) -> #DIV/0! | L78: =IF(OR(HLOOKUP(L70,'4d) Berechnungen_Auszahlung'!$E$95:$T$96,2)<=0,HLOOKUP(L70,'4d) Berechnungen_Auszahlung'!$E$499:$T$501,3)<=0),0,MAX(L74-L76,0)) -> #DIV/0! | ... T78: =IF(OR(HLOOKUP(T70,'4d) Berechnungen_Auszahlung'!$E$95:$T$96,2)<=0,HLOOKUP(T70,'4d) Berechnungen_Auszahlung'!$E$499:$T$501,3)<=0),0,MAX(T74-T76,0)) -> 0
B79: Maximale jährliche Fördersumme | C79: EUR/tCO2 | E79: ='4c) Berechnungen_MFS'!E109/'4d) Berechnungen_Auszahlung'!E501 -> #N/A | F79: ='4c) Berechnungen_MFS'!F109/'4d) Berechnungen_Auszahlung'!F501 -> #N/A | G79: ='4c) Berechnungen_MFS'!G109/'4d) Berechnungen_Auszahlung'!G501 -> #N/A | H79: ='4c) Berechnungen_MFS'!H109/'4d) Berechnungen_Auszahlung'!H501 -> #N/A | I79: ='4c) Berechnungen_MFS'!I109/'4d) Berechnungen_Auszahlung'!I501 -> #N/A | J79: ='4c) Berechnungen_MFS'!J109/'4d) Berechnungen_Auszahlung'!J501 -> #N/A | K79: ='4c) Berechnungen_MFS'!K109/'4d) Berechnungen_Auszahlung'!K501 -> #N/A | L79: ='4c) Berechnungen_MFS'!L109/'4d) Berechnungen_Auszahlung'!L501 -> #N/A | ... R79: ='4c) Berechnungen_MFS'!R109/'4d) Berechnungen_Auszahlung'!R501 -> #N/A | S79: =('4c) Berechnungen_MFS'!S109+'4c) Berechnungen_MFS'!T109)/'4d) Berechnungen_Auszahlung'!S501 -> #N/A | T79: =('4c) Berechnungen_MFS'!T109+'4c) Berechnungen_MFS'!U109)/'4d) Berechnungen_Auszahlung'!T501 -> #DIV/0!
E83: =_xlfn.IFNA(HLOOKUP('1) Gesamtübersicht'!E85,'4c) Berechnungen_MFS'!$E$43:$T$44,2,FALSE),FALSE) -> TRUE | F83: =_xlfn.IFNA(HLOOKUP('1) Gesamtübersicht'!F85,'4c) Berechnungen_MFS'!$E$43:$T$44,2,FALSE),FALSE) -> TRUE | G83: =_xlfn.IFNA(HLOOKUP('1) Gesamtübersicht'!G85,'4c) Berechnungen_MFS'!$E$43:$T$44,2,FALSE),FALSE) -> TRUE | H83: =_xlfn.IFNA(HLOOKUP('1) Gesamtübersicht'!H85,'4c) Berechnungen_MFS'!$E$43:$T$44,2,FALSE),FALSE) -> TRUE | I83: =_xlfn.IFNA(HLOOKUP('1) Gesamtübersicht'!I85,'4c) Berechnungen_MFS'!$E$43:$T$44,2,FALSE),FALSE) -> TRUE | J83: =_xlfn.IFNA(HLOOKUP('1) Gesamtübersicht'!J85,'4c) Berechnungen_MFS'!$E$43:$T$44,2,FALSE),FALSE) -> TRUE | K83: =_xlfn.IFNA(HLOOKUP('1) Gesamtübersicht'!K85,'4c) Berechnungen_MFS'!$E$43:$T$44,2,FALSE),FALSE) -> TRUE | L83: =_xlfn.IFNA(HLOOKUP('1) Gesamtübersicht'!L85,'4c) Berechnungen_MFS'!$E$43:$T$44,2,FALSE),FALSE) -> TRUE | ... T83: =_xlfn.IFNA(HLOOKUP('1) Gesamtübersicht'!T85,'4c) Berechnungen_MFS'!$E$43:$T$44,2,FALSE),FALSE) -> FALSE
E84: =IF(OR('2b) Allg. Inputs'!$C$7="",'2d) Planwerte (Anlage)'!$E$17="",'2d) Planwerte (Anlage)'!$E$119="",'2d) Planwerte (Anlage)'!$C$11="- nicht ausgewählt -",AND('2e) Realisierte Werte (Anlage)'!$C$6="Ja",'2e) Realisierte Werte (Anlage)'!$E$17="")),TRUE,IFERROR(IF(OR(HLOOKUP(E70,'4d) Berechnungen_Auszahlung'!$E$95:$T$96,2)<=0,HLOOKUP(E70,'4d) Berechnungen_Auszahlung'!$E$499:$T$501,3)<=0),FALSE,TRUE),FALSE)) -> TRUE | F84: =IF(OR('2b) Allg. Inputs'!$C$7="",'2d) Planwerte (Anlage)'!$E$17="",'2d) Planwerte (Anlage)'!$E$119="",'2d) Planwerte (Anlage)'!$C$11="- nicht ausgewählt -"),TRUE,IFERROR(IF(OR(HLOOKUP(F70,'4d) Berechnungen_Auszahlung'!$E$95:$T$96,2)<=0,HLOOKUP(F70,'4d) Berechnungen_Auszahlung'!$E$499:$T$501,3)<=0),FALSE,TRUE),FALSE)) -> TRUE | G84: =IF(OR('2b) Allg. Inputs'!$C$7="",'2d) Planwerte (Anlage)'!$E$17="",'2d) Planwerte (Anlage)'!$E$119="",'2d) Planwerte (Anlage)'!$C$11="- nicht ausgewählt -"),TRUE,IFERROR(IF(OR(HLOOKUP(G70,'4d) Berechnungen_Auszahlung'!$E$95:$T$96,2)<=0,HLOOKUP(G70,'4d) Berechnungen_Auszahlung'!$E$499:$T$501,3)<=0),FALSE,TRUE),FALSE)) -> TRUE | H84: =IF(OR('2b) Allg. Inputs'!$C$7="",'2d) Planwerte (Anlage)'!$E$17="",'2d) Planwerte (Anlage)'!$E$119="",'2d) Planwerte (Anlage)'!$C$11="- nicht ausgewählt -"),TRUE,IFERROR(IF(OR(HLOOKUP(H70,'4d) Berechnungen_Auszahlung'!$E$95:$T$96,2)<=0,HLOOKUP(H70,'4d) Berechnungen_Auszahlung'!$E$499:$T$501,3)<=0),FALSE,TRUE),FALSE)) -> TRUE | I84: =IF(OR('2b) Allg. Inputs'!$C$7="",'2d) Planwerte (Anlage)'!$E$17="",'2d) Planwerte (Anlage)'!$E$119="",'2d) Planwerte (Anlage)'!$C$11="- nicht ausgewählt -"),TRUE,IFERROR(IF(OR(HLOOKUP(I70,'4d) Berechnungen_Auszahlung'!$E$95:$T$96,2)<=0,HLOOKUP(I70,'4d) Berechnungen_Auszahlung'!$E$499:$T$501,3)<=0),FALSE,TRUE),FALSE)) -> TRUE | J84: =IF(OR('2b) Allg. Inputs'!$C$7="",'2d) Planwerte (Anlage)'!$E$17="",'2d) Planwerte (Anlage)'!$E$119="",'2d) Planwerte (Anlage)'!$C$11="- nicht ausgewählt -"),TRUE,IFERROR(IF(OR(HLOOKUP(J70,'4d) Berechnungen_Auszahlung'!$E$95:$T$96,2)<=0,HLOOKUP(J70,'4d) Berechnungen_Auszahlung'!$E$499:$T$501,3)<=0),FALSE,TRUE),FALSE)) -> TRUE | K84: =IF(OR('2b) Allg. Inputs'!$C$7="",'2d) Planwerte (Anlage)'!$E$17="",'2d) Planwerte (Anlage)'!$E$119="",'2d) Planwerte (Anlage)'!$C$11="- nicht ausgewählt -"),TRUE,IFERROR(IF(OR(HLOOKUP(K70,'4d) Berechnungen_Auszahlung'!$E$95:$T$96,2)<=0,HLOOKUP(K70,'4d) Berechnungen_Auszahlung'!$E$499:$T$501,3)<=0),FALSE,TRUE),FALSE)) -> TRUE | L84: =IF(OR('2b) Allg. Inputs'!$C$7="",'2d) Planwerte (Anlage)'!$E$17="",'2d) Planwerte (Anlage)'!$E$119="",'2d) Planwerte (Anlage)'!$C$11="- nicht ausgewählt -"),TRUE,IFERROR(IF(OR(HLOOKUP(L70,'4d) Berechnungen_Auszahlung'!$E$95:$T$96,2)<=0,HLOOKUP(L70,'4d) Berechnungen_Auszahlung'!$E$499:$T$501,3)<=0),FALSE,TRUE),FALSE)) -> TRUE | M84: =IF(OR('2b) Allg. Inputs'!$C$7="",'2d) Planwerte (Anlage)'!$E$17="",'2d) Planwerte (Anlage)'!$E$119="",'2d) Planwerte (Anlage)'!$C$11="- nicht ausgewählt -"),TRUE,IFERROR(IF(OR(HLOOKUP(M70,'4d) Berechnungen_Auszahlung'!$E$95:$T$96,2)<=0,HLOOKUP(M70,'4d) Berechnungen_Auszahlung'!$E$499:$T$501,3)<=0),FALSE,TRUE),FALSE)) -> TRUE | ... T84: =IF(OR('2b) Allg. Inputs'!$C$7="",'2d) Planwerte (Anlage)'!$E$17="",'2d) Planwerte (Anlage)'!$E$119="",'2d) Planwerte (Anlage)'!$C$11="- nicht ausgewählt -"),TRUE,IFERROR(IF(OR(HLOOKUP(T70,'4d) Berechnungen_Auszahlung'!$E$95:$T$96,2)<=0,HLOOKUP(T70,'4d) Berechnungen_Auszahlung'!$E$499:$T$501,3)<=0),FALSE,TRUE),FALSE)) -> TRUE
E85: =E70 -> 1900 | F85: =F70 -> 1901 | G85: =G70 -> 1902 | H85: =H70 -> 1903 | I85: =I70 -> 1904 | J85: =J70 -> 1905 | K85: =K70 -> 1906 | L85: =L70 -> 1907 | ... T85: =T70 -> 1915
B86: Min A-B | E86: =MIN(E90,E91) -> #VALUE! | F86: =MIN(F90,F91) -> #VALUE! | G86: =MIN(G90,G91) -> #VALUE! | H86: =MIN(H90,H91) -> #VALUE! | I86: =MIN(I90,I91) -> #VALUE! | J86: =MIN(J90,J91) -> #VALUE! | K86: =MIN(K90,K91) -> #VALUE! | L86: =MIN(L90,L91) -> #VALUE! | ... T86: =MIN(T90,T91) -> #VALUE!
B87: Auszahlung | E87: =INDEX($E$71:$T$78,MATCH($B87,$B$71:$B$78,0),MATCH(E$85,$E$70:$T$70,0)) -> #DIV/0! | F87: =INDEX($E$71:$T$78,MATCH($B87,$B$71:$B$78,0),MATCH(F$85,$E$70:$T$70,0)) -> #DIV/0! | G87: =INDEX($E$71:$T$78,MATCH($B87,$B$71:$B$78,0),MATCH(G$85,$E$70:$T$70,0)) -> #DIV/0! | H87: =INDEX($E$71:$T$78,MATCH($B87,$B$71:$B$78,0),MATCH(H$85,$E$70:$T$70,0)) -> #DIV/0! | I87: =INDEX($E$71:$T$78,MATCH($B87,$B$71:$B$78,0),MATCH(I$85,$E$70:$T$70,0)) -> #DIV/0! | J87: =INDEX($E$71:$T$78,MATCH($B87,$B$71:$B$78,0),MATCH(J$85,$E$70:$T$70,0)) -> #DIV/0! | K87: =INDEX($E$71:$T$78,MATCH($B87,$B$71:$B$78,0),MATCH(K$85,$E$70:$T$70,0)) -> #DIV/0! | L87: =INDEX($E$71:$T$78,MATCH($B87,$B$71:$B$78,0),MATCH(L$85,$E$70:$T$70,0)) -> #DIV/0! | ... T87: =INDEX($E$71:$T$78,MATCH($B87,$B$71:$B$78,0),MATCH(T$85,$E$70:$T$70,0)) -> 0
B88: Überschusszahlung | E88: =INDEX($E$71:$T$78,MATCH($B88,$B$71:$B$78,0),MATCH(E$85,$E$70:$T$70,0)) -> #DIV/0! | F88: =INDEX($E$71:$T$78,MATCH($B88,$B$71:$B$78,0),MATCH(F$85,$E$70:$T$70,0)) -> #DIV/0! | G88: =INDEX($E$71:$T$78,MATCH($B88,$B$71:$B$78,0),MATCH(G$85,$E$70:$T$70,0)) -> #DIV/0! | H88: =INDEX($E$71:$T$78,MATCH($B88,$B$71:$B$78,0),MATCH(H$85,$E$70:$T$70,0)) -> #DIV/0! | I88: =INDEX($E$71:$T$78,MATCH($B88,$B$71:$B$78,0),MATCH(I$85,$E$70:$T$70,0)) -> #DIV/0! | J88: =INDEX($E$71:$T$78,MATCH($B88,$B$71:$B$78,0),MATCH(J$85,$E$70:$T$70,0)) -> #DIV/0! | K88: =INDEX($E$71:$T$78,MATCH($B88,$B$71:$B$78,0),MATCH(K$85,$E$70:$T$70,0)) -> #DIV/0! | L88: =INDEX($E$71:$T$78,MATCH($B88,$B$71:$B$78,0),MATCH(L$85,$E$70:$T$70,0)) -> #DIV/0! | ... T88: =INDEX($E$71:$T$78,MATCH($B88,$B$71:$B$78,0),MATCH(T$85,$E$70:$T$70,0)) -> 0
B89: Basis-Vertragspreis | E89: =INDEX($E$71:$T$78,MATCH($B89,$B$71:$B$78,0),MATCH(E$85,$E$70:$T$70,0)) | F89: =INDEX($E$71:$T$78,MATCH($B89,$B$71:$B$78,0),MATCH(F$85,$E$70:$T$70,0)) | G89: =INDEX($E$71:$T$78,MATCH($B89,$B$71:$B$78,0),MATCH(G$85,$E$70:$T$70,0)) | H89: =INDEX($E$71:$T$78,MATCH($B89,$B$71:$B$78,0),MATCH(H$85,$E$70:$T$70,0)) | I89: =INDEX($E$71:$T$78,MATCH($B89,$B$71:$B$78,0),MATCH(I$85,$E$70:$T$70,0)) | J89: =INDEX($E$71:$T$78,MATCH($B89,$B$71:$B$78,0),MATCH(J$85,$E$70:$T$70,0)) | K89: =INDEX($E$71:$T$78,MATCH($B89,$B$71:$B$78,0),MATCH(K$85,$E$70:$T$70,0)) | L89: =INDEX($E$71:$T$78,MATCH($B89,$B$71:$B$78,0),MATCH(L$85,$E$70:$T$70,0)) | ... T89: =INDEX($E$71:$T$78,MATCH($B89,$B$71:$B$78,0),MATCH(T$85,$E$70:$T$70,0))
B90: Dynamisierter Vertragspreis | E90: =INDEX($E$71:$T$78,MATCH($B90,$B$71:$B$78,0),MATCH(E$85,$E$70:$T$70,0)) -> #VALUE! | F90: =INDEX($E$71:$T$78,MATCH($B90,$B$71:$B$78,0),MATCH(F$85,$E$70:$T$70,0)) -> #VALUE! | G90: =INDEX($E$71:$T$78,MATCH($B90,$B$71:$B$78,0),MATCH(G$85,$E$70:$T$70,0)) -> #VALUE! | H90: =INDEX($E$71:$T$78,MATCH($B90,$B$71:$B$78,0),MATCH(H$85,$E$70:$T$70,0)) -> #VALUE! | I90: =INDEX($E$71:$T$78,MATCH($B90,$B$71:$B$78,0),MATCH(I$85,$E$70:$T$70,0)) -> #VALUE! | J90: =INDEX($E$71:$T$78,MATCH($B90,$B$71:$B$78,0),MATCH(J$85,$E$70:$T$70,0)) -> #VALUE! | K90: =INDEX($E$71:$T$78,MATCH($B90,$B$71:$B$78,0),MATCH(K$85,$E$70:$T$70,0)) -> #VALUE! | L90: =INDEX($E$71:$T$78,MATCH($B90,$B$71:$B$78,0),MATCH(L$85,$E$70:$T$70,0)) -> #VALUE! | ... T90: =INDEX($E$71:$T$78,MATCH($B90,$B$71:$B$78,0),MATCH(T$85,$E$70:$T$70,0)) -> #VALUE!
B91: Effektiver CO2-Preis | E91: =INDEX($E$71:$T$78,MATCH($B91,$B$71:$B$78,0),MATCH(E$85,$E$70:$T$70,0)) -> 0 | F91: =INDEX($E$71:$T$78,MATCH($B91,$B$71:$B$78,0),MATCH(F$85,$E$70:$T$70,0)) -> 0 | G91: =INDEX($E$71:$T$78,MATCH($B91,$B$71:$B$78,0),MATCH(G$85,$E$70:$T$70,0)) -> 0 | H91: =INDEX($E$71:$T$78,MATCH($B91,$B$71:$B$78,0),MATCH(H$85,$E$70:$T$70,0)) -> 0 | I91: =INDEX($E$71:$T$78,MATCH($B91,$B$71:$B$78,0),MATCH(I$85,$E$70:$T$70,0)) -> 0 | J91: =INDEX($E$71:$T$78,MATCH($B91,$B$71:$B$78,0),MATCH(J$85,$E$70:$T$70,0)) -> 0 | K91: =INDEX($E$71:$T$78,MATCH($B91,$B$71:$B$78,0),MATCH(K$85,$E$70:$T$70,0)) -> 0 | L91: =INDEX($E$71:$T$78,MATCH($B91,$B$71:$B$78,0),MATCH(L$85,$E$70:$T$70,0)) -> 0 | ... T91: =INDEX($E$71:$T$78,MATCH($B91,$B$71:$B$78,0),MATCH(T$85,$E$70:$T$70,0)) -> 0
B92: Dynamisierter Vertragspreis abzügl. anderweitiger Förderung | E92: =INDEX($E$71:$T$78,MATCH($B92,$B$71:$B$78,0),MATCH(E$85,$E$70:$T$70,0)) -> #VALUE! | F92: =INDEX($E$71:$T$78,MATCH($B92,$B$71:$B$78,0),MATCH(F$85,$E$70:$T$70,0)) -> #VALUE! | G92: =INDEX($E$71:$T$78,MATCH($B92,$B$71:$B$78,0),MATCH(G$85,$E$70:$T$70,0)) -> #VALUE! | H92: =INDEX($E$71:$T$78,MATCH($B92,$B$71:$B$78,0),MATCH(H$85,$E$70:$T$70,0)) -> #VALUE! | I92: =INDEX($E$71:$T$78,MATCH($B92,$B$71:$B$78,0),MATCH(I$85,$E$70:$T$70,0)) -> #VALUE! | J92: =INDEX($E$71:$T$78,MATCH($B92,$B$71:$B$78,0),MATCH(J$85,$E$70:$T$70,0)) -> #VALUE! | K92: =INDEX($E$71:$T$78,MATCH($B92,$B$71:$B$78,0),MATCH(K$85,$E$70:$T$70,0)) -> #VALUE! | L92: =INDEX($E$71:$T$78,MATCH($B92,$B$71:$B$78,0),MATCH(L$85,$E$70:$T$70,0)) -> #VALUE! | ... T92: =INDEX($E$71:$T$78,MATCH($B92,$B$71:$B$78,0),MATCH(T$85,$E$70:$T$70,0)) -> #VALUE!
B93: Maximale jährliche Fördersumme | E93: =INDEX($E$71:$T$79,MATCH($B93,$B$71:$B$79,0),MATCH(E$85,$E$70:$T$70,0)) -> #N/A | F93: =INDEX($E$71:$T$79,MATCH($B93,$B$71:$B$79,0),MATCH(F$85,$E$70:$T$70,0)) -> #N/A | G93: =INDEX($E$71:$T$79,MATCH($B93,$B$71:$B$79,0),MATCH(G$85,$E$70:$T$70,0)) -> #N/A | H93: =INDEX($E$71:$T$79,MATCH($B93,$B$71:$B$79,0),MATCH(H$85,$E$70:$T$70,0)) -> #N/A | I93: =INDEX($E$71:$T$79,MATCH($B93,$B$71:$B$79,0),MATCH(I$85,$E$70:$T$70,0)) -> #N/A | J93: =INDEX($E$71:$T$79,MATCH($B93,$B$71:$B$79,0),MATCH(J$85,$E$70:$T$70,0)) -> #N/A | K93: =INDEX($E$71:$T$79,MATCH($B93,$B$71:$B$79,0),MATCH(K$85,$E$70:$T$70,0)) -> #N/A | L93: =INDEX($E$71:$T$79,MATCH($B93,$B$71:$B$79,0),MATCH(L$85,$E$70:$T$70,0)) -> #N/A | ... T93: =INDEX($E$71:$T$79,MATCH($B93,$B$71:$B$79,0),MATCH(T$85,$E$70:$T$70,0)) -> #DIV/0!
E98: Helper Start DV | F98: Helper Länge
E99: =_xlfn.IFNA( "'" & "1) Gesamtübersicht'!" & ADDRESS(90, MATCH(TRUE, '1) Gesamtübersicht'!E84:S84, 0)+4, 4), "'1) Gesamtübersicht'!E90" ) -> '1) Gesamtübersicht'!E90 | F99: =IF('1) Gesamtübersicht'!$T$83,IF('1) Gesamtübersicht'!$E$84,16,IF('1) Gesamtübersicht'!$F$84,15,IF('1) Gesamtübersicht'!$G$84,14,IF('1) Gesamtübersicht'!$H$84,13,IF('1) Gesamtübersicht'!$I$84,12,IF('1) Gesamtübersicht'!$J$84,11,IF('1) Gesamtübersicht'!$K$84,10,IF('1) Gesamtübersicht'!$L$84,9,IF('1) Gesamtübersicht'!$M$84,8,IF('1) Gesamtübersicht'!$N$84,7,IF('1) Gesamtübersicht'!$O$84,6,IF('1) Gesamtübersicht'!$P$84,5,IF('1) Gesamtübersicht'!$Q$84,4,IF('1) Gesamtübersicht'!$R$84,3,IF('1) Gesamtübersicht'!$S$84,2,1))))))))))))))),IF('1) Gesamtübersicht'!$E$84,15,IF('1) Gesamtübersicht'!$F$84,14,IF('1) Gesamtübersicht'!$G$84,13,IF('1) Gesamtübersicht'!$H$84,12,IF('1) Gesamtübersicht'!$I$84,11,IF('1) Gesamtübersicht'!$J$84,10,IF('1) Gesamtübersicht'!$K$84,9,IF('1) Gesamtübersicht'!$L$84,8,IF('1) Gesamtübersicht'!$M$84,7,IF('1) Gesamtübersicht'!$N$84,6,IF('1) Gesamtübersicht'!$O$84,5,IF('1) Gesamtübersicht'!$P$84,4,IF('1) Gesamtübersicht'!$Q$84,3,IF('1) Gesamtübersicht'!$R$84,2,IF('1) Gesamtübersicht'!$S$84,1,15)))))))))))))))) -> 15
E101: Helpercolumn start Year
E102: =_xlfn.IFNA( "'" & "1) Gesamtübersicht'!" & ADDRESS(85, MATCH(TRUE, '1) Gesamtübersicht'!E84:S84, 0)+4, 4), "'1) Gesamtübersicht'!E90" ) -> '1) Gesamtübersicht'!E85
E104: Helpercolumn start Auszahlung
E105: =_xlfn.IFNA( "'" & "1) Gesamtübersicht'!" & ADDRESS(87, MATCH(TRUE, '1) Gesamtübersicht'!E84:S84, 0)+4, 4), "'1) Gesamtübersicht'!E90" ) -> '1) Gesamtübersicht'!E87
E107: Helpercolumn Start Überschusszahlung
E108: =_xlfn.IFNA( "'" & "1) Gesamtübersicht'!" & ADDRESS(88, MATCH(TRUE, '1) Gesamtübersicht'!E84:S84, 0)+4, 4), "'1) Gesamtübersicht'!E90" ) -> '1) Gesamtübersicht'!E88
E110: Helpercolumn Start BV
E111: =_xlfn.IFNA( "'" & "1) Gesamtübersicht'!" & ADDRESS(89, MATCH(TRUE, '1) Gesamtübersicht'!E84:S84, 0)+4, 4), "'1) Gesamtübersicht'!E90" ) -> '1) Gesamtübersicht'!E89
E113: Helpercolumn Start CO2-Preis
E114: =_xlfn.IFNA( "'" & "1) Gesamtübersicht'!" & ADDRESS(91, MATCH(TRUE, '1) Gesamtübersicht'!E84:S84, 0)+4, 4), "'1) Gesamtübersicht'!E90" ) -> '1) Gesamtübersicht'!E91
E116: Helpercolumn Start AB
E117: =_xlfn.IFNA( "'" & "1) Gesamtübersicht'!" & ADDRESS(86, MATCH(TRUE, '1) Gesamtübersicht'!E84:S84, 0)+4, 4), "'1) Gesamtübersicht'!E90" ) -> '1) Gesamtübersicht'!E86

Sheet INPUTS >>

Sheet 2a) Preisannahmen
B1: Preisannahmen
B2: In diesem Tabellenblatt sind Annahmen zu den indexierten Preisen einzugeben. Diese indexierten Preise werden den Berechnungen der zu erwartenden, jährlichen Auszahlungsbeträge zugrundegelegt. Es können Annahmen für drei verschiedene Preisszenarien eingegeben und das jeweilige Szenario in Tabellenblatt 2b) ausgewählt werden.
B3: Szenario 1 | C3: Einheit | D3: 2025 | E3: 2026 | F3: 2027 | G3: 2028 | H3: 2029 | I3: 2030 | J3: 2031 | K3: 2032 | L3: 2033 | M3: 2034 | N3: 2035 | O3: 2036 | P3: 2037 | Q3: 2038 | R3: 2039 | S3: 2040 | T3: 2041 | U3: 2042 | V3: 2043 | W3: 2044 | X3: 2045 | Y3: 2046 | Z3: 2047 | AA3: 2048 | AB3: 2049 | AC3: 2050
B4: Strom | C4: EUR/MWh
B5: Grüner Wasserstoff | C5: EUR/MWh
B6: CO2-armer Wasserstoff | C6: EUR/MWh
B7: Erdgas | C7: EUR/MWh
B8: Kokskohle | C8: EUR/MWh
B9: Kesselkohle | C9: EUR/MWh
B10: CO2-Preis im EU-ETS | C10: EUR/t CO2-Äq.
B12: Szenario 2 | C12: Einheit | D12: 2025 | E12: 2026 | F12: 2027 | G12: 2028 | H12: 2029 | I12: 2030 | J12: 2031 | K12: 2032 | L12: 2033 | M12: 2034 | N12: 2035 | O12: 2036 | P12: 2037 | Q12: 2038 | R12: 2039 | S12: 2040 | T12: 2041 | U12: 2042 | V12: 2043 | W12: 2044 | X12: 2045 | Y12: 2046 | Z12: 2047 | AA12: 2048 | AB12: 2049 | AC12: 2050
B13: Strom | C13: EUR/MWh
B14: Grüner Wasserstoff | C14: EUR/MWh
B15: CO2-armer Wasserstoff | C15: EUR/MWh
B16: Erdgas | C16: EUR/MWh
B17: Kokskohle | C17: EUR/MWh
B18: Kesselkohle | C18: EUR/MWh
B19: CO2-Preis im EU-ETS | C19: EUR/t CO2-Äq.
B21: Szenario 3 | C21: Einheit | D21: 2025 | E21: 2026 | F21: 2027 | G21: 2028 | H21: 2029 | I21: 2030 | J21: 2031 | K21: 2032 | L21: 2033 | M21: 2034 | N21: 2035 | O21: 2036 | P21: 2037 | Q21: 2038 | R21: 2039 | S21: 2040 | T21: 2041 | U21: 2042 | V21: 2043 | W21: 2044 | X21: 2045 | Y21: 2046 | Z21: 2047 | AA21: 2048 | AB21: 2049 | AC21: 2050
B22: Strom | C22: EUR/MWh
B23: Grüner Wasserstoff | C23: EUR/MWh
B24: CO2-armer Wasserstoff | C24: EUR/MWh
B25: Erdgas | C25: EUR/MWh
B26: Kokskohle | C26: EUR/MWh
B27: Kesselkohle | C27: EUR/MWh
B28: CO2-Preis im EU-ETS | C28: EUR/t CO2-Äq.
B30: Namen der Szenarien:
B31: =B3 -> Szenario 1
B32: =B12 -> Szenario 2
B33: =B21 -> Szenario 3

Sheet 2b) Allg. Inputs
B2: Allgemeine Angaben
B3: In diesem Tabellenblatt sind die allgemeinen Informationen des Vorhabens, einschließlich bewilligter anderweitiger Förderung anzugeben. Zudem wird das anzuwendende Preisszenario ausgewählt (indexierte Preise, die für die Berechnung der Auszahlung zugrundegelegt werden).
B5: Modellstart | C5: 2024
B6: Bestandskraft Zuwendungsbescheid (TT/MM/JJJJ)
B7: Operativer Beginn (TT/MM/JJJJ)
B8: Abweichung von dem im quantitativen Abfragedokument angegebenen operativen Beginn | C8: Nein
B9: Basis-Vertragspreis (EUR/t CO2-Äq.)
B11: Anderweitige Förderung
C12: Welche Fördermittel (EUR) fließen oder sind bereits in welchem Jahr geflossen?
C13: Kommentar | D13: Einheit | E13: =C5 -> 2024 | F13: =E13+1 -> 2025 | G13: =F13+1 -> 2026 | H13: =G13+1 -> 2027 | I13: =H13+1 -> 2028 | J13: =I13+1 -> 2029 | K13: =J13+1 -> 2030 | L13: =K13+1 -> 2031 | M13: =L13+1 -> 2032 | ... T13: =S13+1 -> 2039 | U13: =IF(T13>=IF('4c) Berechnungen_MFS'!$E$114="Nein",YEAR($C$7)+14,YEAR($C$7)+15),"",T13+1) | V13: =IF(U13>=IF('4c) Berechnungen_MFS'!$E$114="Nein",YEAR($C$7)+14,YEAR($C$7)+15),"",U13+1) | W13: =IF(V13>=IF('4c) Berechnungen_MFS'!$E$114="Nein",YEAR($C$7)+14,YEAR($C$7)+15),"",V13+1) | X13: =IF(W13>=IF('4c) Berechnungen_MFS'!$E$114="Nein",YEAR($C$7)+14,YEAR($C$7)+15),"",W13+1) | Y13: =IF(X13>=IF('4c) Berechnungen_MFS'!$E$114="Nein",YEAR($C$7)+14,YEAR($C$7)+15),"",X13+1) | Z13: =IF(Y13>=IF('4c) Berechnungen_MFS'!$E$114="Nein",YEAR($C$7)+14,YEAR($C$7)+15),"",Y13+1) | AA13: =IF(Z13>=IF('4c) Berechnungen_MFS'!$E$114="Nein",YEAR($C$7)+14,YEAR($C$7)+15),"",Z13+1) | AB13: =IF(AA13>=IF('4c) Berechnungen_MFS'!$E$114="Nein",YEAR($C$7)+14,YEAR($C$7)+15),"",AA13+1) | ... AE13: =IF(AD13>=IF('4c) Berechnungen_MFS'!$E$114="Nein",YEAR($C$7)+14,YEAR($C$7)+15),"",AD13+1)
B14: Anderweitige Förderung, die nach der Antragsstellung bewilligt oder erhöht wurde | D14: EUR
B16: Angaben zum Wasserstoffbezug
B17: Wird der Wasserstoff durch eine Elektrolyseanlage eines verbundenen Unternehmen bezogen? | C17: Nein | F17: =IF(C17="Ja","Bitte füllen Sie zusätzlich Tabellenblatt 2c) zu Elektrolyseurförderung aus.","Bitte füllen Sie Tabellenblatt 2c) nicht aus.") -> Bitte füllen Sie Tabellenblatt 2c) nicht aus.
B19: Kostenlose Zuteilungen
C20: Welche Höhe kostenloser Zuteilungen im Vorhaben sowie im Referenzsystem wird angenommen?
C21: Kommentar | D21: Einheit | E21: =YEAR('2b) Allg. Inputs'!$C$7) -> 1900 | F21: =E21+1 -> 1901 | G21: =F21+1 -> 1902 | H21: =G21+1 -> 1903 | I21: =H21+1 -> 1904 | J21: =I21+1 -> 1905 | K21: =J21+1 -> 1906 | L21: =K21+1 -> 1907 | M21: =L21+1 -> 1908 | ... S21: =R21+1 -> 1914 | T21: =IF('4c) Berechnungen_MFS'!E114="Nein","",S21+1)
B22: Kostenlose Zuteilungen Referenzsystem | D22: t CO2-Äq./ME Produkt
B23: Kostenlose Zuteilungen Vorhaben | D23: t CO2-Äq./ME Produkt
B25: Preisannahmen
B26: Welche indexierten Preise werden angenommen? | C26: Szenario 1
C27: Kommentar | D27: Einheit | E27: =YEAR('2b) Allg. Inputs'!$C$7) -> 1900 | F27: =E27+1 -> 1901 | G27: =F27+1 -> 1902 | H27: =G27+1 -> 1903 | I27: =H27+1 -> 1904 | J27: =I27+1 -> 1905 | K27: =J27+1 -> 1906 | L27: =K27+1 -> 1907 | M27: =L27+1 -> 1908 | ... S27: =R27+1 -> 1914 | T27: =IF('4c) Berechnungen_MFS'!E114="Nein","",S27+1)
B28: Strom | D28: EUR/MWh | E28: =_xlfn.IFNA(IF($C$26="Szenario 1",INDEX('2a) Preisannahmen'!$D$4:$AC$10,MATCH('2b) Allg. Inputs'!$B28,'2a) Preisannahmen'!$B$4:$B$10,FALSE),MATCH('2b) Allg. Inputs'!E$27,'2a) Preisannahmen'!$D$3:$AC$3,FALSE)),IF($C$26="Szenario 2",INDEX('2a) Preisannahmen'!$D$13:$AC$19,MATCH('2b) Allg. Inputs'!$B28,'2a) Preisannahmen'!$B$13:$B$19,FALSE),MATCH('2b) Allg. Inputs'!E$27,'2a) Preisannahmen'!$D$12:$AC$12,FALSE)),IF($C$26="Szenario 3",INDEX('2a) Preisannahmen'!$D$22:$AC$28,MATCH('2b) Allg. Inputs'!$B28,'2a) Preisannahmen'!$B$22:$B$28,FALSE),MATCH('2b) Allg. Inputs'!E$27,'2a) Preisannahmen'!$D$21:$AC$21,FALSE)),""))),"") | F28: =_xlfn.IFNA(IF($C$26="Szenario 1",INDEX('2a) Preisannahmen'!$D$4:$AC$10,MATCH('2b) Allg. Inputs'!$B28,'2a) Preisannahmen'!$B$4:$B$10,FALSE),MATCH('2b) Allg. Inputs'!F$27,'2a) Preisannahmen'!$D$3:$AC$3,FALSE)),IF($C$26="Szenario 2",INDEX('2a) Preisannahmen'!$D$13:$AC$19,MATCH('2b) Allg. Inputs'!$B28,'2a) Preisannahmen'!$B$13:$B$19,FALSE),MATCH('2b) Allg. Inputs'!F$27,'2a) Preisannahmen'!$D$12:$AC$12,FALSE)),IF($C$26="Szenario 3",INDEX('2a) Preisannahmen'!$D$22:$AC$28,MATCH('2b) Allg. Inputs'!$B28,'2a) Preisannahmen'!$B$22:$B$28,FALSE),MATCH('2b) Allg. Inputs'!F$27,'2a) Preisannahmen'!$D$21:$AC$21,FALSE)),""))),"") | G28: =_xlfn.IFNA(IF($C$26="Szenario 1",INDEX('2a) Preisannahmen'!$D$4:$AC$10,MATCH('2b) Allg. Inputs'!$B28,'2a) Preisannahmen'!$B$4:$B$10,FALSE),MATCH('2b) Allg. Inputs'!G$27,'2a) Preisannahmen'!$D$3:$AC$3,FALSE)),IF($C$26="Szenario 2",INDEX('2a) Preisannahmen'!$D$13:$AC$19,MATCH('2b) Allg. Inputs'!$B28,'2a) Preisannahmen'!$B$13:$B$19,FALSE),MATCH('2b) Allg. Inputs'!G$27,'2a) Preisannahmen'!$D$12:$AC$12,FALSE)),IF($C$26="Szenario 3",INDEX('2a) Preisannahmen'!$D$22:$AC$28,MATCH('2b) Allg. Inputs'!$B28,'2a) Preisannahmen'!$B$22:$B$28,FALSE),MATCH('2b) Allg. Inputs'!G$27,'2a) Preisannahmen'!$D$21:$AC$21,FALSE)),""))),"") | H28: =_xlfn.IFNA(IF($C$26="Szenario 1",INDEX('2a) Preisannahmen'!$D$4:$AC$10,MATCH('2b) Allg. Inputs'!$B28,'2a) Preisannahmen'!$B$4:$B$10,FALSE),MATCH('2b) Allg. Inputs'!H$27,'2a) Preisannahmen'!$D$3:$AC$3,FALSE)),IF($C$26="Szenario 2",INDEX('2a) Preisannahmen'!$D$13:$AC$19,MATCH('2b) Allg. Inputs'!$B28,'2a) Preisannahmen'!$B$13:$B$19,FALSE),MATCH('2b) Allg. Inputs'!H$27,'2a) Preisannahmen'!$D$12:$AC$12,FALSE)),IF($C$26="Szenario 3",INDEX('2a) Preisannahmen'!$D$22:$AC$28,MATCH('2b) Allg. Inputs'!$B28,'2a) Preisannahmen'!$B$22:$B$28,FALSE),MATCH('2b) Allg. Inputs'!H$27,'2a) Preisannahmen'!$D$21:$AC$21,FALSE)),""))),"") | I28: =_xlfn.IFNA(IF($C$26="Szenario 1",INDEX('2a) Preisannahmen'!$D$4:$AC$10,MATCH('2b) Allg. Inputs'!$B28,'2a) Preisannahmen'!$B$4:$B$10,FALSE),MATCH('2b) Allg. Inputs'!I$27,'2a) Preisannahmen'!$D$3:$AC$3,FALSE)),IF($C$26="Szenario 2",INDEX('2a) Preisannahmen'!$D$13:$AC$19,MATCH('2b) Allg. Inputs'!$B28,'2a) Preisannahmen'!$B$13:$B$19,FALSE),MATCH('2b) Allg. Inputs'!I$27,'2a) Preisannahmen'!$D$12:$AC$12,FALSE)),IF($C$26="Szenario 3",INDEX('2a) Preisannahmen'!$D$22:$AC$28,MATCH('2b) Allg. Inputs'!$B28,'2a) Preisannahmen'!$B$22:$B$28,FALSE),MATCH('2b) Allg. Inputs'!I$27,'2a) Preisannahmen'!$D$21:$AC$21,FALSE)),""))),"") | J28: =_xlfn.IFNA(IF($C$26="Szenario 1",INDEX('2a) Preisannahmen'!$D$4:$AC$10,MATCH('2b) Allg. Inputs'!$B28,'2a) Preisannahmen'!$B$4:$B$10,FALSE),MATCH('2b) Allg. Inputs'!J$27,'2a) Preisannahmen'!$D$3:$AC$3,FALSE)),IF($C$26="Szenario 2",INDEX('2a) Preisannahmen'!$D$13:$AC$19,MATCH('2b) Allg. Inputs'!$B28,'2a) Preisannahmen'!$B$13:$B$19,FALSE),MATCH('2b) Allg. Inputs'!J$27,'2a) Preisannahmen'!$D$12:$AC$12,FALSE)),IF($C$26="Szenario 3",INDEX('2a) Preisannahmen'!$D$22:$AC$28,MATCH('2b) Allg. Inputs'!$B28,'2a) Preisannahmen'!$B$22:$B$28,FALSE),MATCH('2b) Allg. Inputs'!J$27,'2a) Preisannahmen'!$D$21:$AC$21,FALSE)),""))),"") | K28: =_xlfn.IFNA(IF($C$26="Szenario 1",INDEX('2a) Preisannahmen'!$D$4:$AC$10,MATCH('2b) Allg. Inputs'!$B28,'2a) Preisannahmen'!$B$4:$B$10,FALSE),MATCH('2b) Allg. Inputs'!K$27,'2a) Preisannahmen'!$D$3:$AC$3,FALSE)),IF($C$26="Szenario 2",INDEX('2a) Preisannahmen'!$D$13:$AC$19,MATCH('2b) Allg. Inputs'!$B28,'2a) Preisannahmen'!$B$13:$B$19,FALSE),MATCH('2b) Allg. Inputs'!K$27,'2a) Preisannahmen'!$D$12:$AC$12,FALSE)),IF($C$26="Szenario 3",INDEX('2a) Preisannahmen'!$D$22:$AC$28,MATCH('2b) Allg. Inputs'!$B28,'2a) Preisannahmen'!$B$22:$B$28,FALSE),MATCH('2b) Allg. Inputs'!K$27,'2a) Preisannahmen'!$D$21:$AC$21,FALSE)),""))),"") | L28: =_xlfn.IFNA(IF($C$26="Szenario 1",INDEX('2a) Preisannahmen'!$D$4:$AC$10,MATCH('2b) Allg. Inputs'!$B28,'2a) Preisannahmen'!$B$4:$B$10,FALSE),MATCH('2b) Allg. Inputs'!L$27,'2a) Preisannahmen'!$D$3:$AC$3,FALSE)),IF($C$26="Szenario 2",INDEX('2a) Preisannahmen'!$D$13:$AC$19,MATCH('2b) Allg. Inputs'!$B28,'2a) Preisannahmen'!$B$13:$B$19,FALSE),MATCH('2b) Allg. Inputs'!L$27,'2a) Preisannahmen'!$D$12:$AC$12,FALSE)),IF($C$26="Szenario 3",INDEX('2a) Preisannahmen'!$D$22:$AC$28,MATCH('2b) Allg. Inputs'!$B28,'2a) Preisannahmen'!$B$22:$B$28,FALSE),MATCH('2b) Allg. Inputs'!L$27,'2a) Preisannahmen'!$D$21:$AC$21,FALSE)),""))),"") | ... T28: =_xlfn.IFNA(IF($C$26="Szenario 1",INDEX('2a) Preisannahmen'!$D$4:$AC$10,MATCH('2b) Allg. Inputs'!$B28,'2a) Preisannahmen'!$B$4:$B$10,FALSE),MATCH('2b) Allg. Inputs'!T$27,'2a) Preisannahmen'!$D$3:$AC$3,FALSE)),IF($C$26="Szenario 2",INDEX('2a) Preisannahmen'!$D$13:$AC$19,MATCH('2b) Allg. Inputs'!$B28,'2a) Preisannahmen'!$B$13:$B$19,FALSE),MATCH('2b) Allg. Inputs'!T$27,'2a) Preisannahmen'!$D$12:$AC$12,FALSE)),IF($C$26="Szenario 3",INDEX('2a) Preisannahmen'!$D$22:$AC$28,MATCH('2b) Allg. Inputs'!$B28,'2a) Preisannahmen'!$B$22:$B$28,FALSE),MATCH('2b) Allg. Inputs'!T$27,'2a) Preisannahmen'!$D$21:$AC$21,FALSE)),""))),"")
B29: Grüner Wasserstoff | C29: mit Berücksichtigung eines 3% Bonus | D29: EUR/MWh | E29: =_xlfn.IFNA(IF($C$26="Szenario 1",INDEX('2a) Preisannahmen'!$D$4:$AC$10,MATCH('2b) Allg. Inputs'!$B29,'2a) Preisannahmen'!$B$4:$B$10,FALSE),MATCH('2b) Allg. Inputs'!E$27,'2a) Preisannahmen'!$D$3:$AC$3,FALSE)),IF($C$26="Szenario 2",INDEX('2a) Preisannahmen'!$D$13:$AC$19,MATCH('2b) Allg. Inputs'!$B29,'2a) Preisannahmen'!$B$13:$B$19,FALSE),MATCH('2b) Allg. Inputs'!E$27,'2a) Preisannahmen'!$D$12:$AC$12,FALSE)),IF($C$26="Szenario 3",INDEX('2a) Preisannahmen'!$D$22:$AC$28,MATCH('2b) Allg. Inputs'!$B29,'2a) Preisannahmen'!$B$22:$B$28,FALSE),MATCH('2b) Allg. Inputs'!E$27,'2a) Preisannahmen'!$D$21:$AC$21,FALSE)),"")))*1.03,"") | F29: =_xlfn.IFNA(IF($C$26="Szenario 1",INDEX('2a) Preisannahmen'!$D$4:$AC$10,MATCH('2b) Allg. Inputs'!$B29,'2a) Preisannahmen'!$B$4:$B$10,FALSE),MATCH('2b) Allg. Inputs'!F$27,'2a) Preisannahmen'!$D$3:$AC$3,FALSE)),IF($C$26="Szenario 2",INDEX('2a) Preisannahmen'!$D$13:$AC$19,MATCH('2b) Allg. Inputs'!$B29,'2a) Preisannahmen'!$B$13:$B$19,FALSE),MATCH('2b) Allg. Inputs'!F$27,'2a) Preisannahmen'!$D$12:$AC$12,FALSE)),IF($C$26="Szenario 3",INDEX('2a) Preisannahmen'!$D$22:$AC$28,MATCH('2b) Allg. Inputs'!$B29,'2a) Preisannahmen'!$B$22:$B$28,FALSE),MATCH('2b) Allg. Inputs'!F$27,'2a) Preisannahmen'!$D$21:$AC$21,FALSE)),"")))*1.03,"") | G29: =_xlfn.IFNA(IF($C$26="Szenario 1",INDEX('2a) Preisannahmen'!$D$4:$AC$10,MATCH('2b) Allg. Inputs'!$B29,'2a) Preisannahmen'!$B$4:$B$10,FALSE),MATCH('2b) Allg. Inputs'!G$27,'2a) Preisannahmen'!$D$3:$AC$3,FALSE)),IF($C$26="Szenario 2",INDEX('2a) Preisannahmen'!$D$13:$AC$19,MATCH('2b) Allg. Inputs'!$B29,'2a) Preisannahmen'!$B$13:$B$19,FALSE),MATCH('2b) Allg. Inputs'!G$27,'2a) Preisannahmen'!$D$12:$AC$12,FALSE)),IF($C$26="Szenario 3",INDEX('2a) Preisannahmen'!$D$22:$AC$28,MATCH('2b) Allg. Inputs'!$B29,'2a) Preisannahmen'!$B$22:$B$28,FALSE),MATCH('2b) Allg. Inputs'!G$27,'2a) Preisannahmen'!$D$21:$AC$21,FALSE)),"")))*1.03,"") | H29: =_xlfn.IFNA(IF($C$26="Szenario 1",INDEX('2a) Preisannahmen'!$D$4:$AC$10,MATCH('2b) Allg. Inputs'!$B29,'2a) Preisannahmen'!$B$4:$B$10,FALSE),MATCH('2b) Allg. Inputs'!H$27,'2a) Preisannahmen'!$D$3:$AC$3,FALSE)),IF($C$26="Szenario 2",INDEX('2a) Preisannahmen'!$D$13:$AC$19,MATCH('2b) Allg. Inputs'!$B29,'2a) Preisannahmen'!$B$13:$B$19,FALSE),MATCH('2b) Allg. Inputs'!H$27,'2a) Preisannahmen'!$D$12:$AC$12,FALSE)),IF($C$26="Szenario 3",INDEX('2a) Preisannahmen'!$D$22:$AC$28,MATCH('2b) Allg. Inputs'!$B29,'2a) Preisannahmen'!$B$22:$B$28,FALSE),MATCH('2b) Allg. Inputs'!H$27,'2a) Preisannahmen'!$D$21:$AC$21,FALSE)),"")))*1.03,"") | I29: =_xlfn.IFNA(IF($C$26="Szenario 1",INDEX('2a) Preisannahmen'!$D$4:$AC$10,MATCH('2b) Allg. Inputs'!$B29,'2a) Preisannahmen'!$B$4:$B$10,FALSE),MATCH('2b) Allg. Inputs'!I$27,'2a) Preisannahmen'!$D$3:$AC$3,FALSE)),IF($C$26="Szenario 2",INDEX('2a) Preisannahmen'!$D$13:$AC$19,MATCH('2b) Allg. Inputs'!$B29,'2a) Preisannahmen'!$B$13:$B$19,FALSE),MATCH('2b) Allg. Inputs'!I$27,'2a) Preisannahmen'!$D$12:$AC$12,FALSE)),IF($C$26="Szenario 3",INDEX('2a) Preisannahmen'!$D$22:$AC$28,MATCH('2b) Allg. Inputs'!$B29,'2a) Preisannahmen'!$B$22:$B$28,FALSE),MATCH('2b) Allg. Inputs'!I$27,'2a) Preisannahmen'!$D$21:$AC$21,FALSE)),"")))*1.03,"") | J29: =_xlfn.IFNA(IF($C$26="Szenario 1",INDEX('2a) Preisannahmen'!$D$4:$AC$10,MATCH('2b) Allg. Inputs'!$B29,'2a) Preisannahmen'!$B$4:$B$10,FALSE),MATCH('2b) Allg. Inputs'!J$27,'2a) Preisannahmen'!$D$3:$AC$3,FALSE)),IF($C$26="Szenario 2",INDEX('2a) Preisannahmen'!$D$13:$AC$19,MATCH('2b) Allg. Inputs'!$B29,'2a) Preisannahmen'!$B$13:$B$19,FALSE),MATCH('2b) Allg. Inputs'!J$27,'2a) Preisannahmen'!$D$12:$AC$12,FALSE)),IF($C$26="Szenario 3",INDEX('2a) Preisannahmen'!$D$22:$AC$28,MATCH('2b) Allg. Inputs'!$B29,'2a) Preisannahmen'!$B$22:$B$28,FALSE),MATCH('2b) Allg. Inputs'!J$27,'2a) Preisannahmen'!$D$21:$AC$21,FALSE)),"")))*1.03,"") | K29: =_xlfn.IFNA(IF($C$26="Szenario 1",INDEX('2a) Preisannahmen'!$D$4:$AC$10,MATCH('2b) Allg. Inputs'!$B29,'2a) Preisannahmen'!$B$4:$B$10,FALSE),MATCH('2b) Allg. Inputs'!K$27,'2a) Preisannahmen'!$D$3:$AC$3,FALSE)),IF($C$26="Szenario 2",INDEX('2a) Preisannahmen'!$D$13:$AC$19,MATCH('2b) Allg. Inputs'!$B29,'2a) Preisannahmen'!$B$13:$B$19,FALSE),MATCH('2b) Allg. Inputs'!K$27,'2a) Preisannahmen'!$D$12:$AC$12,FALSE)),IF($C$26="Szenario 3",INDEX('2a) Preisannahmen'!$D$22:$AC$28,MATCH('2b) Allg. Inputs'!$B29,'2a) Preisannahmen'!$B$22:$B$28,FALSE),MATCH('2b) Allg. Inputs'!K$27,'2a) Preisannahmen'!$D$21:$AC$21,FALSE)),"")))*1.03,"") | L29: =_xlfn.IFNA(IF($C$26="Szenario 1",INDEX('2a) Preisannahmen'!$D$4:$AC$10,MATCH('2b) Allg. Inputs'!$B29,'2a) Preisannahmen'!$B$4:$B$10,FALSE),MATCH('2b) Allg. Inputs'!L$27,'2a) Preisannahmen'!$D$3:$AC$3,FALSE)),IF($C$26="Szenario 2",INDEX('2a) Preisannahmen'!$D$13:$AC$19,MATCH('2b) Allg. Inputs'!$B29,'2a) Preisannahmen'!$B$13:$B$19,FALSE),MATCH('2b) Allg. Inputs'!L$27,'2a) Preisannahmen'!$D$12:$AC$12,FALSE)),IF($C$26="Szenario 3",INDEX('2a) Preisannahmen'!$D$22:$AC$28,MATCH('2b) Allg. Inputs'!$B29,'2a) Preisannahmen'!$B$22:$B$28,FALSE),MATCH('2b) Allg. Inputs'!L$27,'2a) Preisannahmen'!$D$21:$AC$21,FALSE)),"")))*1.03,"") | ... T29: =_xlfn.IFNA(IF($C$26="Szenario 1",INDEX('2a) Preisannahmen'!$D$4:$AC$10,MATCH('2b) Allg. Inputs'!$B29,'2a) Preisannahmen'!$B$4:$B$10,FALSE),MATCH('2b) Allg. Inputs'!T$27,'2a) Preisannahmen'!$D$3:$AC$3,FALSE)),IF($C$26="Szenario 2",INDEX('2a) Preisannahmen'!$D$13:$AC$19,MATCH('2b) Allg. Inputs'!$B29,'2a) Preisannahmen'!$B$13:$B$19,FALSE),MATCH('2b) Allg. Inputs'!T$27,'2a) Preisannahmen'!$D$12:$AC$12,FALSE)),IF($C$26="Szenario 3",INDEX('2a) Preisannahmen'!$D$22:$AC$28,MATCH('2b) Allg. Inputs'!$B29,'2a) Preisannahmen'!$B$22:$B$28,FALSE),MATCH('2b) Allg. Inputs'!T$27,'2a) Preisannahmen'!$D$21:$AC$21,FALSE)),"")))*1.03,"")
B30: Grüner Wasserstoff | C30: ohne Berücksichtigung eines 3% Bonus | D30: EUR/MWh | E30: =_xlfn.IFNA(IF($C$26="Szenario 1",INDEX('2a) Preisannahmen'!$D$4:$AC$10,MATCH('2b) Allg. Inputs'!$B30,'2a) Preisannahmen'!$B$4:$B$10,FALSE),MATCH('2b) Allg. Inputs'!E$27,'2a) Preisannahmen'!$D$3:$AC$3,FALSE)),IF($C$26="Szenario 2",INDEX('2a) Preisannahmen'!$D$13:$AC$19,MATCH('2b) Allg. Inputs'!$B30,'2a) Preisannahmen'!$B$13:$B$19,FALSE),MATCH('2b) Allg. Inputs'!E$27,'2a) Preisannahmen'!$D$12:$AC$12,FALSE)),IF($C$26="Szenario 3",INDEX('2a) Preisannahmen'!$D$22:$AC$28,MATCH('2b) Allg. Inputs'!$B30,'2a) Preisannahmen'!$B$22:$B$28,FALSE),MATCH('2b) Allg. Inputs'!E$27,'2a) Preisannahmen'!$D$21:$AC$21,FALSE)),""))),"") | F30: =_xlfn.IFNA(IF($C$26="Szenario 1",INDEX('2a) Preisannahmen'!$D$4:$AC$10,MATCH('2b) Allg. Inputs'!$B30,'2a) Preisannahmen'!$B$4:$B$10,FALSE),MATCH('2b) Allg. Inputs'!F$27,'2a) Preisannahmen'!$D$3:$AC$3,FALSE)),IF($C$26="Szenario 2",INDEX('2a) Preisannahmen'!$D$13:$AC$19,MATCH('2b) Allg. Inputs'!$B30,'2a) Preisannahmen'!$B$13:$B$19,FALSE),MATCH('2b) Allg. Inputs'!F$27,'2a) Preisannahmen'!$D$12:$AC$12,FALSE)),IF($C$26="Szenario 3",INDEX('2a) Preisannahmen'!$D$22:$AC$28,MATCH('2b) Allg. Inputs'!$B30,'2a) Preisannahmen'!$B$22:$B$28,FALSE),MATCH('2b) Allg. Inputs'!F$27,'2a) Preisannahmen'!$D$21:$AC$21,FALSE)),""))),"") | G30: =_xlfn.IFNA(IF($C$26="Szenario 1",INDEX('2a) Preisannahmen'!$D$4:$AC$10,MATCH('2b) Allg. Inputs'!$B30,'2a) Preisannahmen'!$B$4:$B$10,FALSE),MATCH('2b) Allg. Inputs'!G$27,'2a) Preisannahmen'!$D$3:$AC$3,FALSE)),IF($C$26="Szenario 2",INDEX('2a) Preisannahmen'!$D$13:$AC$19,MATCH('2b) Allg. Inputs'!$B30,'2a) Preisannahmen'!$B$13:$B$19,FALSE),MATCH('2b) Allg. Inputs'!G$27,'2a) Preisannahmen'!$D$12:$AC$12,FALSE)),IF($C$26="Szenario 3",INDEX('2a) Preisannahmen'!$D$22:$AC$28,MATCH('2b) Allg. Inputs'!$B30,'2a) Preisannahmen'!$B$22:$B$28,FALSE),MATCH('2b) Allg. Inputs'!G$27,'2a) Preisannahmen'!$D$21:$AC$21,FALSE)),""))),"") | H30: =_xlfn.IFNA(IF($C$26="Szenario 1",INDEX('2a) Preisannahmen'!$D$4:$AC$10,MATCH('2b) Allg. Inputs'!$B30,'2a) Preisannahmen'!$B$4:$B$10,FALSE),MATCH('2b) Allg. Inputs'!H$27,'2a) Preisannahmen'!$D$3:$AC$3,FALSE)),IF($C$26="Szenario 2",INDEX('2a) Preisannahmen'!$D$13:$AC$19,MATCH('2b) Allg. Inputs'!$B30,'2a) Preisannahmen'!$B$13:$B$19,FALSE),MATCH('2b) Allg. Inputs'!H$27,'2a) Preisannahmen'!$D$12:$AC$12,FALSE)),IF($C$26="Szenario 3",INDEX('2a) Preisannahmen'!$D$22:$AC$28,MATCH('2b) Allg. Inputs'!$B30,'2a) Preisannahmen'!$B$22:$B$28,FALSE),MATCH('2b) Allg. Inputs'!H$27,'2a) Preisannahmen'!$D$21:$AC$21,FALSE)),""))),"") | I30: =_xlfn.IFNA(IF($C$26="Szenario 1",INDEX('2a) Preisannahmen'!$D$4:$AC$10,MATCH('2b) Allg. Inputs'!$B30,'2a) Preisannahmen'!$B$4:$B$10,FALSE),MATCH('2b) Allg. Inputs'!I$27,'2a) Preisannahmen'!$D$3:$AC$3,FALSE)),IF($C$26="Szenario 2",INDEX('2a) Preisannahmen'!$D$13:$AC$19,MATCH('2b) Allg. Inputs'!$B30,'2a) Preisannahmen'!$B$13:$B$19,FALSE),MATCH('2b) Allg. Inputs'!I$27,'2a) Preisannahmen'!$D$12:$AC$12,FALSE)),IF($C$26="Szenario 3",INDEX('2a) Preisannahmen'!$D$22:$AC$28,MATCH('2b) Allg. Inputs'!$B30,'2a) Preisannahmen'!$B$22:$B$28,FALSE),MATCH('2b) Allg. Inputs'!I$27,'2a) Preisannahmen'!$D$21:$AC$21,FALSE)),""))),"") | J30: =_xlfn.IFNA(IF($C$26="Szenario 1",INDEX('2a) Preisannahmen'!$D$4:$AC$10,MATCH('2b) Allg. Inputs'!$B30,'2a) Preisannahmen'!$B$4:$B$10,FALSE),MATCH('2b) Allg. Inputs'!J$27,'2a) Preisannahmen'!$D$3:$AC$3,FALSE)),IF($C$26="Szenario 2",INDEX('2a) Preisannahmen'!$D$13:$AC$19,MATCH('2b) Allg. Inputs'!$B30,'2a) Preisannahmen'!$B$13:$B$19,FALSE),MATCH('2b) Allg. Inputs'!J$27,'2a) Preisannahmen'!$D$12:$AC$12,FALSE)),IF($C$26="Szenario 3",INDEX('2a) Preisannahmen'!$D$22:$AC$28,MATCH('2b) Allg. Inputs'!$B30,'2a) Preisannahmen'!$B$22:$B$28,FALSE),MATCH('2b) Allg. Inputs'!J$27,'2a) Preisannahmen'!$D$21:$AC$21,FALSE)),""))),"") | K30: =_xlfn.IFNA(IF($C$26="Szenario 1",INDEX('2a) Preisannahmen'!$D$4:$AC$10,MATCH('2b) Allg. Inputs'!$B30,'2a) Preisannahmen'!$B$4:$B$10,FALSE),MATCH('2b) Allg. Inputs'!K$27,'2a) Preisannahmen'!$D$3:$AC$3,FALSE)),IF($C$26="Szenario 2",INDEX('2a) Preisannahmen'!$D$13:$AC$19,MATCH('2b) Allg. Inputs'!$B30,'2a) Preisannahmen'!$B$13:$B$19,FALSE),MATCH('2b) Allg. Inputs'!K$27,'2a) Preisannahmen'!$D$12:$AC$12,FALSE)),IF($C$26="Szenario 3",INDEX('2a) Preisannahmen'!$D$22:$AC$28,MATCH('2b) Allg. Inputs'!$B30,'2a) Preisannahmen'!$B$22:$B$28,FALSE),MATCH('2b) Allg. Inputs'!K$27,'2a) Preisannahmen'!$D$21:$AC$21,FALSE)),""))),"") | L30: =_xlfn.IFNA(IF($C$26="Szenario 1",INDEX('2a) Preisannahmen'!$D$4:$AC$10,MATCH('2b) Allg. Inputs'!$B30,'2a) Preisannahmen'!$B$4:$B$10,FALSE),MATCH('2b) Allg. Inputs'!L$27,'2a) Preisannahmen'!$D$3:$AC$3,FALSE)),IF($C$26="Szenario 2",INDEX('2a) Preisannahmen'!$D$13:$AC$19,MATCH('2b) Allg. Inputs'!$B30,'2a) Preisannahmen'!$B$13:$B$19,FALSE),MATCH('2b) Allg. Inputs'!L$27,'2a) Preisannahmen'!$D$12:$AC$12,FALSE)),IF($C$26="Szenario 3",INDEX('2a) Preisannahmen'!$D$22:$AC$28,MATCH('2b) Allg. Inputs'!$B30,'2a) Preisannahmen'!$B$22:$B$28,FALSE),MATCH('2b) Allg. Inputs'!L$27,'2a) Preisannahmen'!$D$21:$AC$21,FALSE)),""))),"") | ... T30: =_xlfn.IFNA(IF($C$26="Szenario 1",INDEX('2a) Preisannahmen'!$D$4:$AC$10,MATCH('2b) Allg. Inputs'!$B30,'2a) Preisannahmen'!$B$4:$B$10,FALSE),MATCH('2b) Allg. Inputs'!T$27,'2a) Preisannahmen'!$D$3:$AC$3,FALSE)),IF($C$26="Szenario 2",INDEX('2a) Preisannahmen'!$D$13:$AC$19,MATCH('2b) Allg. Inputs'!$B30,'2a) Preisannahmen'!$B$13:$B$19,FALSE),MATCH('2b) Allg. Inputs'!T$27,'2a) Preisannahmen'!$D$12:$AC$12,FALSE)),IF($C$26="Szenario 3",INDEX('2a) Preisannahmen'!$D$22:$AC$28,MATCH('2b) Allg. Inputs'!$B30,'2a) Preisannahmen'!$B$22:$B$28,FALSE),MATCH('2b) Allg. Inputs'!T$27,'2a) Preisannahmen'!$D$21:$AC$21,FALSE)),""))),"")
B31: CO2-armer Wasserstoff | D31: EUR/MWh | E31: =_xlfn.IFNA(IF($C$26="Szenario 1",INDEX('2a) Preisannahmen'!$D$4:$AC$10,MATCH('2b) Allg. Inputs'!$B31,'2a) Preisannahmen'!$B$4:$B$10,FALSE),MATCH('2b) Allg. Inputs'!E$27,'2a) Preisannahmen'!$D$3:$AC$3,FALSE)),IF($C$26="Szenario 2",INDEX('2a) Preisannahmen'!$D$13:$AC$19,MATCH('2b) Allg. Inputs'!$B31,'2a) Preisannahmen'!$B$13:$B$19,FALSE),MATCH('2b) Allg. Inputs'!E$27,'2a) Preisannahmen'!$D$12:$AC$12,FALSE)),IF($C$26="Szenario 3",INDEX('2a) Preisannahmen'!$D$22:$AC$28,MATCH('2b) Allg. Inputs'!$B31,'2a) Preisannahmen'!$B$22:$B$28,FALSE),MATCH('2b) Allg. Inputs'!E$27,'2a) Preisannahmen'!$D$21:$AC$21,FALSE)),""))),"") | F31: =_xlfn.IFNA(IF($C$26="Szenario 1",INDEX('2a) Preisannahmen'!$D$4:$AC$10,MATCH('2b) Allg. Inputs'!$B31,'2a) Preisannahmen'!$B$4:$B$10,FALSE),MATCH('2b) Allg. Inputs'!F$27,'2a) Preisannahmen'!$D$3:$AC$3,FALSE)),IF($C$26="Szenario 2",INDEX('2a) Preisannahmen'!$D$13:$AC$19,MATCH('2b) Allg. Inputs'!$B31,'2a) Preisannahmen'!$B$13:$B$19,FALSE),MATCH('2b) Allg. Inputs'!F$27,'2a) Preisannahmen'!$D$12:$AC$12,FALSE)),IF($C$26="Szenario 3",INDEX('2a) Preisannahmen'!$D$22:$AC$28,MATCH('2b) Allg. Inputs'!$B31,'2a) Preisannahmen'!$B$22:$B$28,FALSE),MATCH('2b) Allg. Inputs'!F$27,'2a) Preisannahmen'!$D$21:$AC$21,FALSE)),""))),"") | G31: =_xlfn.IFNA(IF($C$26="Szenario 1",INDEX('2a) Preisannahmen'!$D$4:$AC$10,MATCH('2b) Allg. Inputs'!$B31,'2a) Preisannahmen'!$B$4:$B$10,FALSE),MATCH('2b) Allg. Inputs'!G$27,'2a) Preisannahmen'!$D$3:$AC$3,FALSE)),IF($C$26="Szenario 2",INDEX('2a) Preisannahmen'!$D$13:$AC$19,MATCH('2b) Allg. Inputs'!$B31,'2a) Preisannahmen'!$B$13:$B$19,FALSE),MATCH('2b) Allg. Inputs'!G$27,'2a) Preisannahmen'!$D$12:$AC$12,FALSE)),IF($C$26="Szenario 3",INDEX('2a) Preisannahmen'!$D$22:$AC$28,MATCH('2b) Allg. Inputs'!$B31,'2a) Preisannahmen'!$B$22:$B$28,FALSE),MATCH('2b) Allg. Inputs'!G$27,'2a) Preisannahmen'!$D$21:$AC$21,FALSE)),""))),"") | H31: =_xlfn.IFNA(IF($C$26="Szenario 1",INDEX('2a) Preisannahmen'!$D$4:$AC$10,MATCH('2b) Allg. Inputs'!$B31,'2a) Preisannahmen'!$B$4:$B$10,FALSE),MATCH('2b) Allg. Inputs'!H$27,'2a) Preisannahmen'!$D$3:$AC$3,FALSE)),IF($C$26="Szenario 2",INDEX('2a) Preisannahmen'!$D$13:$AC$19,MATCH('2b) Allg. Inputs'!$B31,'2a) Preisannahmen'!$B$13:$B$19,FALSE),MATCH('2b) Allg. Inputs'!H$27,'2a) Preisannahmen'!$D$12:$AC$12,FALSE)),IF($C$26="Szenario 3",INDEX('2a) Preisannahmen'!$D$22:$AC$28,MATCH('2b) Allg. Inputs'!$B31,'2a) Preisannahmen'!$B$22:$B$28,FALSE),MATCH('2b) Allg. Inputs'!H$27,'2a) Preisannahmen'!$D$21:$AC$21,FALSE)),""))),"") | I31: =_xlfn.IFNA(IF($C$26="Szenario 1",INDEX('2a) Preisannahmen'!$D$4:$AC$10,MATCH('2b) Allg. Inputs'!$B31,'2a) Preisannahmen'!$B$4:$B$10,FALSE),MATCH('2b) Allg. Inputs'!I$27,'2a) Preisannahmen'!$D$3:$AC$3,FALSE)),IF($C$26="Szenario 2",INDEX('2a) Preisannahmen'!$D$13:$AC$19,MATCH('2b) Allg. Inputs'!$B31,'2a) Preisannahmen'!$B$13:$B$19,FALSE),MATCH('2b) Allg. Inputs'!I$27,'2a) Preisannahmen'!$D$12:$AC$12,FALSE)),IF($C$26="Szenario 3",INDEX('2a) Preisannahmen'!$D$22:$AC$28,MATCH('2b) Allg. Inputs'!$B31,'2a) Preisannahmen'!$B$22:$B$28,FALSE),MATCH('2b) Allg. Inputs'!I$27,'2a) Preisannahmen'!$D$21:$AC$21,FALSE)),""))),"") | J31: =_xlfn.IFNA(IF($C$26="Szenario 1",INDEX('2a) Preisannahmen'!$D$4:$AC$10,MATCH('2b) Allg. Inputs'!$B31,'2a) Preisannahmen'!$B$4:$B$10,FALSE),MATCH('2b) Allg. Inputs'!J$27,'2a) Preisannahmen'!$D$3:$AC$3,FALSE)),IF($C$26="Szenario 2",INDEX('2a) Preisannahmen'!$D$13:$AC$19,MATCH('2b) Allg. Inputs'!$B31,'2a) Preisannahmen'!$B$13:$B$19,FALSE),MATCH('2b) Allg. Inputs'!J$27,'2a) Preisannahmen'!$D$12:$AC$12,FALSE)),IF($C$26="Szenario 3",INDEX('2a) Preisannahmen'!$D$22:$AC$28,MATCH('2b) Allg. Inputs'!$B31,'2a) Preisannahmen'!$B$22:$B$28,FALSE),MATCH('2b) Allg. Inputs'!J$27,'2a) Preisannahmen'!$D$21:$AC$21,FALSE)),""))),"") | K31: =_xlfn.IFNA(IF($C$26="Szenario 1",INDEX('2a) Preisannahmen'!$D$4:$AC$10,MATCH('2b) Allg. Inputs'!$B31,'2a) Preisannahmen'!$B$4:$B$10,FALSE),MATCH('2b) Allg. Inputs'!K$27,'2a) Preisannahmen'!$D$3:$AC$3,FALSE)),IF($C$26="Szenario 2",INDEX('2a) Preisannahmen'!$D$13:$AC$19,MATCH('2b) Allg. Inputs'!$B31,'2a) Preisannahmen'!$B$13:$B$19,FALSE),MATCH('2b) Allg. Inputs'!K$27,'2a) Preisannahmen'!$D$12:$AC$12,FALSE)),IF($C$26="Szenario 3",INDEX('2a) Preisannahmen'!$D$22:$AC$28,MATCH('2b) Allg. Inputs'!$B31,'2a) Preisannahmen'!$B$22:$B$28,FALSE),MATCH('2b) Allg. Inputs'!K$27,'2a) Preisannahmen'!$D$21:$AC$21,FALSE)),""))),"") | L31: =_xlfn.IFNA(IF($C$26="Szenario 1",INDEX('2a) Preisannahmen'!$D$4:$AC$10,MATCH('2b) Allg. Inputs'!$B31,'2a) Preisannahmen'!$B$4:$B$10,FALSE),MATCH('2b) Allg. Inputs'!L$27,'2a) Preisannahmen'!$D$3:$AC$3,FALSE)),IF($C$26="Szenario 2",INDEX('2a) Preisannahmen'!$D$13:$AC$19,MATCH('2b) Allg. Inputs'!$B31,'2a) Preisannahmen'!$B$13:$B$19,FALSE),MATCH('2b) Allg. Inputs'!L$27,'2a) Preisannahmen'!$D$12:$AC$12,FALSE)),IF($C$26="Szenario 3",INDEX('2a) Preisannahmen'!$D$22:$AC$28,MATCH('2b) Allg. Inputs'!$B31,'2a) Preisannahmen'!$B$22:$B$28,FALSE),MATCH('2b) Allg. Inputs'!L$27,'2a) Preisannahmen'!$D$21:$AC$21,FALSE)),""))),"") | ... T31: =_xlfn.IFNA(IF($C$26="Szenario 1",INDEX('2a) Preisannahmen'!$D$4:$AC$10,MATCH('2b) Allg. Inputs'!$B31,'2a) Preisannahmen'!$B$4:$B$10,FALSE),MATCH('2b) Allg. Inputs'!T$27,'2a) Preisannahmen'!$D$3:$AC$3,FALSE)),IF($C$26="Szenario 2",INDEX('2a) Preisannahmen'!$D$13:$AC$19,MATCH('2b) Allg. Inputs'!$B31,'2a) Preisannahmen'!$B$13:$B$19,FALSE),MATCH('2b) Allg. Inputs'!T$27,'2a) Preisannahmen'!$D$12:$AC$12,FALSE)),IF($C$26="Szenario 3",INDEX('2a) Preisannahmen'!$D$22:$AC$28,MATCH('2b) Allg. Inputs'!$B31,'2a) Preisannahmen'!$B$22:$B$28,FALSE),MATCH('2b) Allg. Inputs'!T$27,'2a) Preisannahmen'!$D$21:$AC$21,FALSE)),""))),"")
B32: Erdgas | D32: EUR/MWh | E32: =_xlfn.IFNA(IF($C$26="Szenario 1",INDEX('2a) Preisannahmen'!$D$4:$AC$10,MATCH('2b) Allg. Inputs'!$B32,'2a) Preisannahmen'!$B$4:$B$10,FALSE),MATCH('2b) Allg. Inputs'!E$27,'2a) Preisannahmen'!$D$3:$AC$3,FALSE)),IF($C$26="Szenario 2",INDEX('2a) Preisannahmen'!$D$13:$AC$19,MATCH('2b) Allg. Inputs'!$B32,'2a) Preisannahmen'!$B$13:$B$19,FALSE),MATCH('2b) Allg. Inputs'!E$27,'2a) Preisannahmen'!$D$12:$AC$12,FALSE)),IF($C$26="Szenario 3",INDEX('2a) Preisannahmen'!$D$22:$AC$28,MATCH('2b) Allg. Inputs'!$B32,'2a) Preisannahmen'!$B$22:$B$28,FALSE),MATCH('2b) Allg. Inputs'!E$27,'2a) Preisannahmen'!$D$21:$AC$21,FALSE)),""))),"") | F32: =_xlfn.IFNA(IF($C$26="Szenario 1",INDEX('2a) Preisannahmen'!$D$4:$AC$10,MATCH('2b) Allg. Inputs'!$B32,'2a) Preisannahmen'!$B$4:$B$10,FALSE),MATCH('2b) Allg. Inputs'!F$27,'2a) Preisannahmen'!$D$3:$AC$3,FALSE)),IF($C$26="Szenario 2",INDEX('2a) Preisannahmen'!$D$13:$AC$19,MATCH('2b) Allg. Inputs'!$B32,'2a) Preisannahmen'!$B$13:$B$19,FALSE),MATCH('2b) Allg. Inputs'!F$27,'2a) Preisannahmen'!$D$12:$AC$12,FALSE)),IF($C$26="Szenario 3",INDEX('2a) Preisannahmen'!$D$22:$AC$28,MATCH('2b) Allg. Inputs'!$B32,'2a) Preisannahmen'!$B$22:$B$28,FALSE),MATCH('2b) Allg. Inputs'!F$27,'2a) Preisannahmen'!$D$21:$AC$21,FALSE)),""))),"") | G32: =_xlfn.IFNA(IF($C$26="Szenario 1",INDEX('2a) Preisannahmen'!$D$4:$AC$10,MATCH('2b) Allg. Inputs'!$B32,'2a) Preisannahmen'!$B$4:$B$10,FALSE),MATCH('2b) Allg. Inputs'!G$27,'2a) Preisannahmen'!$D$3:$AC$3,FALSE)),IF($C$26="Szenario 2",INDEX('2a) Preisannahmen'!$D$13:$AC$19,MATCH('2b) Allg. Inputs'!$B32,'2a) Preisannahmen'!$B$13:$B$19,FALSE),MATCH('2b) Allg. Inputs'!G$27,'2a) Preisannahmen'!$D$12:$AC$12,FALSE)),IF($C$26="Szenario 3",INDEX('2a) Preisannahmen'!$D$22:$AC$28,MATCH('2b) Allg. Inputs'!$B32,'2a) Preisannahmen'!$B$22:$B$28,FALSE),MATCH('2b) Allg. Inputs'!G$27,'2a) Preisannahmen'!$D$21:$AC$21,FALSE)),""))),"") | H32: =_xlfn.IFNA(IF($C$26="Szenario 1",INDEX('2a) Preisannahmen'!$D$4:$AC$10,MATCH('2b) Allg. Inputs'!$B32,'2a) Preisannahmen'!$B$4:$B$10,FALSE),MATCH('2b) Allg. Inputs'!H$27,'2a) Preisannahmen'!$D$3:$AC$3,FALSE)),IF($C$26="Szenario 2",INDEX('2a) Preisannahmen'!$D$13:$AC$19,MATCH('2b) Allg. Inputs'!$B32,'2a) Preisannahmen'!$B$13:$B$19,FALSE),MATCH('2b) Allg. Inputs'!H$27,'2a) Preisannahmen'!$D$12:$AC$12,FALSE)),IF($C$26="Szenario 3",INDEX('2a) Preisannahmen'!$D$22:$AC$28,MATCH('2b) Allg. Inputs'!$B32,'2a) Preisannahmen'!$B$22:$B$28,FALSE),MATCH('2b) Allg. Inputs'!H$27,'2a) Preisannahmen'!$D$21:$AC$21,FALSE)),""))),"") | I32: =_xlfn.IFNA(IF($C$26="Szenario 1",INDEX('2a) Preisannahmen'!$D$4:$AC$10,MATCH('2b) Allg. Inputs'!$B32,'2a) Preisannahmen'!$B$4:$B$10,FALSE),MATCH('2b) Allg. Inputs'!I$27,'2a) Preisannahmen'!$D$3:$AC$3,FALSE)),IF($C$26="Szenario 2",INDEX('2a) Preisannahmen'!$D$13:$AC$19,MATCH('2b) Allg. Inputs'!$B32,'2a) Preisannahmen'!$B$13:$B$19,FALSE),MATCH('2b) Allg. Inputs'!I$27,'2a) Preisannahmen'!$D$12:$AC$12,FALSE)),IF($C$26="Szenario 3",INDEX('2a) Preisannahmen'!$D$22:$AC$28,MATCH('2b) Allg. Inputs'!$B32,'2a) Preisannahmen'!$B$22:$B$28,FALSE),MATCH('2b) Allg. Inputs'!I$27,'2a) Preisannahmen'!$D$21:$AC$21,FALSE)),""))),"") | J32: =_xlfn.IFNA(IF($C$26="Szenario 1",INDEX('2a) Preisannahmen'!$D$4:$AC$10,MATCH('2b) Allg. Inputs'!$B32,'2a) Preisannahmen'!$B$4:$B$10,FALSE),MATCH('2b) Allg. Inputs'!J$27,'2a) Preisannahmen'!$D$3:$AC$3,FALSE)),IF($C$26="Szenario 2",INDEX('2a) Preisannahmen'!$D$13:$AC$19,MATCH('2b) Allg. Inputs'!$B32,'2a) Preisannahmen'!$B$13:$B$19,FALSE),MATCH('2b) Allg. Inputs'!J$27,'2a) Preisannahmen'!$D$12:$AC$12,FALSE)),IF($C$26="Szenario 3",INDEX('2a) Preisannahmen'!$D$22:$AC$28,MATCH('2b) Allg. Inputs'!$B32,'2a) Preisannahmen'!$B$22:$B$28,FALSE),MATCH('2b) Allg. Inputs'!J$27,'2a) Preisannahmen'!$D$21:$AC$21,FALSE)),""))),"") | K32: =_xlfn.IFNA(IF($C$26="Szenario 1",INDEX('2a) Preisannahmen'!$D$4:$AC$10,MATCH('2b) Allg. Inputs'!$B32,'2a) Preisannahmen'!$B$4:$B$10,FALSE),MATCH('2b) Allg. Inputs'!K$27,'2a) Preisannahmen'!$D$3:$AC$3,FALSE)),IF($C$26="Szenario 2",INDEX('2a) Preisannahmen'!$D$13:$AC$19,MATCH('2b) Allg. Inputs'!$B32,'2a) Preisannahmen'!$B$13:$B$19,FALSE),MATCH('2b) Allg. Inputs'!K$27,'2a) Preisannahmen'!$D$12:$AC$12,FALSE)),IF($C$26="Szenario 3",INDEX('2a) Preisannahmen'!$D$22:$AC$28,MATCH('2b) Allg. Inputs'!$B32,'2a) Preisannahmen'!$B$22:$B$28,FALSE),MATCH('2b) Allg. Inputs'!K$27,'2a) Preisannahmen'!$D$21:$AC$21,FALSE)),""))),"") | L32: =_xlfn.IFNA(IF($C$26="Szenario 1",INDEX('2a) Preisannahmen'!$D$4:$AC$10,MATCH('2b) Allg. Inputs'!$B32,'2a) Preisannahmen'!$B$4:$B$10,FALSE),MATCH('2b) Allg. Inputs'!L$27,'2a) Preisannahmen'!$D$3:$AC$3,FALSE)),IF($C$26="Szenario 2",INDEX('2a) Preisannahmen'!$D$13:$AC$19,MATCH('2b) Allg. Inputs'!$B32,'2a) Preisannahmen'!$B$13:$B$19,FALSE),MATCH('2b) Allg. Inputs'!L$27,'2a) Preisannahmen'!$D$12:$AC$12,FALSE)),IF($C$26="Szenario 3",INDEX('2a) Preisannahmen'!$D$22:$AC$28,MATCH('2b) Allg. Inputs'!$B32,'2a) Preisannahmen'!$B$22:$B$28,FALSE),MATCH('2b) Allg. Inputs'!L$27,'2a) Preisannahmen'!$D$21:$AC$21,FALSE)),""))),"") | ... T32: =_xlfn.IFNA(IF($C$26="Szenario 1",INDEX('2a) Preisannahmen'!$D$4:$AC$10,MATCH('2b) Allg. Inputs'!$B32,'2a) Preisannahmen'!$B$4:$B$10,FALSE),MATCH('2b) Allg. Inputs'!T$27,'2a) Preisannahmen'!$D$3:$AC$3,FALSE)),IF($C$26="Szenario 2",INDEX('2a) Preisannahmen'!$D$13:$AC$19,MATCH('2b) Allg. Inputs'!$B32,'2a) Preisannahmen'!$B$13:$B$19,FALSE),MATCH('2b) Allg. Inputs'!T$27,'2a) Preisannahmen'!$D$12:$AC$12,FALSE)),IF($C$26="Szenario 3",INDEX('2a) Preisannahmen'!$D$22:$AC$28,MATCH('2b) Allg. Inputs'!$B32,'2a) Preisannahmen'!$B$22:$B$28,FALSE),MATCH('2b) Allg. Inputs'!T$27,'2a) Preisannahmen'!$D$21:$AC$21,FALSE)),""))),"")
B33: Kokskohle | D33: EUR/MWh | E33: =_xlfn.IFNA(IF($C$26="Szenario 1",INDEX('2a) Preisannahmen'!$D$4:$AC$10,MATCH('2b) Allg. Inputs'!$B33,'2a) Preisannahmen'!$B$4:$B$10,FALSE),MATCH('2b) Allg. Inputs'!E$27,'2a) Preisannahmen'!$D$3:$AC$3,FALSE)),IF($C$26="Szenario 2",INDEX('2a) Preisannahmen'!$D$13:$AC$19,MATCH('2b) Allg. Inputs'!$B33,'2a) Preisannahmen'!$B$13:$B$19,FALSE),MATCH('2b) Allg. Inputs'!E$27,'2a) Preisannahmen'!$D$12:$AC$12,FALSE)),IF($C$26="Szenario 3",INDEX('2a) Preisannahmen'!$D$22:$AC$28,MATCH('2b) Allg. Inputs'!$B33,'2a) Preisannahmen'!$B$22:$B$28,FALSE),MATCH('2b) Allg. Inputs'!E$27,'2a) Preisannahmen'!$D$21:$AC$21,FALSE)),""))),"") | F33: =_xlfn.IFNA(IF($C$26="Szenario 1",INDEX('2a) Preisannahmen'!$D$4:$AC$10,MATCH('2b) Allg. Inputs'!$B33,'2a) Preisannahmen'!$B$4:$B$10,FALSE),MATCH('2b) Allg. Inputs'!F$27,'2a) Preisannahmen'!$D$3:$AC$3,FALSE)),IF($C$26="Szenario 2",INDEX('2a) Preisannahmen'!$D$13:$AC$19,MATCH('2b) Allg. Inputs'!$B33,'2a) Preisannahmen'!$B$13:$B$19,FALSE),MATCH('2b) Allg. Inputs'!F$27,'2a) Preisannahmen'!$D$12:$AC$12,FALSE)),IF($C$26="Szenario 3",INDEX('2a) Preisannahmen'!$D$22:$AC$28,MATCH('2b) Allg. Inputs'!$B33,'2a) Preisannahmen'!$B$22:$B$28,FALSE),MATCH('2b) Allg. Inputs'!F$27,'2a) Preisannahmen'!$D$21:$AC$21,FALSE)),""))),"") | G33: =_xlfn.IFNA(IF($C$26="Szenario 1",INDEX('2a) Preisannahmen'!$D$4:$AC$10,MATCH('2b) Allg. Inputs'!$B33,'2a) Preisannahmen'!$B$4:$B$10,FALSE),MATCH('2b) Allg. Inputs'!G$27,'2a) Preisannahmen'!$D$3:$AC$3,FALSE)),IF($C$26="Szenario 2",INDEX('2a) Preisannahmen'!$D$13:$AC$19,MATCH('2b) Allg. Inputs'!$B33,'2a) Preisannahmen'!$B$13:$B$19,FALSE),MATCH('2b) Allg. Inputs'!G$27,'2a) Preisannahmen'!$D$12:$AC$12,FALSE)),IF($C$26="Szenario 3",INDEX('2a) Preisannahmen'!$D$22:$AC$28,MATCH('2b) Allg. Inputs'!$B33,'2a) Preisannahmen'!$B$22:$B$28,FALSE),MATCH('2b) Allg. Inputs'!G$27,'2a) Preisannahmen'!$D$21:$AC$21,FALSE)),""))),"") | H33: =_xlfn.IFNA(IF($C$26="Szenario 1",INDEX('2a) Preisannahmen'!$D$4:$AC$10,MATCH('2b) Allg. Inputs'!$B33,'2a) Preisannahmen'!$B$4:$B$10,FALSE),MATCH('2b) Allg. Inputs'!H$27,'2a) Preisannahmen'!$D$3:$AC$3,FALSE)),IF($C$26="Szenario 2",INDEX('2a) Preisannahmen'!$D$13:$AC$19,MATCH('2b) Allg. Inputs'!$B33,'2a) Preisannahmen'!$B$13:$B$19,FALSE),MATCH('2b) Allg. Inputs'!H$27,'2a) Preisannahmen'!$D$12:$AC$12,FALSE)),IF($C$26="Szenario 3",INDEX('2a) Preisannahmen'!$D$22:$AC$28,MATCH('2b) Allg. Inputs'!$B33,'2a) Preisannahmen'!$B$22:$B$28,FALSE),MATCH('2b) Allg. Inputs'!H$27,'2a) Preisannahmen'!$D$21:$AC$21,FALSE)),""))),"") | I33: =_xlfn.IFNA(IF($C$26="Szenario 1",INDEX('2a) Preisannahmen'!$D$4:$AC$10,MATCH('2b) Allg. Inputs'!$B33,'2a) Preisannahmen'!$B$4:$B$10,FALSE),MATCH('2b) Allg. Inputs'!I$27,'2a) Preisannahmen'!$D$3:$AC$3,FALSE)),IF($C$26="Szenario 2",INDEX('2a) Preisannahmen'!$D$13:$AC$19,MATCH('2b) Allg. Inputs'!$B33,'2a) Preisannahmen'!$B$13:$B$19,FALSE),MATCH('2b) Allg. Inputs'!I$27,'2a) Preisannahmen'!$D$12:$AC$12,FALSE)),IF($C$26="Szenario 3",INDEX('2a) Preisannahmen'!$D$22:$AC$28,MATCH('2b) Allg. Inputs'!$B33,'2a) Preisannahmen'!$B$22:$B$28,FALSE),MATCH('2b) Allg. Inputs'!I$27,'2a) Preisannahmen'!$D$21:$AC$21,FALSE)),""))),"") | J33: =_xlfn.IFNA(IF($C$26="Szenario 1",INDEX('2a) Preisannahmen'!$D$4:$AC$10,MATCH('2b) Allg. Inputs'!$B33,'2a) Preisannahmen'!$B$4:$B$10,FALSE),MATCH('2b) Allg. Inputs'!J$27,'2a) Preisannahmen'!$D$3:$AC$3,FALSE)),IF($C$26="Szenario 2",INDEX('2a) Preisannahmen'!$D$13:$AC$19,MATCH('2b) Allg. Inputs'!$B33,'2a) Preisannahmen'!$B$13:$B$19,FALSE),MATCH('2b) Allg. Inputs'!J$27,'2a) Preisannahmen'!$D$12:$AC$12,FALSE)),IF($C$26="Szenario 3",INDEX('2a) Preisannahmen'!$D$22:$AC$28,MATCH('2b) Allg. Inputs'!$B33,'2a) Preisannahmen'!$B$22:$B$28,FALSE),MATCH('2b) Allg. Inputs'!J$27,'2a) Preisannahmen'!$D$21:$AC$21,FALSE)),""))),"") | K33: =_xlfn.IFNA(IF($C$26="Szenario 1",INDEX('2a) Preisannahmen'!$D$4:$AC$10,MATCH('2b) Allg. Inputs'!$B33,'2a) Preisannahmen'!$B$4:$B$10,FALSE),MATCH('2b) Allg. Inputs'!K$27,'2a) Preisannahmen'!$D$3:$AC$3,FALSE)),IF($C$26="Szenario 2",INDEX('2a) Preisannahmen'!$D$13:$AC$19,MATCH('2b) Allg. Inputs'!$B33,'2a) Preisannahmen'!$B$13:$B$19,FALSE),MATCH('2b) Allg. Inputs'!K$27,'2a) Preisannahmen'!$D$12:$AC$12,FALSE)),IF($C$26="Szenario 3",INDEX('2a) Preisannahmen'!$D$22:$AC$28,MATCH('2b) Allg. Inputs'!$B33,'2a) Preisannahmen'!$B$22:$B$28,FALSE),MATCH('2b) Allg. Inputs'!K$27,'2a) Preisannahmen'!$D$21:$AC$21,FALSE)),""))),"") | L33: =_xlfn.IFNA(IF($C$26="Szenario 1",INDEX('2a) Preisannahmen'!$D$4:$AC$10,MATCH('2b) Allg. Inputs'!$B33,'2a) Preisannahmen'!$B$4:$B$10,FALSE),MATCH('2b) Allg. Inputs'!L$27,'2a) Preisannahmen'!$D$3:$AC$3,FALSE)),IF($C$26="Szenario 2",INDEX('2a) Preisannahmen'!$D$13:$AC$19,MATCH('2b) Allg. Inputs'!$B33,'2a) Preisannahmen'!$B$13:$B$19,FALSE),MATCH('2b) Allg. Inputs'!L$27,'2a) Preisannahmen'!$D$12:$AC$12,FALSE)),IF($C$26="Szenario 3",INDEX('2a) Preisannahmen'!$D$22:$AC$28,MATCH('2b) Allg. Inputs'!$B33,'2a) Preisannahmen'!$B$22:$B$28,FALSE),MATCH('2b) Allg. Inputs'!L$27,'2a) Preisannahmen'!$D$21:$AC$21,FALSE)),""))),"") | ... T33: =_xlfn.IFNA(IF($C$26="Szenario 1",INDEX('2a) Preisannahmen'!$D$4:$AC$10,MATCH('2b) Allg. Inputs'!$B33,'2a) Preisannahmen'!$B$4:$B$10,FALSE),MATCH('2b) Allg. Inputs'!T$27,'2a) Preisannahmen'!$D$3:$AC$3,FALSE)),IF($C$26="Szenario 2",INDEX('2a) Preisannahmen'!$D$13:$AC$19,MATCH('2b) Allg. Inputs'!$B33,'2a) Preisannahmen'!$B$13:$B$19,FALSE),MATCH('2b) Allg. Inputs'!T$27,'2a) Preisannahmen'!$D$12:$AC$12,FALSE)),IF($C$26="Szenario 3",INDEX('2a) Preisannahmen'!$D$22:$AC$28,MATCH('2b) Allg. Inputs'!$B33,'2a) Preisannahmen'!$B$22:$B$28,FALSE),MATCH('2b) Allg. Inputs'!T$27,'2a) Preisannahmen'!$D$21:$AC$21,FALSE)),""))),"")
B34: Kesselkohle | D34: EUR/MWh | E34: =_xlfn.IFNA(IF($C$26="Szenario 1",INDEX('2a) Preisannahmen'!$D$4:$AC$10,MATCH('2b) Allg. Inputs'!$B34,'2a) Preisannahmen'!$B$4:$B$10,FALSE),MATCH('2b) Allg. Inputs'!E$27,'2a) Preisannahmen'!$D$3:$AC$3,FALSE)),IF($C$26="Szenario 2",INDEX('2a) Preisannahmen'!$D$13:$AC$19,MATCH('2b) Allg. Inputs'!$B34,'2a) Preisannahmen'!$B$13:$B$19,FALSE),MATCH('2b) Allg. Inputs'!E$27,'2a) Preisannahmen'!$D$12:$AC$12,FALSE)),IF($C$26="Szenario 3",INDEX('2a) Preisannahmen'!$D$22:$AC$28,MATCH('2b) Allg. Inputs'!$B34,'2a) Preisannahmen'!$B$22:$B$28,FALSE),MATCH('2b) Allg. Inputs'!E$27,'2a) Preisannahmen'!$D$21:$AC$21,FALSE)),""))),"") | F34: =_xlfn.IFNA(IF($C$26="Szenario 1",INDEX('2a) Preisannahmen'!$D$4:$AC$10,MATCH('2b) Allg. Inputs'!$B34,'2a) Preisannahmen'!$B$4:$B$10,FALSE),MATCH('2b) Allg. Inputs'!F$27,'2a) Preisannahmen'!$D$3:$AC$3,FALSE)),IF($C$26="Szenario 2",INDEX('2a) Preisannahmen'!$D$13:$AC$19,MATCH('2b) Allg. Inputs'!$B34,'2a) Preisannahmen'!$B$13:$B$19,FALSE),MATCH('2b) Allg. Inputs'!F$27,'2a) Preisannahmen'!$D$12:$AC$12,FALSE)),IF($C$26="Szenario 3",INDEX('2a) Preisannahmen'!$D$22:$AC$28,MATCH('2b) Allg. Inputs'!$B34,'2a) Preisannahmen'!$B$22:$B$28,FALSE),MATCH('2b) Allg. Inputs'!F$27,'2a) Preisannahmen'!$D$21:$AC$21,FALSE)),""))),"") | G34: =_xlfn.IFNA(IF($C$26="Szenario 1",INDEX('2a) Preisannahmen'!$D$4:$AC$10,MATCH('2b) Allg. Inputs'!$B34,'2a) Preisannahmen'!$B$4:$B$10,FALSE),MATCH('2b) Allg. Inputs'!G$27,'2a) Preisannahmen'!$D$3:$AC$3,FALSE)),IF($C$26="Szenario 2",INDEX('2a) Preisannahmen'!$D$13:$AC$19,MATCH('2b) Allg. Inputs'!$B34,'2a) Preisannahmen'!$B$13:$B$19,FALSE),MATCH('2b) Allg. Inputs'!G$27,'2a) Preisannahmen'!$D$12:$AC$12,FALSE)),IF($C$26="Szenario 3",INDEX('2a) Preisannahmen'!$D$22:$AC$28,MATCH('2b) Allg. Inputs'!$B34,'2a) Preisannahmen'!$B$22:$B$28,FALSE),MATCH('2b) Allg. Inputs'!G$27,'2a) Preisannahmen'!$D$21:$AC$21,FALSE)),""))),"") | H34: =_xlfn.IFNA(IF($C$26="Szenario 1",INDEX('2a) Preisannahmen'!$D$4:$AC$10,MATCH('2b) Allg. Inputs'!$B34,'2a) Preisannahmen'!$B$4:$B$10,FALSE),MATCH('2b) Allg. Inputs'!H$27,'2a) Preisannahmen'!$D$3:$AC$3,FALSE)),IF($C$26="Szenario 2",INDEX('2a) Preisannahmen'!$D$13:$AC$19,MATCH('2b) Allg. Inputs'!$B34,'2a) Preisannahmen'!$B$13:$B$19,FALSE),MATCH('2b) Allg. Inputs'!H$27,'2a) Preisannahmen'!$D$12:$AC$12,FALSE)),IF($C$26="Szenario 3",INDEX('2a) Preisannahmen'!$D$22:$AC$28,MATCH('2b) Allg. Inputs'!$B34,'2a) Preisannahmen'!$B$22:$B$28,FALSE),MATCH('2b) Allg. Inputs'!H$27,'2a) Preisannahmen'!$D$21:$AC$21,FALSE)),""))),"") | I34: =_xlfn.IFNA(IF($C$26="Szenario 1",INDEX('2a) Preisannahmen'!$D$4:$AC$10,MATCH('2b) Allg. Inputs'!$B34,'2a) Preisannahmen'!$B$4:$B$10,FALSE),MATCH('2b) Allg. Inputs'!I$27,'2a) Preisannahmen'!$D$3:$AC$3,FALSE)),IF($C$26="Szenario 2",INDEX('2a) Preisannahmen'!$D$13:$AC$19,MATCH('2b) Allg. Inputs'!$B34,'2a) Preisannahmen'!$B$13:$B$19,FALSE),MATCH('2b) Allg. Inputs'!I$27,'2a) Preisannahmen'!$D$12:$AC$12,FALSE)),IF($C$26="Szenario 3",INDEX('2a) Preisannahmen'!$D$22:$AC$28,MATCH('2b) Allg. Inputs'!$B34,'2a) Preisannahmen'!$B$22:$B$28,FALSE),MATCH('2b) Allg. Inputs'!I$27,'2a) Preisannahmen'!$D$21:$AC$21,FALSE)),""))),"") | J34: =_xlfn.IFNA(IF($C$26="Szenario 1",INDEX('2a) Preisannahmen'!$D$4:$AC$10,MATCH('2b) Allg. Inputs'!$B34,'2a) Preisannahmen'!$B$4:$B$10,FALSE),MATCH('2b) Allg. Inputs'!J$27,'2a) Preisannahmen'!$D$3:$AC$3,FALSE)),IF($C$26="Szenario 2",INDEX('2a) Preisannahmen'!$D$13:$AC$19,MATCH('2b) Allg. Inputs'!$B34,'2a) Preisannahmen'!$B$13:$B$19,FALSE),MATCH('2b) Allg. Inputs'!J$27,'2a) Preisannahmen'!$D$12:$AC$12,FALSE)),IF($C$26="Szenario 3",INDEX('2a) Preisannahmen'!$D$22:$AC$28,MATCH('2b) Allg. Inputs'!$B34,'2a) Preisannahmen'!$B$22:$B$28,FALSE),MATCH('2b) Allg. Inputs'!J$27,'2a) Preisannahmen'!$D$21:$AC$21,FALSE)),""))),"") | K34: =_xlfn.IFNA(IF($C$26="Szenario 1",INDEX('2a) Preisannahmen'!$D$4:$AC$10,MATCH('2b) Allg. Inputs'!$B34,'2a) Preisannahmen'!$B$4:$B$10,FALSE),MATCH('2b) Allg. Inputs'!K$27,'2a) Preisannahmen'!$D$3:$AC$3,FALSE)),IF($C$26="Szenario 2",INDEX('2a) Preisannahmen'!$D$13:$AC$19,MATCH('2b) Allg. Inputs'!$B34,'2a) Preisannahmen'!$B$13:$B$19,FALSE),MATCH('2b) Allg. Inputs'!K$27,'2a) Preisannahmen'!$D$12:$AC$12,FALSE)),IF($C$26="Szenario 3",INDEX('2a) Preisannahmen'!$D$22:$AC$28,MATCH('2b) Allg. Inputs'!$B34,'2a) Preisannahmen'!$B$22:$B$28,FALSE),MATCH('2b) Allg. Inputs'!K$27,'2a) Preisannahmen'!$D$21:$AC$21,FALSE)),""))),"") | L34: =_xlfn.IFNA(IF($C$26="Szenario 1",INDEX('2a) Preisannahmen'!$D$4:$AC$10,MATCH('2b) Allg. Inputs'!$B34,'2a) Preisannahmen'!$B$4:$B$10,FALSE),MATCH('2b) Allg. Inputs'!L$27,'2a) Preisannahmen'!$D$3:$AC$3,FALSE)),IF($C$26="Szenario 2",INDEX('2a) Preisannahmen'!$D$13:$AC$19,MATCH('2b) Allg. Inputs'!$B34,'2a) Preisannahmen'!$B$13:$B$19,FALSE),MATCH('2b) Allg. Inputs'!L$27,'2a) Preisannahmen'!$D$12:$AC$12,FALSE)),IF($C$26="Szenario 3",INDEX('2a) Preisannahmen'!$D$22:$AC$28,MATCH('2b) Allg. Inputs'!$B34,'2a) Preisannahmen'!$B$22:$B$28,FALSE),MATCH('2b) Allg. Inputs'!L$27,'2a) Preisannahmen'!$D$21:$AC$21,FALSE)),""))),"") | ... T34: =_xlfn.IFNA(IF($C$26="Szenario 1",INDEX('2a) Preisannahmen'!$D$4:$AC$10,MATCH('2b) Allg. Inputs'!$B34,'2a) Preisannahmen'!$B$4:$B$10,FALSE),MATCH('2b) Allg. Inputs'!T$27,'2a) Preisannahmen'!$D$3:$AC$3,FALSE)),IF($C$26="Szenario 2",INDEX('2a) Preisannahmen'!$D$13:$AC$19,MATCH('2b) Allg. Inputs'!$B34,'2a) Preisannahmen'!$B$13:$B$19,FALSE),MATCH('2b) Allg. Inputs'!T$27,'2a) Preisannahmen'!$D$12:$AC$12,FALSE)),IF($C$26="Szenario 3",INDEX('2a) Preisannahmen'!$D$22:$AC$28,MATCH('2b) Allg. Inputs'!$B34,'2a) Preisannahmen'!$B$22:$B$28,FALSE),MATCH('2b) Allg. Inputs'!T$27,'2a) Preisannahmen'!$D$21:$AC$21,FALSE)),""))),"")
B35: CO2-Preis im EU-ETS | D35: EUR/t CO2-Äq. | E35: =_xlfn.IFNA(IF($C$26="Szenario 1",INDEX('2a) Preisannahmen'!$D$4:$AC$10,MATCH('2b) Allg. Inputs'!$B35,'2a) Preisannahmen'!$B$4:$B$10,FALSE),MATCH('2b) Allg. Inputs'!E$27,'2a) Preisannahmen'!$D$3:$AC$3,FALSE)),IF($C$26="Szenario 2",INDEX('2a) Preisannahmen'!$D$13:$AC$19,MATCH('2b) Allg. Inputs'!$B35,'2a) Preisannahmen'!$B$13:$B$19,FALSE),MATCH('2b) Allg. Inputs'!E$27,'2a) Preisannahmen'!$D$12:$AC$12,FALSE)),IF($C$26="Szenario 3",INDEX('2a) Preisannahmen'!$D$22:$AC$28,MATCH('2b) Allg. Inputs'!$B35,'2a) Preisannahmen'!$B$22:$B$28,FALSE),MATCH('2b) Allg. Inputs'!E$27,'2a) Preisannahmen'!$D$21:$AC$21,FALSE)),""))),"") | F35: =_xlfn.IFNA(IF($C$26="Szenario 1",INDEX('2a) Preisannahmen'!$D$4:$AC$10,MATCH('2b) Allg. Inputs'!$B35,'2a) Preisannahmen'!$B$4:$B$10,FALSE),MATCH('2b) Allg. Inputs'!F$27,'2a) Preisannahmen'!$D$3:$AC$3,FALSE)),IF($C$26="Szenario 2",INDEX('2a) Preisannahmen'!$D$13:$AC$19,MATCH('2b) Allg. Inputs'!$B35,'2a) Preisannahmen'!$B$13:$B$19,FALSE),MATCH('2b) Allg. Inputs'!F$27,'2a) Preisannahmen'!$D$12:$AC$12,FALSE)),IF($C$26="Szenario 3",INDEX('2a) Preisannahmen'!$D$22:$AC$28,MATCH('2b) Allg. Inputs'!$B35,'2a) Preisannahmen'!$B$22:$B$28,FALSE),MATCH('2b) Allg. Inputs'!F$27,'2a) Preisannahmen'!$D$21:$AC$21,FALSE)),""))),"") | G35: =_xlfn.IFNA(IF($C$26="Szenario 1",INDEX('2a) Preisannahmen'!$D$4:$AC$10,MATCH('2b) Allg. Inputs'!$B35,'2a) Preisannahmen'!$B$4:$B$10,FALSE),MATCH('2b) Allg. Inputs'!G$27,'2a) Preisannahmen'!$D$3:$AC$3,FALSE)),IF($C$26="Szenario 2",INDEX('2a) Preisannahmen'!$D$13:$AC$19,MATCH('2b) Allg. Inputs'!$B35,'2a) Preisannahmen'!$B$13:$B$19,FALSE),MATCH('2b) Allg. Inputs'!G$27,'2a) Preisannahmen'!$D$12:$AC$12,FALSE)),IF($C$26="Szenario 3",INDEX('2a) Preisannahmen'!$D$22:$AC$28,MATCH('2b) Allg. Inputs'!$B35,'2a) Preisannahmen'!$B$22:$B$28,FALSE),MATCH('2b) Allg. Inputs'!G$27,'2a) Preisannahmen'!$D$21:$AC$21,FALSE)),""))),"") | H35: =_xlfn.IFNA(IF($C$26="Szenario 1",INDEX('2a) Preisannahmen'!$D$4:$AC$10,MATCH('2b) Allg. Inputs'!$B35,'2a) Preisannahmen'!$B$4:$B$10,FALSE),MATCH('2b) Allg. Inputs'!H$27,'2a) Preisannahmen'!$D$3:$AC$3,FALSE)),IF($C$26="Szenario 2",INDEX('2a) Preisannahmen'!$D$13:$AC$19,MATCH('2b) Allg. Inputs'!$B35,'2a) Preisannahmen'!$B$13:$B$19,FALSE),MATCH('2b) Allg. Inputs'!H$27,'2a) Preisannahmen'!$D$12:$AC$12,FALSE)),IF($C$26="Szenario 3",INDEX('2a) Preisannahmen'!$D$22:$AC$28,MATCH('2b) Allg. Inputs'!$B35,'2a) Preisannahmen'!$B$22:$B$28,FALSE),MATCH('2b) Allg. Inputs'!H$27,'2a) Preisannahmen'!$D$21:$AC$21,FALSE)),""))),"") | I35: =_xlfn.IFNA(IF($C$26="Szenario 1",INDEX('2a) Preisannahmen'!$D$4:$AC$10,MATCH('2b) Allg. Inputs'!$B35,'2a) Preisannahmen'!$B$4:$B$10,FALSE),MATCH('2b) Allg. Inputs'!I$27,'2a) Preisannahmen'!$D$3:$AC$3,FALSE)),IF($C$26="Szenario 2",INDEX('2a) Preisannahmen'!$D$13:$AC$19,MATCH('2b) Allg. Inputs'!$B35,'2a) Preisannahmen'!$B$13:$B$19,FALSE),MATCH('2b) Allg. Inputs'!I$27,'2a) Preisannahmen'!$D$12:$AC$12,FALSE)),IF($C$26="Szenario 3",INDEX('2a) Preisannahmen'!$D$22:$AC$28,MATCH('2b) Allg. Inputs'!$B35,'2a) Preisannahmen'!$B$22:$B$28,FALSE),MATCH('2b) Allg. Inputs'!I$27,'2a) Preisannahmen'!$D$21:$AC$21,FALSE)),""))),"") | J35: =_xlfn.IFNA(IF($C$26="Szenario 1",INDEX('2a) Preisannahmen'!$D$4:$AC$10,MATCH('2b) Allg. Inputs'!$B35,'2a) Preisannahmen'!$B$4:$B$10,FALSE),MATCH('2b) Allg. Inputs'!J$27,'2a) Preisannahmen'!$D$3:$AC$3,FALSE)),IF($C$26="Szenario 2",INDEX('2a) Preisannahmen'!$D$13:$AC$19,MATCH('2b) Allg. Inputs'!$B35,'2a) Preisannahmen'!$B$13:$B$19,FALSE),MATCH('2b) Allg. Inputs'!J$27,'2a) Preisannahmen'!$D$12:$AC$12,FALSE)),IF($C$26="Szenario 3",INDEX('2a) Preisannahmen'!$D$22:$AC$28,MATCH('2b) Allg. Inputs'!$B35,'2a) Preisannahmen'!$B$22:$B$28,FALSE),MATCH('2b) Allg. Inputs'!J$27,'2a) Preisannahmen'!$D$21:$AC$21,FALSE)),""))),"") | K35: =_xlfn.IFNA(IF($C$26="Szenario 1",INDEX('2a) Preisannahmen'!$D$4:$AC$10,MATCH('2b) Allg. Inputs'!$B35,'2a) Preisannahmen'!$B$4:$B$10,FALSE),MATCH('2b) Allg. Inputs'!K$27,'2a) Preisannahmen'!$D$3:$AC$3,FALSE)),IF($C$26="Szenario 2",INDEX('2a) Preisannahmen'!$D$13:$AC$19,MATCH('2b) Allg. Inputs'!$B35,'2a) Preisannahmen'!$B$13:$B$19,FALSE),MATCH('2b) Allg. Inputs'!K$27,'2a) Preisannahmen'!$D$12:$AC$12,FALSE)),IF($C$26="Szenario 3",INDEX('2a) Preisannahmen'!$D$22:$AC$28,MATCH('2b) Allg. Inputs'!$B35,'2a) Preisannahmen'!$B$22:$B$28,FALSE),MATCH('2b) Allg. Inputs'!K$27,'2a) Preisannahmen'!$D$21:$AC$21,FALSE)),""))),"") | L35: =_xlfn.IFNA(IF($C$26="Szenario 1",INDEX('2a) Preisannahmen'!$D$4:$AC$10,MATCH('2b) Allg. Inputs'!$B35,'2a) Preisannahmen'!$B$4:$B$10,FALSE),MATCH('2b) Allg. Inputs'!L$27,'2a) Preisannahmen'!$D$3:$AC$3,FALSE)),IF($C$26="Szenario 2",INDEX('2a) Preisannahmen'!$D$13:$AC$19,MATCH('2b) Allg. Inputs'!$B35,'2a) Preisannahmen'!$B$13:$B$19,FALSE),MATCH('2b) Allg. Inputs'!L$27,'2a) Preisannahmen'!$D$12:$AC$12,FALSE)),IF($C$26="Szenario 3",INDEX('2a) Preisannahmen'!$D$22:$AC$28,MATCH('2b) Allg. Inputs'!$B35,'2a) Preisannahmen'!$B$22:$B$28,FALSE),MATCH('2b) Allg. Inputs'!L$27,'2a) Preisannahmen'!$D$21:$AC$21,FALSE)),""))),"") | ... T35: =_xlfn.IFNA(IF($C$26="Szenario 1",INDEX('2a) Preisannahmen'!$D$4:$AC$10,MATCH('2b) Allg. Inputs'!$B35,'2a) Preisannahmen'!$B$4:$B$10,FALSE),MATCH('2b) Allg. Inputs'!T$27,'2a) Preisannahmen'!$D$3:$AC$3,FALSE)),IF($C$26="Szenario 2",INDEX('2a) Preisannahmen'!$D$13:$AC$19,MATCH('2b) Allg. Inputs'!$B35,'2a) Preisannahmen'!$B$13:$B$19,FALSE),MATCH('2b) Allg. Inputs'!T$27,'2a) Preisannahmen'!$D$12:$AC$12,FALSE)),IF($C$26="Szenario 3",INDEX('2a) Preisannahmen'!$D$22:$AC$28,MATCH('2b) Allg. Inputs'!$B35,'2a) Preisannahmen'!$B$22:$B$28,FALSE),MATCH('2b) Allg. Inputs'!T$27,'2a) Preisannahmen'!$D$21:$AC$21,FALSE)),""))),"")

Sheet 2c) Elektrolyseurförderung
B2: Elektrolyseanlage
B3: Wenn in Ihrem Vorhaben Wasserstoff eingesetzt wird, der durch Elektrolyseanlagen eines verbundenen Unternehmens produziert wird, beachten Sie, dass die Förderung, die für diese Elektrolyseanlagen ausgezahlt oder auf andere Weise gewährt wurde, von der Fördersumme abgezogen werden muss, um mögliche Doppelförderung zu vermeiden.
B4: Angaben zur Elektrolyseanlage
B5: Erläuterung: Für die Berechnung der Höhe des abzuziehenden Betrages für die Förderung der Elektrolyseanlage des verbundenen Unternehmens wird die Förderung für CAPEX und für den Betrieb der Elektrolyseanlage bezogen auf ihre Produktionsmenge separat betrachtet. Bitte geben Sie hier die ausgezahlte oder sonst gewährte CAPEX-Förderung für die Elektrolyseanlage sowie deren Kapazität an.
B6: Kategorie | C6: Variablenbezeichnung | D6: Einheit
B7: Ausgezahlte oder auf sonstige Weise gewährte CAPEX-Förderung für Elektrolyseanlage | C7: FElyCAPEX | D7: EUR
B8: Kapazität der Elektrolyseanlage (elektrische Leistung) | C8: PEly | D8: MWel
B9: Abzugsbetrag für im geförderten Vorhaben eingesetzten Wasserstoff je MWh, der von der geförderten Elektrolyseanlage hergestellt wurde. | C9: fElyCAPEX | D9: EUR/MWh | E9: =IFERROR(E7/(E8*IF(E10="Höherer Wert",F10,0.65)*IF(E12="Höherer Wert",F12,0.46)*E11),0) -> 0
B10: Wirkungsgrad Elektrolyseanlage bezogen auf den Heizwert | C10: ηEly | D10: MWH2/MWel | E10: Standardwert von 65%
B11: Abschreibungsdauer der Elektrolyseanlage | C11: tEly | D11: h | E11: 131472
B12: Jahresnutzungsgrad | C12: jEly | D12: - | E12: Standardwert von 46%
B15: Angaben zu Förderung im Verbund
B16: Erläuterung: Um die Angaben zur Elektrolyseurförderung korrekt zu erfassen, geben Sie bitte die Höhe der ausgezahlten oder auf sonstige Weise gewährten Förderung für den Betrieb der Elektrolyseanlage je Produktionsmenge in Euro pro Megawattstunde (EUR/MWh) an. Zudem ist die Menge des im geförderten Vorhaben eingesetzten Wasserstoffs, welcher durch die geförderte Elektrolyseanlage produziert wurde, in Megawattstunden (MWh) anzugeben.
B17: Kategorie | C17: Variablenbezeichnung | D17: Einheit
E18: =YEAR('2b) Allg. Inputs'!$C$7) -> 1900 | F18: =E18+1 -> 1901 | G18: =F18+1 -> 1902 | H18: =G18+1 -> 1903 | I18: =H18+1 -> 1904 | J18: =I18+1 -> 1905 | K18: =J18+1 -> 1906 | L18: =K18+1 -> 1907 | M18: =L18+1 -> 1908 | ... S18: =R18+1 -> 1914 | T18: =IF('4c) Berechnungen_MFS'!E114="Nein","",S18+1)
B19: Ausgezahlte oder auf sonstige Weise gewährte Förderung eines verbundenen Unternehmens des Zuwendungsempfängers für den Betrieb der Elektrolyseanlage je Produktionsmenge. | C19: fElyOPEX,t | D19: EUR/MWh
B20: Menge des im geförderten Vorhaben eingesetzten Wasserstoffs (im Abrechnungsjahr), welcher durch die geförderte Elektrolyseanlage produziert worden ist. | C20: DEly,KSVH2,t | D20: MWh
B21: Höhe des von der Zuwendung abzuziehenden Betrags bezüglich des CAPEX bezogenen Teils der Förderung. | C21: ΔFElyCAPEX,t | D21: EUR | E21: =E20*$E$9 -> 0 | F21: =F20*$E$9 -> 0 | G21: =G20*$E$9 -> 0 | H21: =H20*$E$9 -> 0 | I21: =I20*$E$9 -> 0 | J21: =J20*$E$9 -> 0 | K21: =K20*$E$9 -> 0 | L21: =L20*$E$9 -> 0 | ... T21: =T20*$E$9 -> 0
B22: Höhe des von der Zuwendung abzuziehenden Betrags bezüglich einer ausgezahlten oder auf sonstige Weise gewährten Förderung eines verbundenen Unternehmens des Zuwendungsempfängers. | C22: ΔFElyOPEX,t | D22: EUR | E22: =E19*E20 -> 0 | F22: =F19*F20 -> 0 | G22: =G19*G20 -> 0 | H22: =H19*H20 -> 0 | I22: =I19*I20 -> 0 | J22: =J19*J20 -> 0 | K22: =K19*K20 -> 0 | L22: =L19*L20 -> 0 | ... T22: =T19*T20 -> 0
B23: Förderung für im Vorhaben eingesetzten Wasserstoff, der durch geförderte Elektrolyseanlagen eines verbundenen Unternehmens hergestellt worden ist und nach Nummer 7.5 d) abzuziehen ist. | C23: ΔFEly,t | D23: EUR | E23: =E21+E22 -> 0 | F23: =F21+F22 -> 0 | G23: =G21+G22 -> 0 | H23: =H21+H22 -> 0 | I23: =I21+I22 -> 0 | J23: =J21+J22 -> 0 | K23: =K21+K22 -> 0 | L23: =L21+L22 -> 0 | ... T23: =T21+T22 -> 0

Sheet 2d) Planwerte (Anlage)
B2: Planwerte des Vorhabens
B3: Auf diesem Tabellenblatt werden die jeweilige(n) Referenz(en) ausgewählt und die entsprechenden geplanten Verbrauchsparameter des Vorhabens eingetragen. Die geplanten Verbrauchsparameter und vorhabensspezifischen Angaben können dem 2. und 3. Abschnitt des quantitativen Abfragedokuments des 1. Gebotsverfahrens entnommen werden.
B9: Referenz
B10: Parameter | C10: Referenzsystem 1 | D10: Referenzsystem 2 (optional) | E10: Referenzsystem 3 (optional) | F10: Referenzsystem 4 (optional) | G10: Referenzsystem 5 (optional) | H10: Referenzsystem 6 (optional) | I10: Referenzsystem 7 (optional)
B11: Referenz, die zur Anwendung kommt (ETS-Benchmark) | C11: - nicht ausgewählt - | D11: - nicht ausgewählt - | E11: - nicht ausgewählt - | F11: - nicht ausgewählt - | G11: - nicht ausgewählt - | H11: - nicht ausgewählt - | I11: - nicht ausgewählt -
B12: Spezifische Emissionen (t CO2-Äq./ME Produkt) | C12: =IFERROR(SUMIF('3b) Referenzsysteme'!$B$6:$B$37,'2d) Planwerte (Anlage)'!C$11,'3b) Referenzsysteme'!$J$6:$J$37),"") -> 0 | D12: =IFERROR(SUMIF('3b) Referenzsysteme'!$B$6:$B$37,'2d) Planwerte (Anlage)'!D$11,'3b) Referenzsysteme'!$J$6:$J$37),"") -> 0 | E12: =IFERROR(SUMIF('3b) Referenzsysteme'!$B$6:$B$37,'2d) Planwerte (Anlage)'!E$11,'3b) Referenzsysteme'!$J$6:$J$37),"") -> 0 | F12: =IFERROR(SUMIF('3b) Referenzsysteme'!$B$6:$B$37,'2d) Planwerte (Anlage)'!F$11,'3b) Referenzsysteme'!$J$6:$J$37),"") -> 0 | G12: =IFERROR(SUMIF('3b) Referenzsysteme'!$B$6:$B$37,'2d) Planwerte (Anlage)'!G$11,'3b) Referenzsysteme'!$J$6:$J$37),"") -> 0 | H12: =IFERROR(SUMIF('3b) Referenzsysteme'!$B$6:$B$37,'2d) Planwerte (Anlage)'!H$11,'3b) Referenzsysteme'!$J$6:$J$37),"") -> 0 | I12: =IFERROR(SUMIF('3b) Referenzsysteme'!$B$6:$B$37,'2d) Planwerte (Anlage)'!I$11,'3b) Referenzsysteme'!$J$6:$J$37),"") -> 0
B15: Produktionsmengen
B16: Jährliche Produktionsmenge je Referenzsystem | C16: Einheit | D16: Referenzsystem | E16: =YEAR('2b) Allg. Inputs'!$C$7) -> 1900 | F16: =E16+1 -> 1901 | G16: =F16+1 -> 1902 | H16: =G16+1 -> 1903 | I16: =H16+1 -> 1904 | J16: =I16+1 -> 1905 | K16: =J16+1 -> 1906 | L16: =K16+1 -> 1907 | M16: =L16+1 -> 1908 | ... R16: =Q16+1 -> 1913 | S16: =IF('4c) Berechnungen_MFS'!E114 = "Nein",R16+1, R16+1&" 1. Teil-KJ") -> 1914 | T16: =IF('4c) Berechnungen_MFS'!E114 = "Nein","", R16+1&" 2. Teil-KJ") | U16: =IF('4c) Berechnungen_MFS'!E114="Ja",R16+2,"")
B17: Geplante Produktionsmenge pro Jahr | C17: =IF(OR(C11="50: Wasserstoff",C11="51: Synthesegas", C11="Brennstoffeinsatz", C11="Wärmebereitstellung"),"ME Vorprodukt","ME Produkt") -> ME Produkt | D17: =C11 -> - nicht ausgewählt -
B18: Geplante Produktionsmenge pro Jahr | C18: =IF(OR(D11="50: Wasserstoff",D11="51: Synthesegas", D11="Brennstoffeinsatz", D11="Wärmebereitstellung"),"ME Vorprodukt","ME Produkt") -> ME Produkt | D18: =D11 -> - nicht ausgewählt -
B19: Geplante Produktionsmenge pro Jahr | C19: =IF(OR(E11="50: Wasserstoff",E11="51: Synthesegas", E11="Brennstoffeinsatz", E11="Wärmebereitstellung"),"ME Vorprodukt","ME Produkt") -> ME Produkt | D19: =E11 -> - nicht ausgewählt -
B20: Geplante Produktionsmenge pro Jahr | C20: =IF(OR(F11="50: Wasserstoff",F11="51: Synthesegas", F11="Brennstoffeinsatz", F11="Wärmebereitstellung"),"ME Vorprodukt","ME Produkt") -> ME Produkt | D20: =F11 -> - nicht ausgewählt -
B21: Geplante Produktionsmenge pro Jahr | C21: =IF(OR(G11="50: Wasserstoff",G11="51: Synthesegas", G11="Brennstoffeinsatz", G11="Wärmebereitstellung"),"ME Vorprodukt","ME Produkt") -> ME Produkt | D21: =G11 -> - nicht ausgewählt -
B22: Geplante Produktionsmenge pro Jahr | C22: =IF(OR(H11="50: Wasserstoff",H11="51: Synthesegas", H11="Brennstoffeinsatz", H11="Wärmebereitstellung"),"ME Vorprodukt","ME Produkt") -> ME Produkt | D22: =H11 -> - nicht ausgewählt -
B23: Geplante Produktionsmenge pro Jahr | C23: =IF(OR(I11="50: Wasserstoff",I11="51: Synthesegas", I11="Brennstoffeinsatz", I11="Wärmebereitstellung"),"ME Vorprodukt","ME Produkt") -> ME Produkt | D23: =I11 -> - nicht ausgewählt -
B26: Zusätzliche Angaben bei vorgelagertem Referenzsystem Wasserstoff | C26: =IF(OR(C11="50: Wasserstoff",D11="50: Wasserstoff",E11="50: Wasserstoff",F11="50: Wasserstoff",G11="50: Wasserstoff",H11="50: Wasserstoff",I11="50: Wasserstoff"),"50: Wasserstoff","")
B27: Parameter | C27: Einheit | D27: Industrieprodukt 1a | E27: Industrieprodukt 2a | F27: Industrieprodukt 3a | G27: Industrieprodukt 4a
B28: Name des Industrieprodukts | C28: -
B29: Einheit des Industrieprodukts | C29: -
B30: Prozessemissionen | C30: t CO2-Äq./ME Produkt
B31: Produktionsmenge je gefördertem Produkt | C31: Einheit | D31: Industrieprodukte (a) | E31: =YEAR('2b) Allg. Inputs'!$C$7) -> 1900 | F31: =E31+1 -> 1901 | G31: =F31+1 -> 1902 | H31: =G31+1 -> 1903 | I31: =H31+1 -> 1904 | J31: =I31+1 -> 1905 | K31: =J31+1 -> 1906 | L31: =K31+1 -> 1907 | M31: =L31+1 -> 1908 | ... R31: =Q31+1 -> 1913 | S31: =IF('4c) Berechnungen_MFS'!E114 = "Nein",R31+1, R31+1&" 1. Teil-KJ") -> 1914 | T31: =IF('4c) Berechnungen_MFS'!E114 = "Nein","", R31+1&" 2. Teil-KJ") | U31: =IF('4c) Berechnungen_MFS'!E114="Ja",R31+2,"")
B32: Geplante Produktionsmenge pro Jahr | C32: ME Produkt
B33: Spezifische Einsatzmenge Vorprodukt | C33: ME Vorprodukt / ME Produkt | E33: =IFERROR('4a) Berechnungen zu Planwerten'!E176,0) -> 0 | F33: =IFERROR('4a) Berechnungen zu Planwerten'!F176,0) -> 0 | G33: =IFERROR('4a) Berechnungen zu Planwerten'!G176,0) -> 0 | H33: =IFERROR('4a) Berechnungen zu Planwerten'!H176,0) -> 0 | I33: =IFERROR('4a) Berechnungen zu Planwerten'!I176,0) -> 0 | J33: =IFERROR('4a) Berechnungen zu Planwerten'!J176,0) -> 0 | K33: =IFERROR('4a) Berechnungen zu Planwerten'!K176,0) -> 0 | L33: =IFERROR('4a) Berechnungen zu Planwerten'!L176,0) -> 0 | ... U33: =IFERROR('4a) Berechnungen zu Planwerten'!U176,0) -> 0
B34: Geplante Produktionsmenge pro Jahr | C34: ME Produkt | D34: =IF(E28="","",E28)
B35: Spezifische Einsatzmenge Vorprodukt | C35: ME Vorprodukt / ME Produkt | E35: =IFERROR('4a) Berechnungen zu Planwerten'!E177,0) -> 0 | F35: =IFERROR('4a) Berechnungen zu Planwerten'!F177,0) -> 0 | G35: =IFERROR('4a) Berechnungen zu Planwerten'!G177,0) -> 0 | H35: =IFERROR('4a) Berechnungen zu Planwerten'!H177,0) -> 0 | I35: =IFERROR('4a) Berechnungen zu Planwerten'!I177,0) -> 0 | J35: =IFERROR('4a) Berechnungen zu Planwerten'!J177,0) -> 0 | K35: =IFERROR('4a) Berechnungen zu Planwerten'!K177,0) -> 0 | L35: =IFERROR('4a) Berechnungen zu Planwerten'!L177,0) -> 0 | ... U35: =IFERROR('4a) Berechnungen zu Planwerten'!U177,0) -> 0
B36: Geplante Produktionsmenge pro Jahr | C36: ME Produkt | D36: =IF(F28="","",F28)
B37: Spezifische Einsatzmenge Vorprodukt | C37: ME Vorprodukt / ME Produkt | E37: =IFERROR('4a) Berechnungen zu Planwerten'!E178,0) -> 0 | F37: =IFERROR('4a) Berechnungen zu Planwerten'!F178,0) -> 0 | G37: =IFERROR('4a) Berechnungen zu Planwerten'!G178,0) -> 0 | H37: =IFERROR('4a) Berechnungen zu Planwerten'!H178,0) -> 0 | I37: =IFERROR('4a) Berechnungen zu Planwerten'!I178,0) -> 0 | J37: =IFERROR('4a) Berechnungen zu Planwerten'!J178,0) -> 0 | K37: =IFERROR('4a) Berechnungen zu Planwerten'!K178,0) -> 0 | L37: =IFERROR('4a) Berechnungen zu Planwerten'!L178,0) -> 0 | ... U37: =IFERROR('4a) Berechnungen zu Planwerten'!U178,0) -> 0
B38: Geplante Produktionsmenge pro Jahr | C38: ME Produkt | D38: =IF(G28="","",G28)
B39: Spezifische Einsatzmenge Vorprodukt | C39: ME Vorprodukt / ME Produkt | E39: =IFERROR('4a) Berechnungen zu Planwerten'!E179,0) -> 0 | F39: =IFERROR('4a) Berechnungen zu Planwerten'!F179,0) -> 0 | G39: =IFERROR('4a) Berechnungen zu Planwerten'!G179,0) -> 0 | H39: =IFERROR('4a) Berechnungen zu Planwerten'!H179,0) -> 0 | I39: =IFERROR('4a) Berechnungen zu Planwerten'!I179,0) -> 0 | J39: =IFERROR('4a) Berechnungen zu Planwerten'!J179,0) -> 0 | K39: =IFERROR('4a) Berechnungen zu Planwerten'!K179,0) -> 0 | L39: =IFERROR('4a) Berechnungen zu Planwerten'!L179,0) -> 0 | ... U39: =IFERROR('4a) Berechnungen zu Planwerten'!U179,0) -> 0
B42: Zusätzliche Angaben bei vorgelagertem Referenzsystem Synthesegas | C42: =IF(OR(C11="51: Synthesegas",D11="51: Synthesegas",E11="51: Synthesegas",F11="51: Synthesegas",G11="51: Synthesegas",H11="51: Synthesegas",I11="51: Synthesegas"),"51: Synthesegas","")
B43: Parameter | C43: Einheit | D43: Industrieprodukt 1b | E43: Industrieprodukt 2b | F43: Industrieprodukt 3b | G43: Industrieprodukt 4b
B44: Name des Industrieprodukts | C44: -
B45: Einheit des Industrieprodukts | C45: -
B46: Prozessemissionen | C46: t CO2-Äq./ME Produkt
B47: Produktionsmenge je gefördertem Produkt | C47: Einheit | D47: Industrieprodukt (b) | E47: =YEAR('2b) Allg. Inputs'!$C$7) -> 1900 | F47: =E47+1 -> 1901 | G47: =F47+1 -> 1902 | H47: =G47+1 -> 1903 | I47: =H47+1 -> 1904 | J47: =I47+1 -> 1905 | K47: =J47+1 -> 1906 | L47: =K47+1 -> 1907 | M47: =L47+1 -> 1908 | ... R47: =Q47+1 -> 1913 | S47: =IF('4c) Berechnungen_MFS'!E114 = "Nein",R47+1, R47+1&" 1. Teil-KJ") -> 1914 | T47: =IF('4c) Berechnungen_MFS'!E114 = "Nein","", R47+1&" 2. Teil-KJ") | U47: =IF('4c) Berechnungen_MFS'!E114="Ja",R47+2,"")
B48: Geplante Produktionsmenge pro Jahr | C48: ME Produkt | D48: =IF(D44="","",D44)
B49: Spezifische Einsatzmenge Vorprodukt | C49: ME Vorprodukt / ME Produkt | E49: =IFERROR('4a) Berechnungen zu Planwerten'!E193,0) -> 0 | F49: =IFERROR('4a) Berechnungen zu Planwerten'!F193,0) -> 0 | G49: =IFERROR('4a) Berechnungen zu Planwerten'!G193,0) -> 0 | H49: =IFERROR('4a) Berechnungen zu Planwerten'!H193,0) -> 0 | I49: =IFERROR('4a) Berechnungen zu Planwerten'!I193,0) -> 0 | J49: =IFERROR('4a) Berechnungen zu Planwerten'!J193,0) -> 0 | K49: =IFERROR('4a) Berechnungen zu Planwerten'!K193,0) -> 0 | L49: =IFERROR('4a) Berechnungen zu Planwerten'!L193,0) -> 0 | ... U49: =IFERROR('4a) Berechnungen zu Planwerten'!U193,0) -> 0
B50: Geplante Produktionsmenge pro Jahr | C50: ME Produkt | D50: =IF(E44="","",E44)
B51: Spezifische Einsatzmenge Vorprodukt | C51: ME Vorprodukt / ME Produkt | E51: =IFERROR('4a) Berechnungen zu Planwerten'!E194,0) -> 0 | F51: =IFERROR('4a) Berechnungen zu Planwerten'!F194,0) -> 0 | G51: =IFERROR('4a) Berechnungen zu Planwerten'!G194,0) -> 0 | H51: =IFERROR('4a) Berechnungen zu Planwerten'!H194,0) -> 0 | I51: =IFERROR('4a) Berechnungen zu Planwerten'!I194,0) -> 0 | J51: =IFERROR('4a) Berechnungen zu Planwerten'!J194,0) -> 0 | K51: =IFERROR('4a) Berechnungen zu Planwerten'!K194,0) -> 0 | L51: =IFERROR('4a) Berechnungen zu Planwerten'!L194,0) -> 0 | ... U51: =IFERROR('4a) Berechnungen zu Planwerten'!U194,0) -> 0
B52: Geplante Produktionsmenge pro Jahr | C52: ME Produkt | D52: =IF(F44="","",F44)
B53: Spezifische Einsatzmenge Vorprodukt | C53: ME Vorprodukt / ME Produkt | E53: =IFERROR('4a) Berechnungen zu Planwerten'!E195,0) -> 0 | F53: =IFERROR('4a) Berechnungen zu Planwerten'!F195,0) -> 0 | G53: =IFERROR('4a) Berechnungen zu Planwerten'!G195,0) -> 0 | H53: =IFERROR('4a) Berechnungen zu Planwerten'!H195,0) -> 0 | I53: =IFERROR('4a) Berechnungen zu Planwerten'!I195,0) -> 0 | J53: =IFERROR('4a) Berechnungen zu Planwerten'!J195,0) -> 0 | K53: =IFERROR('4a) Berechnungen zu Planwerten'!K195,0) -> 0 | L53: =IFERROR('4a) Berechnungen zu Planwerten'!L195,0) -> 0 | ... U53: =IFERROR('4a) Berechnungen zu Planwerten'!U195,0) -> 0
B54: Geplante Produktionsmenge pro Jahr | C54: ME Produkt | D54: =IF(G44="","",G44)
B55: Spezifische Einsatzmenge Vorprodukt | C55: ME Vorprodukt / ME Produkt | E55: =IFERROR('4a) Berechnungen zu Planwerten'!E196,0) -> 0 | F55: =IFERROR('4a) Berechnungen zu Planwerten'!F196,0) -> 0 | G55: =IFERROR('4a) Berechnungen zu Planwerten'!G196,0) -> 0 | H55: =IFERROR('4a) Berechnungen zu Planwerten'!H196,0) -> 0 | I55: =IFERROR('4a) Berechnungen zu Planwerten'!I196,0) -> 0 | J55: =IFERROR('4a) Berechnungen zu Planwerten'!J196,0) -> 0 | K55: =IFERROR('4a) Berechnungen zu Planwerten'!K196,0) -> 0 | L55: =IFERROR('4a) Berechnungen zu Planwerten'!L196,0) -> 0 | ... U55: =IFERROR('4a) Berechnungen zu Planwerten'!U196,0) -> 0
B58: Zusätzliche Angaben bei vorgelagertem Referenzsystem Brennstoffeinsatz | C58: =IF(OR(C11="Brennstoffeinsatz",D11="Brennstoffeinsatz",E11="Brennstoffeinsatz",F11="Brennstoffeinsatz",G11="Brennstoffeinsatz",H11="Brennstoffeinsatz",I11="Brennstoffeinsatz"),"Brennstoffeinsatz","")
B59: Parameter | C59: Einheit | D59: Industrieprodukt 1c | E59: Industrieprodukt 2c | F59: Industrieprodukt 3c | G59: Industrieprodukt 4c
B60: Name des Industrieprodukts | C60: -
B61: Einheit des Industrieprodukts | C61: -
B62: Prozessemissionen | C62: t CO2-Äq./ME Produkt
B63: Produktionsmenge je gefördertem Produkt | C63: Einheit | D63: Industrieprodukt (c) | E63: =YEAR('2b) Allg. Inputs'!$C$7) -> 1900 | F63: =E63+1 -> 1901 | G63: =F63+1 -> 1902 | H63: =G63+1 -> 1903 | I63: =H63+1 -> 1904 | J63: =I63+1 -> 1905 | K63: =J63+1 -> 1906 | L63: =K63+1 -> 1907 | M63: =L63+1 -> 1908 | ... R63: =Q63+1 -> 1913 | S63: =IF('4c) Berechnungen_MFS'!E114 = "Nein",R63+1, R63+1&" 1. Teil-KJ") -> 1914 | T63: =IF('4c) Berechnungen_MFS'!E114 = "Nein","", R63+1&" 2. Teil-KJ") | U63: =IF('4c) Berechnungen_MFS'!E114="Ja",R63+2,"")
B64: Geplante Produktionsmenge pro Jahr | C64: ME Produkt | D64: =IF(D60="","",D60)
B65: Spezifische Einsatzmenge Vorprodukt | C65: ME Vorprodukt / ME Produkt | E65: =IFERROR('4a) Berechnungen zu Planwerten'!E210,0) -> 0 | F65: =IFERROR('4a) Berechnungen zu Planwerten'!F210,0) -> 0 | G65: =IFERROR('4a) Berechnungen zu Planwerten'!G210,0) -> 0 | H65: =IFERROR('4a) Berechnungen zu Planwerten'!H210,0) -> 0 | I65: =IFERROR('4a) Berechnungen zu Planwerten'!I210,0) -> 0 | J65: =IFERROR('4a) Berechnungen zu Planwerten'!J210,0) -> 0 | K65: =IFERROR('4a) Berechnungen zu Planwerten'!K210,0) -> 0 | L65: =IFERROR('4a) Berechnungen zu Planwerten'!L210,0) -> 0 | ... U65: =IFERROR('4a) Berechnungen zu Planwerten'!U210,0) -> 0
B66: Geplante Produktionsmenge pro Jahr | C66: ME Produkt | D66: =IF(E60="","",E60)
B67: Spezifische Einsatzmenge Vorprodukt | C67: ME Vorprodukt / ME Produkt | E67: =IFERROR('4a) Berechnungen zu Planwerten'!E211,0) -> 0 | F67: =IFERROR('4a) Berechnungen zu Planwerten'!F211,0) -> 0 | G67: =IFERROR('4a) Berechnungen zu Planwerten'!G211,0) -> 0 | H67: =IFERROR('4a) Berechnungen zu Planwerten'!H211,0) -> 0 | I67: =IFERROR('4a) Berechnungen zu Planwerten'!I211,0) -> 0 | J67: =IFERROR('4a) Berechnungen zu Planwerten'!J211,0) -> 0 | K67: =IFERROR('4a) Berechnungen zu Planwerten'!K211,0) -> 0 | L67: =IFERROR('4a) Berechnungen zu Planwerten'!L211,0) -> 0 | ... U67: =IFERROR('4a) Berechnungen zu Planwerten'!U211,0) -> 0
B68: Geplante Produktionsmenge pro Jahr | C68: ME Produkt | D68: =IF(F60="","",F60)
B69: Spezifische Einsatzmenge Vorprodukt | C69: ME Vorprodukt / ME Produkt | E69: =IFERROR('4a) Berechnungen zu Planwerten'!E212,0) -> 0 | F69: =IFERROR('4a) Berechnungen zu Planwerten'!F212,0) -> 0 | G69: =IFERROR('4a) Berechnungen zu Planwerten'!G212,0) -> 0 | H69: =IFERROR('4a) Berechnungen zu Planwerten'!H212,0) -> 0 | I69: =IFERROR('4a) Berechnungen zu Planwerten'!I212,0) -> 0 | J69: =IFERROR('4a) Berechnungen zu Planwerten'!J212,0) -> 0 | K69: =IFERROR('4a) Berechnungen zu Planwerten'!K212,0) -> 0 | L69: =IFERROR('4a) Berechnungen zu Planwerten'!L212,0) -> 0 | ... U69: =IFERROR('4a) Berechnungen zu Planwerten'!U212,0) -> 0
B70: Geplante Produktionsmenge pro Jahr | C70: ME Produkt | D70: =IF(G60="","",G60)
B71: Spezifische Einsatzmenge Vorprodukt | C71: ME Vorprodukt / ME Produkt | E71: =IFERROR('4a) Berechnungen zu Planwerten'!E213,0) -> 0 | F71: =IFERROR('4a) Berechnungen zu Planwerten'!F213,0) -> 0 | G71: =IFERROR('4a) Berechnungen zu Planwerten'!G213,0) -> 0 | H71: =IFERROR('4a) Berechnungen zu Planwerten'!H213,0) -> 0 | I71: =IFERROR('4a) Berechnungen zu Planwerten'!I213,0) -> 0 | J71: =IFERROR('4a) Berechnungen zu Planwerten'!J213,0) -> 0 | K71: =IFERROR('4a) Berechnungen zu Planwerten'!K213,0) -> 0 | L71: =IFERROR('4a) Berechnungen zu Planwerten'!L213,0) -> 0 | ... U71: =IFERROR('4a) Berechnungen zu Planwerten'!U213,0) -> 0
B74: Zusätzliche Angaben bei vorgelagertem Referenzsystem Wärmebereitstellung | C74: =IF(OR(C11="Wärmebereitstellung",D11="Wärmebereitstellung",E11="Wärmebereitstellung",F11="Wärmebereitstellung",G11="Wärmebereitstellung",H11="Wärmebereitstellung",I11="Wärmebereitstellung"),"Wärmebereitstellung","")
B75: Parameter | C75: Einheit | D75: Industrieprodukt 1d | E75: Industrieprodukt 2d | F75: Industrieprodukt 3d | G75: Industrieprodukt 4d
B76: Name des Industrieprodukts | C76: -
B77: Einheit des Industrieprodukts | C77: -
B78: Prozessemissionen | C78: t CO2-Äq./ME Produkt
B79: Produktionsmenge je gefördertem Produkt | C79: Einheit | D79: Industrieprodukt (d) | E79: =YEAR('2b) Allg. Inputs'!$C$7) -> 1900 | F79: =E79+1 -> 1901 | G79: =F79+1 -> 1902 | H79: =G79+1 -> 1903 | I79: =H79+1 -> 1904 | J79: =I79+1 -> 1905 | K79: =J79+1 -> 1906 | L79: =K79+1 -> 1907 | M79: =L79+1 -> 1908 | ... R79: =Q79+1 -> 1913 | S79: =IF('4c) Berechnungen_MFS'!E114 = "Nein",R79+1, R79+1&" 1. Teil-KJ") -> 1914 | T79: =IF('4c) Berechnungen_MFS'!E114 = "Nein","", R79+1&" 2. Teil-KJ") | U79: =IF('4c) Berechnungen_MFS'!E114="Ja",R79+2,"")
B80: Geplante Produktionsmenge pro Jahr | C80: ME Produkt | D80: =IF(D76="","",D76)
B81: Spezifische Einsatzmenge Vorprodukt | C81: ME Vorprodukt / ME Produkt | E81: =IFERROR('4a) Berechnungen zu Planwerten'!E227,0) -> 0 | F81: =IFERROR('4a) Berechnungen zu Planwerten'!F227,0) -> 0 | G81: =IFERROR('4a) Berechnungen zu Planwerten'!G227,0) -> 0 | H81: =IFERROR('4a) Berechnungen zu Planwerten'!H227,0) -> 0 | I81: =IFERROR('4a) Berechnungen zu Planwerten'!I227,0) -> 0 | J81: =IFERROR('4a) Berechnungen zu Planwerten'!J227,0) -> 0 | K81: =IFERROR('4a) Berechnungen zu Planwerten'!K227,0) -> 0 | L81: =IFERROR('4a) Berechnungen zu Planwerten'!L227,0) -> 0 | ... U81: =IFERROR('4a) Berechnungen zu Planwerten'!U227,0) -> 0
B82: Geplante Produktionsmenge pro Jahr | C82: ME Produkt | D82: =IF(E76="","",E76)
B83: Spezifische Einsatzmenge Vorprodukt | C83: ME Vorprodukt / ME Produkt | E83: =IFERROR('4a) Berechnungen zu Planwerten'!E228,0) -> 0 | F83: =IFERROR('4a) Berechnungen zu Planwerten'!F228,0) -> 0 | G83: =IFERROR('4a) Berechnungen zu Planwerten'!G228,0) -> 0 | H83: =IFERROR('4a) Berechnungen zu Planwerten'!H228,0) -> 0 | I83: =IFERROR('4a) Berechnungen zu Planwerten'!I228,0) -> 0 | J83: =IFERROR('4a) Berechnungen zu Planwerten'!J228,0) -> 0 | K83: =IFERROR('4a) Berechnungen zu Planwerten'!K228,0) -> 0 | L83: =IFERROR('4a) Berechnungen zu Planwerten'!L228,0) -> 0 | ... U83: =IFERROR('4a) Berechnungen zu Planwerten'!U228,0) -> 0
B84: Geplante Produktionsmenge pro Jahr | C84: ME Produkt | D84: =IF(F76="","",F76)
B85: Spezifische Einsatzmenge Vorprodukt | C85: ME Vorprodukt / ME Produkt | E85: =IFERROR('4a) Berechnungen zu Planwerten'!E229,0) -> 0 | F85: =IFERROR('4a) Berechnungen zu Planwerten'!F229,0) -> 0 | G85: =IFERROR('4a) Berechnungen zu Planwerten'!G229,0) -> 0 | H85: =IFERROR('4a) Berechnungen zu Planwerten'!H229,0) -> 0 | I85: =IFERROR('4a) Berechnungen zu Planwerten'!I229,0) -> 0 | J85: =IFERROR('4a) Berechnungen zu Planwerten'!J229,0) -> 0 | K85: =IFERROR('4a) Berechnungen zu Planwerten'!K229,0) -> 0 | L85: =IFERROR('4a) Berechnungen zu Planwerten'!L229,0) -> 0 | ... U85: =IFERROR('4a) Berechnungen zu Planwerten'!U229,0) -> 0
B86: Geplante Produktionsmenge pro Jahr | C86: ME Produkt | D86: =IF(G76="","",G76)
B87: Spezifische Einsatzmenge Vorprodukt | C87: ME Vorprodukt / ME Produkt | E87: =IFERROR('4a) Berechnungen zu Planwerten'!E230,0) -> 0 | F87: =IFERROR('4a) Berechnungen zu Planwerten'!F230,0) -> 0 | G87: =IFERROR('4a) Berechnungen zu Planwerten'!G230,0) -> 0 | H87: =IFERROR('4a) Berechnungen zu Planwerten'!H230,0) -> 0 | I87: =IFERROR('4a) Berechnungen zu Planwerten'!I230,0) -> 0 | J87: =IFERROR('4a) Berechnungen zu Planwerten'!J230,0) -> 0 | K87: =IFERROR('4a) Berechnungen zu Planwerten'!K230,0) -> 0 | L87: =IFERROR('4a) Berechnungen zu Planwerten'!L230,0) -> 0 | ... U87: =IFERROR('4a) Berechnungen zu Planwerten'!U230,0) -> 0
B90: Vorhabensspezifische absolute Angaben
B91: Absolute Energieträgerbedarfe (Heizwert Hi) für das Gesamtvorhaben | C91: Einheit | D91: Aggregatszustand / Nutzung Wasserstoffderivat | E91: =YEAR('2b) Allg. Inputs'!$C$7) -> 1900 | F91: =E91+1 -> 1901 | G91: =F91+1 -> 1902 | H91: =G91+1 -> 1903 | I91: =H91+1 -> 1904 | J91: =I91+1 -> 1905 | K91: =J91+1 -> 1906 | L91: =K91+1 -> 1907 | M91: =L91+1 -> 1908 | ... R91: =Q91+1 -> 1913 | S91: =IF('4c) Berechnungen_MFS'!E114 = "Nein",R91+1, R91+1&" 1. Teil-KJ") -> 1914 | T91: =IF('4c) Berechnungen_MFS'!E114 = "Nein","", R91+1&" 2. Teil-KJ") | U91: =IF('4c) Berechnungen_MFS'!E114="Ja",R91+2,"")
B92: Strom | C92: MWh/Jahr | D92: -
B93: Grüner Wasserstoff | C93: MWh/Jahr | D93: -
B94: CO2-armer Wasserstoff | C94: MWh/Jahr | D94: -
B95: Erdgas | C95: MWh/Jahr | D95: -
B96: Kokskohle | C96: MWh/Jahr | D96: -
B97: Kesselkohle | C97: MWh/Jahr | D97: -
B98: Biomasse (gasförmig) | C98: MWh/Jahr | D98: -
B99: Biomasse (fest/flüssig) | C99: MWh/Jahr | D99: -
C100: MWh/Jahr | D100: - nicht ausgewählt -
C101: MWh/Jahr | D101: - nicht ausgewählt -
C102: MWh/Jahr | D102: - nicht ausgewählt -
C103: MWh/Jahr | D103: - nicht ausgewählt -
C104: MWh/Jahr | D104: - nicht ausgewählt -
C105: MWh/Jahr | D105: - nicht ausgewählt -
C106: MWh/Jahr | D106: - nicht ausgewählt -
C107: MWh/Jahr | D107: - nicht ausgewählt -
C108: MWh/Jahr | D108: - nicht ausgewählt -
C109: MWh/Jahr | D109: - nicht ausgewählt -
B110: Absolute Energieträgerbedarfe (Heizwert Hi) für die Produktion von Wasserstoffderivaten | C110: Einheit | D110: - | E110: =YEAR('2b) Allg. Inputs'!$C$7) -> 1900 | F110: =E110+1 -> 1901 | G110: =F110+1 -> 1902 | H110: =G110+1 -> 1903 | I110: =H110+1 -> 1904 | J110: =I110+1 -> 1905 | K110: =J110+1 -> 1906 | L110: =K110+1 -> 1907 | M110: =L110+1 -> 1908 | ... R110: =Q110+1 -> 1913 | S110: =IF('4c) Berechnungen_MFS'!E114 = "Nein",R110+1, R110+1&" 1. Teil-KJ") -> 1914 | T110: =IF('4c) Berechnungen_MFS'!E114 = "Nein","", R110+1&" 2. Teil-KJ") | U110: =IF('4c) Berechnungen_MFS'!E114="Ja",R110+2,"")
B111: Strom für die Produktion von Wasserstoffderivaten | C111: MWh/Jahr | D111: -
B112: Grüner Wasserstoff für die Produktion von Wasserstoffderivaten | C112: MWh/Jahr | D112: -
B113: CO2-armer Wasserstoff für die Produktion von Wasserstoffderivaten | C113: MWh/Jahr | D113: -
B114: Erdgas für die Produktion von Wasserstoffderivaten | C114: MWh/Jahr | D114: -
B115: Biomasse (gasförmig) für die Produktion von Wasserstoffderivaten | C115: MWh/Jahr
B116: Biomasse (fest/flüssig) für die Produktion von Wasserstoffderivaten | C116: MWh/Jahr | D116: -
B118: Absolute Emissionen des Vorhabens | C118: Einheit | D118: - | E118: =YEAR('2b) Allg. Inputs'!$C$7) -> 1900 | F118: =E118+1 -> 1901 | G118: =F118+1 -> 1902 | H118: =G118+1 -> 1903 | I118: =H118+1 -> 1904 | J118: =I118+1 -> 1905 | K118: =J118+1 -> 1906 | L118: =K118+1 -> 1907 | M118: =L118+1 -> 1908 | ... R118: =Q118+1 -> 1913 | S118: =IF('4c) Berechnungen_MFS'!E114 = "Nein",R118+1, R118+1&" 1. Teil-KJ") -> 1914 | T118: =IF('4c) Berechnungen_MFS'!E114 = "Nein","", R118+1&" 2. Teil-KJ") | U118: =IF('4c) Berechnungen_MFS'!E114="Ja",R118+2,"")
B119: Gesamte Treibhausgasemissionen des Vorhabens | C119: t CO2-Äq./Jahr | D119: -

Sheet 2e) Realisierte Werte (Anlage)
B2: Realisierte Werte des Vorhabens
B3: Auf diesem Tabellenblatt werden die realisierten Verbrauchsparameter des Vorhabens eingetragen.
B5: Abweichung von geplanten Verbrauchsparametern
B6: Wird erwartet, dass realisierte Verbrauchsparameter von geplanten Verbrauchsparametern abweichen? | C6: Nein | F6: =IF(C6="Ja","Bitte füllen Sie dieses Tabellenblatt zu realisierten Verbrauchsparametern aus.","Bitte füllen Sie dieses Tabellenblatt nicht aus.") -> Bitte füllen Sie dieses Tabellenblatt nicht aus.
B9: Referenz
B10: Parameter | C10: Referenzsystem 1 | D10: Referenzsystem 2 (optional) | E10: Referenzsystem 3 (optional) | F10: Referenzsystem 4 (optional) | G10: Referenzsystem 5 (optional) | H10: Referenzsystem 6 (optional) | I10: Referenzsystem 7 (optional)
B11: Referenz, die zur Anwendung kommt (ETS-Benchmark) | C11: =IF($C$6="Ja",'2d) Planwerte (Anlage)'!C11,"- nicht ausgewählt -") -> - nicht ausgewählt - | D11: =IF($C$6="Ja",'2d) Planwerte (Anlage)'!D11,"- nicht ausgewählt -") -> - nicht ausgewählt - | E11: =IF($C$6="Ja",'2d) Planwerte (Anlage)'!E11,"- nicht ausgewählt -") -> - nicht ausgewählt - | F11: =IF($C$6="Ja",'2d) Planwerte (Anlage)'!F11,"- nicht ausgewählt -") -> - nicht ausgewählt - | G11: =IF($C$6="Ja",'2d) Planwerte (Anlage)'!G11,"- nicht ausgewählt -") -> - nicht ausgewählt - | H11: =IF($C$6="Ja",'2d) Planwerte (Anlage)'!H11,"- nicht ausgewählt -") -> - nicht ausgewählt - | I11: =IF($C$6="Ja",'2d) Planwerte (Anlage)'!I11,"- nicht ausgewählt -") -> - nicht ausgewählt -
B12: Spezifische Emissionen (t CO2-Äq./ME Produkt) | C12: =IF($C$6="Ja",'2d) Planwerte (Anlage)'!C12,"") | D12: =IF($C$6="Ja",'2d) Planwerte (Anlage)'!D12,"") | E12: =IF($C$6="Ja",'2d) Planwerte (Anlage)'!E12,"") | F12: =IF($C$6="Ja",'2d) Planwerte (Anlage)'!F12,"") | G12: =IF($C$6="Ja",'2d) Planwerte (Anlage)'!G12,"") | H12: =IF($C$6="Ja",'2d) Planwerte (Anlage)'!H12,"") | I12: =IF($C$6="Ja",'2d) Planwerte (Anlage)'!I12,"")
B15: Produktionsmengen
B16: Jährliche Produktionsmenge je Referenzsystem | C16: Einheit | D16: Referenzsystem | E16: =YEAR('2b) Allg. Inputs'!$C$7) -> 1900 | F16: =E16+1 -> 1901 | G16: =F16+1 -> 1902 | H16: =G16+1 -> 1903 | I16: =H16+1 -> 1904 | J16: =I16+1 -> 1905 | K16: =J16+1 -> 1906 | L16: =K16+1 -> 1907 | M16: =L16+1 -> 1908 | ... R16: =Q16+1 -> 1913 | S16: =IF('4c) Berechnungen_MFS'!E114 = "Nein",R16+1, R16+1&" 1. Teil-KJ") -> 1914 | T16: =IF('4c) Berechnungen_MFS'!E114 = "Nein","", R16+1&" 2. Teil-KJ") | U16: =IF('4c) Berechnungen_MFS'!E114="Ja",R16+2,"")
B17: Realisierte Produktionsmenge pro Jahr | C17: =IF(OR(C11="50: Wasserstoff",C11="51: Synthesegas", C11="Brennstoffeinsatz", C11="Wärmebereitstellung"),"ME Vorprodukt","ME Produkt") -> ME Produkt | D17: =C11 -> - nicht ausgewählt -
B18: Realisierte Produktionsmenge pro Jahr | C18: =IF(OR(D11="50: Wasserstoff",D11="51: Synthesegas", D11="Brennstoffeinsatz", D11="Wärmebereitstellung"),"ME Vorprodukt","ME Produkt") -> ME Produkt | D18: =D11 -> - nicht ausgewählt -
B19: Realisierte Produktionsmenge pro Jahr | C19: =IF(OR(E11="50: Wasserstoff",E11="51: Synthesegas", E11="Brennstoffeinsatz", E11="Wärmebereitstellung"),"ME Vorprodukt","ME Produkt") -> ME Produkt | D19: =E11 -> - nicht ausgewählt -
B20: Realisierte Produktionsmenge pro Jahr | C20: =IF(OR(F11="50: Wasserstoff",F11="51: Synthesegas", F11="Brennstoffeinsatz", F11="Wärmebereitstellung"),"ME Vorprodukt","ME Produkt") -> ME Produkt | D20: =F11 -> - nicht ausgewählt -
B21: Realisierte Produktionsmenge pro Jahr | C21: =IF(OR(G11="50: Wasserstoff",G11="51: Synthesegas", G11="Brennstoffeinsatz", G11="Wärmebereitstellung"),"ME Vorprodukt","ME Produkt") -> ME Produkt | D21: =G11 -> - nicht ausgewählt -
B22: Realisierte Produktionsmenge pro Jahr | C22: =IF(OR(H11="50: Wasserstoff",H11="51: Synthesegas", H11="Brennstoffeinsatz", H11="Wärmebereitstellung"),"ME Vorprodukt","ME Produkt") -> ME Produkt | D22: =H11 -> - nicht ausgewählt -
B23: Realisierte Produktionsmenge pro Jahr | C23: =IF(OR(I11="50: Wasserstoff",I11="51: Synthesegas", I11="Brennstoffeinsatz", I11="Wärmebereitstellung"),"ME Vorprodukt","ME Produkt") -> ME Produkt | D23: =I11 -> - nicht ausgewählt -
B26: Zusätzliche Angaben bei vorgelagertem Referenzsystem Wasserstoff | C26: =IF(OR(C11="50: Wasserstoff",D11="50: Wasserstoff",E11="50: Wasserstoff",F11="50: Wasserstoff",G11="50: Wasserstoff",H11="50: Wasserstoff",I11="50: Wasserstoff"),"50: Wasserstoff","")
B27: Parameter | C27: Einheit | D27: Industrieprodukt 1a | E27: Industrieprodukt 2a | F27: Industrieprodukt 3a | G27: Industrieprodukt 4a
B28: Name des Industrieprodukts | C28: - | D28: =IF($C$6="Ja",IF('2d) Planwerte (Anlage)'!D28="", "", '2d) Planwerte (Anlage)'!D28),"") | E28: =IF($C$6="Ja",IF('2d) Planwerte (Anlage)'!E28="", "", '2d) Planwerte (Anlage)'!E28),"") | F28: =IF($C$6="Ja",IF('2d) Planwerte (Anlage)'!F28="", "", '2d) Planwerte (Anlage)'!F28),"") | G28: =IF($C$6="Ja",IF('2d) Planwerte (Anlage)'!G28="", "", '2d) Planwerte (Anlage)'!G28),"")
B29: Einheit des Industrieprodukts | C29: - | D29: =IF($C$6="Ja",IF('2d) Planwerte (Anlage)'!D29="","",'2d) Planwerte (Anlage)'!D29),"") | E29: =IF($C$6="Ja",IF('2d) Planwerte (Anlage)'!E29="","",'2d) Planwerte (Anlage)'!E29),"") | F29: =IF($C$6="Ja",IF('2d) Planwerte (Anlage)'!F29="","",'2d) Planwerte (Anlage)'!F29),"") | G29: =IF($C$6="Ja",IF('2d) Planwerte (Anlage)'!G29="","",'2d) Planwerte (Anlage)'!G29),"")
B30: Prozessemissionen | C30: t CO2-Äq./ME Produkt | D30: =IF($C$6="Ja",IF('2d) Planwerte (Anlage)'!D30="","",'2d) Planwerte (Anlage)'!D30),"") | E30: =IF($C$6="Ja",IF('2d) Planwerte (Anlage)'!E30="","",'2d) Planwerte (Anlage)'!E30),"") | F30: =IF($C$6="Ja",IF('2d) Planwerte (Anlage)'!F30="","",'2d) Planwerte (Anlage)'!F30),"") | G30: =IF($C$6="Ja",IF('2d) Planwerte (Anlage)'!G30="","",'2d) Planwerte (Anlage)'!G30),"")
B31: Produktionsmenge je gefördertem Produkt | C31: Einheit | D31: Industrieprodukte (a) | E31: =YEAR('2b) Allg. Inputs'!$C$7) -> 1900 | F31: =E31+1 -> 1901 | G31: =F31+1 -> 1902 | H31: =G31+1 -> 1903 | I31: =H31+1 -> 1904 | J31: =I31+1 -> 1905 | K31: =J31+1 -> 1906 | L31: =K31+1 -> 1907 | M31: =L31+1 -> 1908 | ... R31: =Q31+1 -> 1913 | S31: =IF('4c) Berechnungen_MFS'!E114 = "Nein",R31+1, R31+1&" 1. Teil-KJ") -> 1914 | T31: =IF('4c) Berechnungen_MFS'!E114 = "Nein","", R31+1&" 2. Teil-KJ") | U31: =IF('4c) Berechnungen_MFS'!E114="Ja",R31+2,"")
B32: Realisierte Produktionsmenge pro Jahr | C32: ME Produkt | D32: =IF(D28="","",D28)
B33: Spezifische Einsatzmenge Vorprodukt | C33: ME Vorprodukt / ME Produkt | E33: =IFERROR('4a) Berechnungen zu Planwerten'!E176,0) -> 0 | F33: =IFERROR('4a) Berechnungen zu Planwerten'!F176,0) -> 0 | G33: =IFERROR('4a) Berechnungen zu Planwerten'!G176,0) -> 0 | H33: =IFERROR('4a) Berechnungen zu Planwerten'!H176,0) -> 0 | I33: =IFERROR('4a) Berechnungen zu Planwerten'!I176,0) -> 0 | J33: =IFERROR('4a) Berechnungen zu Planwerten'!J176,0) -> 0 | K33: =IFERROR('4a) Berechnungen zu Planwerten'!K176,0) -> 0 | L33: =IFERROR('4a) Berechnungen zu Planwerten'!L176,0) -> 0 | ... U33: =IFERROR('4a) Berechnungen zu Planwerten'!U176,0) -> 0
B34: Realisierte Produktionsmenge pro Jahr | C34: ME Produkt | D34: =IF(E28="","",E28)
B35: Spezifische Einsatzmenge Vorprodukt | C35: ME Vorprodukt / ME Produkt | E35: =IFERROR('4a) Berechnungen zu Planwerten'!E177,0) -> 0 | F35: =IFERROR('4a) Berechnungen zu Planwerten'!F177,0) -> 0 | G35: =IFERROR('4a) Berechnungen zu Planwerten'!G177,0) -> 0 | H35: =IFERROR('4a) Berechnungen zu Planwerten'!H177,0) -> 0 | I35: =IFERROR('4a) Berechnungen zu Planwerten'!I177,0) -> 0 | J35: =IFERROR('4a) Berechnungen zu Planwerten'!J177,0) -> 0 | K35: =IFERROR('4a) Berechnungen zu Planwerten'!K177,0) -> 0 | L35: =IFERROR('4a) Berechnungen zu Planwerten'!L177,0) -> 0 | ... U35: =IFERROR('4a) Berechnungen zu Planwerten'!U177,0) -> 0
B36: Realisierte Produktionsmenge pro Jahr | C36: ME Produkt | D36: =IF(F28="","",F28)
B37: Spezifische Einsatzmenge Vorprodukt | C37: ME Vorprodukt / ME Produkt | E37: =IFERROR('4a) Berechnungen zu Planwerten'!E178,0) -> 0 | F37: =IFERROR('4a) Berechnungen zu Planwerten'!F178,0) -> 0 | G37: =IFERROR('4a) Berechnungen zu Planwerten'!G178,0) -> 0 | H37: =IFERROR('4a) Berechnungen zu Planwerten'!H178,0) -> 0 | I37: =IFERROR('4a) Berechnungen zu Planwerten'!I178,0) -> 0 | J37: =IFERROR('4a) Berechnungen zu Planwerten'!J178,0) -> 0 | K37: =IFERROR('4a) Berechnungen zu Planwerten'!K178,0) -> 0 | L37: =IFERROR('4a) Berechnungen zu Planwerten'!L178,0) -> 0 | ... U37: =IFERROR('4a) Berechnungen zu Planwerten'!U178,0) -> 0
B38: Realisierte Produktionsmenge pro Jahr | C38: ME Produkt | D38: =IF(G28="","",G28)
B39: Spezifische Einsatzmenge Vorprodukt | C39: ME Vorprodukt / ME Produkt | E39: =IFERROR('4a) Berechnungen zu Planwerten'!E179,0) -> 0 | F39: =IFERROR('4a) Berechnungen zu Planwerten'!F179,0) -> 0 | G39: =IFERROR('4a) Berechnungen zu Planwerten'!G179,0) -> 0 | H39: =IFERROR('4a) Berechnungen zu Planwerten'!H179,0) -> 0 | I39: =IFERROR('4a) Berechnungen zu Planwerten'!I179,0) -> 0 | J39: =IFERROR('4a) Berechnungen zu Planwerten'!J179,0) -> 0 | K39: =IFERROR('4a) Berechnungen zu Planwerten'!K179,0) -> 0 | L39: =IFERROR('4a) Berechnungen zu Planwerten'!L179,0) -> 0 | ... U39: =IFERROR('4a) Berechnungen zu Planwerten'!U179,0) -> 0
B42: Zusätzliche Angaben bei vorgelagertem Referenzsystem Synthesegas | C42: =IF(OR(C11="51: Synthesegas",D11="51: Synthesegas",E11="51: Synthesegas",F11="51: Synthesegas",G11="51: Synthesegas",H11="51: Synthesegas",I11="51: Synthesegas"),"51: Synthesegas","")
B43: Parameter | C43: Einheit | D43: Industrieprodukt 1b | E43: Industrieprodukt 2b | F43: Industrieprodukt 3b | G43: Industrieprodukt 4b
B44: Name des Industrieprodukts | C44: - | D44: =IF($C$6="Ja",IF('2d) Planwerte (Anlage)'!D44="", "", '2d) Planwerte (Anlage)'!D44),"") | E44: =IF($C$6="Ja",IF('2d) Planwerte (Anlage)'!E44="", "", '2d) Planwerte (Anlage)'!E44),"") | F44: =IF($C$6="Ja",IF('2d) Planwerte (Anlage)'!F44="", "", '2d) Planwerte (Anlage)'!F44),"") | G44: =IF($C$6="Ja",IF('2d) Planwerte (Anlage)'!G44="", "", '2d) Planwerte (Anlage)'!G44),"")
B45: Einheit des Industrieprodukts | C45: - | D45: =IF($C$6="Ja",IF('2d) Planwerte (Anlage)'!D45="","",'2d) Planwerte (Anlage)'!D45),"") | E45: =IF($C$6="Ja",IF('2d) Planwerte (Anlage)'!E45="","",'2d) Planwerte (Anlage)'!E45),"") | F45: =IF($C$6="Ja",IF('2d) Planwerte (Anlage)'!F45="","",'2d) Planwerte (Anlage)'!F45),"") | G45: =IF($C$6="Ja",IF('2d) Planwerte (Anlage)'!G45="","",'2d) Planwerte (Anlage)'!G45),"")
B46: Prozessemissionen | C46: t CO2-Äq./ME Produkt | D46: =IF($C$6="Ja",IF('2d) Planwerte (Anlage)'!D46="","",'2d) Planwerte (Anlage)'!D46),"") | E46: =IF($C$6="Ja",IF('2d) Planwerte (Anlage)'!E46="","",'2d) Planwerte (Anlage)'!E46),"") | F46: =IF($C$6="Ja",IF('2d) Planwerte (Anlage)'!F46="","",'2d) Planwerte (Anlage)'!F46),"") | G46: =IF($C$6="Ja",IF('2d) Planwerte (Anlage)'!G46="","",'2d) Planwerte (Anlage)'!G46),"")
B47: Produktionsmenge je gefördertem Produkt | C47: Einheit | D47: Industrieprodukt (b) | E47: =YEAR('2b) Allg. Inputs'!$C$7) -> 1900 | F47: =E47+1 -> 1901 | G47: =F47+1 -> 1902 | H47: =G47+1 -> 1903 | I47: =H47+1 -> 1904 | J47: =I47+1 -> 1905 | K47: =J47+1 -> 1906 | L47: =K47+1 -> 1907 | M47: =L47+1 -> 1908 | ... R47: =Q47+1 -> 1913 | S47: =IF('4c) Berechnungen_MFS'!E114 = "Nein",R47+1, R47+1&" 1. Teil-KJ") -> 1914 | T47: =IF('4c) Berechnungen_MFS'!E114 = "Nein","", R47+1&" 2. Teil-KJ") | U47: =IF('4c) Berechnungen_MFS'!E114="Ja",R47+2,"")
B48: Realisierte Produktionsmenge pro Jahr | C48: ME Produkt | D48: =IF(D44="","",D44)
B49: Spezifische Einsatzmenge Vorprodukt | C49: ME Vorprodukt / ME Produkt | E49: =IFERROR('4a) Berechnungen zu Planwerten'!E193,0) -> 0 | F49: =IFERROR('4a) Berechnungen zu Planwerten'!F193,0) -> 0 | G49: =IFERROR('4a) Berechnungen zu Planwerten'!G193,0) -> 0 | H49: =IFERROR('4a) Berechnungen zu Planwerten'!H193,0) -> 0 | I49: =IFERROR('4a) Berechnungen zu Planwerten'!I193,0) -> 0 | J49: =IFERROR('4a) Berechnungen zu Planwerten'!J193,0) -> 0 | K49: =IFERROR('4a) Berechnungen zu Planwerten'!K193,0) -> 0 | L49: =IFERROR('4a) Berechnungen zu Planwerten'!L193,0) -> 0 | ... U49: =IFERROR('4a) Berechnungen zu Planwerten'!U193,0) -> 0
B50: Realisierte Produktionsmenge pro Jahr | C50: ME Produkt | D50: =IF(E44="","",E44)
B51: Spezifische Einsatzmenge Vorprodukt | C51: ME Vorprodukt / ME Produkt | E51: =IFERROR('4a) Berechnungen zu Planwerten'!E194,0) -> 0 | F51: =IFERROR('4a) Berechnungen zu Planwerten'!F194,0) -> 0 | G51: =IFERROR('4a) Berechnungen zu Planwerten'!G194,0) -> 0 | H51: =IFERROR('4a) Berechnungen zu Planwerten'!H194,0) -> 0 | I51: =IFERROR('4a) Berechnungen zu Planwerten'!I194,0) -> 0 | J51: =IFERROR('4a) Berechnungen zu Planwerten'!J194,0) -> 0 | K51: =IFERROR('4a) Berechnungen zu Planwerten'!K194,0) -> 0 | L51: =IFERROR('4a) Berechnungen zu Planwerten'!L194,0) -> 0 | ... U51: =IFERROR('4a) Berechnungen zu Planwerten'!U194,0) -> 0
B52: Realisierte Produktionsmenge pro Jahr | C52: ME Produkt | D52: =IF(F44="","",F44)
B53: Spezifische Einsatzmenge Vorprodukt | C53: ME Vorprodukt / ME Produkt | E53: =IFERROR('4a) Berechnungen zu Planwerten'!E195,0) -> 0 | F53: =IFERROR('4a) Berechnungen zu Planwerten'!F195,0) -> 0 | G53: =IFERROR('4a) Berechnungen zu Planwerten'!G195,0) -> 0 | H53: =IFERROR('4a) Berechnungen zu Planwerten'!H195,0) -> 0 | I53: =IFERROR('4a) Berechnungen zu Planwerten'!I195,0) -> 0 | J53: =IFERROR('4a) Berechnungen zu Planwerten'!J195,0) -> 0 | K53: =IFERROR('4a) Berechnungen zu Planwerten'!K195,0) -> 0 | L53: =IFERROR('4a) Berechnungen zu Planwerten'!L195,0) -> 0 | ... U53: =IFERROR('4a) Berechnungen zu Planwerten'!U195,0) -> 0
B54: Realisierte Produktionsmenge pro Jahr | C54: ME Produkt | D54: =IF(G44="","",G44)
B55: Spezifische Einsatzmenge Vorprodukt | C55: ME Vorprodukt / ME Produkt | E55: =IFERROR('4a) Berechnungen zu Planwerten'!E196,0) -> 0 | F55: =IFERROR('4a) Berechnungen zu Planwerten'!F196,0) -> 0 | G55: =IFERROR('4a) Berechnungen zu Planwerten'!G196,0) -> 0 | H55: =IFERROR('4a) Berechnungen zu Planwerten'!H196,0) -> 0 | I55: =IFERROR('4a) Berechnungen zu Planwerten'!I196,0) -> 0 | J55: =IFERROR('4a) Berechnungen zu Planwerten'!J196,0) -> 0 | K55: =IFERROR('4a) Berechnungen zu Planwerten'!K196,0) -> 0 | L55: =IFERROR('4a) Berechnungen zu Planwerten'!L196,0) -> 0 | ... U55: =IFERROR('4a) Berechnungen zu Planwerten'!U196,0) -> 0
B58: Zusätzliche Angaben bei vorgelagertem Referenzsystem Brennstoffeinsatz | C58: =IF(OR(C11="Brennstoffeinsatz",D11="Brennstoffeinsatz",E11="Brennstoffeinsatz",F11="Brennstoffeinsatz",G11="Brennstoffeinsatz",H11="Brennstoffeinsatz",I11="Brennstoffeinsatz"),"Brennstoffeinsatz","")
B59: Parameter | C59: Einheit | D59: Industrieprodukt 1c | E59: Industrieprodukt 2c | F59: Industrieprodukt 3c | G59: Industrieprodukt 4c
B60: Name des Industrieprodukts | C60: - | D60: =IF($C$6="Ja",IF('2d) Planwerte (Anlage)'!D60="", "", '2d) Planwerte (Anlage)'!D60),"") | E60: =IF($C$6="Ja",IF('2d) Planwerte (Anlage)'!E60="", "", '2d) Planwerte (Anlage)'!E60),"") | F60: =IF($C$6="Ja",IF('2d) Planwerte (Anlage)'!F60="", "", '2d) Planwerte (Anlage)'!F60),"") | G60: =IF($C$6="Ja",IF('2d) Planwerte (Anlage)'!G60="", "", '2d) Planwerte (Anlage)'!G60),"")
B61: Einheit des Industrieprodukts | C61: - | D61: =IF($C$6="Ja",IF('2d) Planwerte (Anlage)'!D61="","",'2d) Planwerte (Anlage)'!D61),"") | E61: =IF($C$6="Ja",IF('2d) Planwerte (Anlage)'!E61="","",'2d) Planwerte (Anlage)'!E61),"") | F61: =IF($C$6="Ja",IF('2d) Planwerte (Anlage)'!F61="","",'2d) Planwerte (Anlage)'!F61),"") | G61: =IF($C$6="Ja",IF('2d) Planwerte (Anlage)'!G61="","",'2d) Planwerte (Anlage)'!G61),"")
B62: Prozessemissionen | C62: t CO2-Äq./ME Produkt | D62: =IF($C$6="Ja",IF('2d) Planwerte (Anlage)'!D62="","",'2d) Planwerte (Anlage)'!D62),"") | E62: =IF($C$6="Ja",IF('2d) Planwerte (Anlage)'!E62="","",'2d) Planwerte (Anlage)'!E62),"") | F62: =IF($C$6="Ja",IF('2d) Planwerte (Anlage)'!F62="","",'2d) Planwerte (Anlage)'!F62),"") | G62: =IF($C$6="Ja",IF('2d) Planwerte (Anlage)'!G62="","",'2d) Planwerte (Anlage)'!G62),"")
B63: Produktionsmenge je gefördertem Produkt | C63: Einheit | D63: Industrieprodukt (c) | E63: =YEAR('2b) Allg. Inputs'!$C$7) -> 1900 | F63: =E63+1 -> 1901 | G63: =F63+1 -> 1902 | H63: =G63+1 -> 1903 | I63: =H63+1 -> 1904 | J63: =I63+1 -> 1905 | K63: =J63+1 -> 1906 | L63: =K63+1 -> 1907 | M63: =L63+1 -> 1908 | ... R63: =Q63+1 -> 1913 | S63: =IF('4c) Berechnungen_MFS'!E114 = "Nein",R63+1, R63+1&" 1. Teil-KJ") -> 1914 | T63: =IF('4c) Berechnungen_MFS'!E114 = "Nein","", R63+1&" 2. Teil-KJ") | U63: =IF('4c) Berechnungen_MFS'!E114="Ja",R63+2,"")
B64: Realisierte Produktionsmenge pro Jahr | C64: ME Produkt | D64: =IF(D60="","",D60)
B65: Spezifische Einsatzmenge Vorprodukt | C65: ME Vorprodukt / ME Produkt | E65: =IFERROR('4a) Berechnungen zu Planwerten'!E210,0) -> 0 | F65: =IFERROR('4a) Berechnungen zu Planwerten'!F210,0) -> 0 | G65: =IFERROR('4a) Berechnungen zu Planwerten'!G210,0) -> 0 | H65: =IFERROR('4a) Berechnungen zu Planwerten'!H210,0) -> 0 | I65: =IFERROR('4a) Berechnungen zu Planwerten'!I210,0) -> 0 | J65: =IFERROR('4a) Berechnungen zu Planwerten'!J210,0) -> 0 | K65: =IFERROR('4a) Berechnungen zu Planwerten'!K210,0) -> 0 | L65: =IFERROR('4a) Berechnungen zu Planwerten'!L210,0) -> 0 | ... U65: =IFERROR('4a) Berechnungen zu Planwerten'!U210,0) -> 0
B66: Realisierte Produktionsmenge pro Jahr | C66: ME Produkt | D66: =IF(E60="","",E60)
B67: Spezifische Einsatzmenge Vorprodukt | C67: ME Vorprodukt / ME Produkt | E67: =IFERROR('4a) Berechnungen zu Planwerten'!E211,0) -> 0 | F67: =IFERROR('4a) Berechnungen zu Planwerten'!F211,0) -> 0 | G67: =IFERROR('4a) Berechnungen zu Planwerten'!G211,0) -> 0 | H67: =IFERROR('4a) Berechnungen zu Planwerten'!H211,0) -> 0 | I67: =IFERROR('4a) Berechnungen zu Planwerten'!I211,0) -> 0 | J67: =IFERROR('4a) Berechnungen zu Planwerten'!J211,0) -> 0 | K67: =IFERROR('4a) Berechnungen zu Planwerten'!K211,0) -> 0 | L67: =IFERROR('4a) Berechnungen zu Planwerten'!L211,0) -> 0 | ... U67: =IFERROR('4a) Berechnungen zu Planwerten'!U211,0) -> 0
B68: Realisierte Produktionsmenge pro Jahr | C68: ME Produkt | D68: =IF(F60="","",F60)
B69: Spezifische Einsatzmenge Vorprodukt | C69: ME Vorprodukt / ME Produkt | E69: =IFERROR('4a) Berechnungen zu Planwerten'!E212,0) -> 0 | F69: =IFERROR('4a) Berechnungen zu Planwerten'!F212,0) -> 0 | G69: =IFERROR('4a) Berechnungen zu Planwerten'!G212,0) -> 0 | H69: =IFERROR('4a) Berechnungen zu Planwerten'!H212,0) -> 0 | I69: =IFERROR('4a) Berechnungen zu Planwerten'!I212,0) -> 0 | J69: =IFERROR('4a) Berechnungen zu Planwerten'!J212,0) -> 0 | K69: =IFERROR('4a) Berechnungen zu Planwerten'!K212,0) -> 0 | L69: =IFERROR('4a) Berechnungen zu Planwerten'!L212,0) -> 0 | ... U69: =IFERROR('4a) Berechnungen zu Planwerten'!U212,0) -> 0
B70: Realisierte Produktionsmenge pro Jahr | C70: ME Produkt | D70: =IF(G60="","",G60)
B71: Spezifische Einsatzmenge Vorprodukt | C71: ME Vorprodukt / ME Produkt | E71: =IFERROR('4a) Berechnungen zu Planwerten'!E213,0) -> 0 | F71: =IFERROR('4a) Berechnungen zu Planwerten'!F213,0) -> 0 | G71: =IFERROR('4a) Berechnungen zu Planwerten'!G213,0) -> 0 | H71: =IFERROR('4a) Berechnungen zu Planwerten'!H213,0) -> 0 | I71: =IFERROR('4a) Berechnungen zu Planwerten'!I213,0) -> 0 | J71: =IFERROR('4a) Berechnungen zu Planwerten'!J213,0) -> 0 | K71: =IFERROR('4a) Berechnungen zu Planwerten'!K213,0) -> 0 | L71: =IFERROR('4a) Berechnungen zu Planwerten'!L213,0) -> 0 | ... U71: =IFERROR('4a) Berechnungen zu Planwerten'!U213,0) -> 0
B74: Zusätzliche Angaben bei vorgelagertem Referenzsystem Wärmebereitstellung | C74: =IF(OR(C11="Wärmebereitstellung",D11="Wärmebereitstellung",E11="Wärmebereitstellung",F11="Wärmebereitstellung",G11="Wärmebereitstellung",H11="Wärmebereitstellung",I11="Wärmebereitstellung"),"Wärmebereitstellung","")
B75: Parameter | C75: Einheit | D75: Industrieprodukt 1d | E75: Industrieprodukt 2d | F75: Industrieprodukt 3d | G75: Industrieprodukt 4d
B76: Name des Industrieprodukts | C76: - | D76: =IF($C$6="Ja",IF('2d) Planwerte (Anlage)'!D76="", "", '2d) Planwerte (Anlage)'!D76),"") | E76: =IF($C$6="Ja",IF('2d) Planwerte (Anlage)'!E76="", "", '2d) Planwerte (Anlage)'!E76),"") | F76: =IF($C$6="Ja",IF('2d) Planwerte (Anlage)'!F76="", "", '2d) Planwerte (Anlage)'!F76),"") | G76: =IF($C$6="Ja",IF('2d) Planwerte (Anlage)'!G76="", "", '2d) Planwerte (Anlage)'!G76),"")
B77: Einheit des Industrieprodukts | C77: - | D77: =IF($C$6="Ja",IF('2d) Planwerte (Anlage)'!D77="","",'2d) Planwerte (Anlage)'!D77),"") | E77: =IF($C$6="Ja",IF('2d) Planwerte (Anlage)'!E77="","",'2d) Planwerte (Anlage)'!E77),"") | F77: =IF($C$6="Ja",IF('2d) Planwerte (Anlage)'!F77="","",'2d) Planwerte (Anlage)'!F77),"") | G77: =IF($C$6="Ja",IF('2d) Planwerte (Anlage)'!G77="","",'2d) Planwerte (Anlage)'!G77),"")
B78: Prozessemissionen | C78: t CO2-Äq./ME Produkt | D78: =IF($C$6="Ja",IF('2d) Planwerte (Anlage)'!D78="","",'2d) Planwerte (Anlage)'!D78),"") | E78: =IF($C$6="Ja",IF('2d) Planwerte (Anlage)'!E78="","",'2d) Planwerte (Anlage)'!E78),"") | F78: =IF($C$6="Ja",IF('2d) Planwerte (Anlage)'!F78="","",'2d) Planwerte (Anlage)'!F78),"") | G78: =IF($C$6="Ja",IF('2d) Planwerte (Anlage)'!G78="","",'2d) Planwerte (Anlage)'!G78),"")
B79: Produktionsmenge je gefördertem Produkt | C79: Einheit | D79: Industrieprodukt (d) | E79: =YEAR('2b) Allg. Inputs'!$C$7) -> 1900 | F79: =E79+1 -> 1901 | G79: =F79+1 -> 1902 | H79: =G79+1 -> 1903 | I79: =H79+1 -> 1904 | J79: =I79+1 -> 1905 | K79: =J79+1 -> 1906 | L79: =K79+1 -> 1907 | M79: =L79+1 -> 1908 | ... R79: =Q79+1 -> 1913 | S79: =IF('4c) Berechnungen_MFS'!E114 = "Nein",R79+1, R79+1&" 1. Teil-KJ") -> 1914 | T79: =IF('4c) Berechnungen_MFS'!E114 = "Nein","", R79+1&" 2. Teil-KJ") | U79: =IF('4c) Berechnungen_MFS'!E114="Ja",R79+2,"")
B80: Realisierte Produktionsmenge pro Jahr | C80: ME Produkt | D80: =IF(D76="","",D76)
B81: Spezifische Einsatzmenge Vorprodukt | C81: ME Vorprodukt / ME Produkt | E81: =IFERROR('4a) Berechnungen zu Planwerten'!E227,0) -> 0 | F81: =IFERROR('4a) Berechnungen zu Planwerten'!F227,0) -> 0 | G81: =IFERROR('4a) Berechnungen zu Planwerten'!G227,0) -> 0 | H81: =IFERROR('4a) Berechnungen zu Planwerten'!H227,0) -> 0 | I81: =IFERROR('4a) Berechnungen zu Planwerten'!I227,0) -> 0 | J81: =IFERROR('4a) Berechnungen zu Planwerten'!J227,0) -> 0 | K81: =IFERROR('4a) Berechnungen zu Planwerten'!K227,0) -> 0 | L81: =IFERROR('4a) Berechnungen zu Planwerten'!L227,0) -> 0 | ... U81: =IFERROR('4a) Berechnungen zu Planwerten'!U227,0) -> 0
B82: Realisierte Produktionsmenge pro Jahr | C82: ME Produkt | D82: =IF(E76="","",E76)
B83: Spezifische Einsatzmenge Vorprodukt | C83: ME Vorprodukt / ME Produkt | E83: =IFERROR('4a) Berechnungen zu Planwerten'!E228,0) -> 0 | F83: =IFERROR('4a) Berechnungen zu Planwerten'!F228,0) -> 0 | G83: =IFERROR('4a) Berechnungen zu Planwerten'!G228,0) -> 0 | H83: =IFERROR('4a) Berechnungen zu Planwerten'!H228,0) -> 0 | I83: =IFERROR('4a) Berechnungen zu Planwerten'!I228,0) -> 0 | J83: =IFERROR('4a) Berechnungen zu Planwerten'!J228,0) -> 0 | K83: =IFERROR('4a) Berechnungen zu Planwerten'!K228,0) -> 0 | L83: =IFERROR('4a) Berechnungen zu Planwerten'!L228,0) -> 0 | ... U83: =IFERROR('4a) Berechnungen zu Planwerten'!U228,0) -> 0
B84: Realisierte Produktionsmenge pro Jahr | C84: ME Produkt | D84: =IF(F76="","",F76)
B85: Spezifische Einsatzmenge Vorprodukt | C85: ME Vorprodukt / ME Produkt | E85: =IFERROR('4a) Berechnungen zu Planwerten'!E229,0) -> 0 | F85: =IFERROR('4a) Berechnungen zu Planwerten'!F229,0) -> 0 | G85: =IFERROR('4a) Berechnungen zu Planwerten'!G229,0) -> 0 | H85: =IFERROR('4a) Berechnungen zu Planwerten'!H229,0) -> 0 | I85: =IFERROR('4a) Berechnungen zu Planwerten'!I229,0) -> 0 | J85: =IFERROR('4a) Berechnungen zu Planwerten'!J229,0) -> 0 | K85: =IFERROR('4a) Berechnungen zu Planwerten'!K229,0) -> 0 | L85: =IFERROR('4a) Berechnungen zu Planwerten'!L229,0) -> 0 | ... U85: =IFERROR('4a) Berechnungen zu Planwerten'!U229,0) -> 0
B86: Realisierte Produktionsmenge pro Jahr | C86: ME Produkt | D86: =IF(G76="","",G76)
B87: Spezifische Einsatzmenge Vorprodukt | C87: ME Vorprodukt / ME Produkt | E87: =IFERROR('4a) Berechnungen zu Planwerten'!E230,0) -> 0 | F87: =IFERROR('4a) Berechnungen zu Planwerten'!F230,0) -> 0 | G87: =IFERROR('4a) Berechnungen zu Planwerten'!G230,0) -> 0 | H87: =IFERROR('4a) Berechnungen zu Planwerten'!H230,0) -> 0 | I87: =IFERROR('4a) Berechnungen zu Planwerten'!I230,0) -> 0 | J87: =IFERROR('4a) Berechnungen zu Planwerten'!J230,0) -> 0 | K87: =IFERROR('4a) Berechnungen zu Planwerten'!K230,0) -> 0 | L87: =IFERROR('4a) Berechnungen zu Planwerten'!L230,0) -> 0 | ... U87: =IFERROR('4a) Berechnungen zu Planwerten'!U230,0) -> 0
B90: Vorhabensspezifische absolute Angaben
B91: Realisierte absolute Energieträgerbedarfe (Heizwert Hi) für das Gesamtvorhaben | C91: Einheit | D91: Aggregatszustand / Nutzung Wasserstoffderivat | E91: =YEAR('2b) Allg. Inputs'!$C$7) -> 1900 | F91: =E91+1 -> 1901 | G91: =F91+1 -> 1902 | H91: =G91+1 -> 1903 | I91: =H91+1 -> 1904 | J91: =I91+1 -> 1905 | K91: =J91+1 -> 1906 | L91: =K91+1 -> 1907 | M91: =L91+1 -> 1908 | ... R91: =Q91+1 -> 1913 | S91: =IF('4c) Berechnungen_MFS'!E114 = "Nein",R91+1, R91+1&" 1. Teil-KJ") -> 1914 | T91: =IF('4c) Berechnungen_MFS'!E114 = "Nein","", R91+1&" 2. Teil-KJ") | U91: =IF('4c) Berechnungen_MFS'!E114="Ja",R91+2,"")
B92: Strom | C92: MWh/Jahr | D92: -
B93: Grüner Wasserstoff | C93: MWh/Jahr | D93: -
B94: CO2-armer Wasserstoff | C94: MWh/Jahr | D94: -
B95: Erdgas | C95: MWh/Jahr | D95: -
B96: Kokskohle | C96: MWh/Jahr | D96: -
B97: Kesselkohle | C97: MWh/Jahr | D97: -
B98: Biomasse (gasförmig) | C98: MWh/Jahr | D98: -
B99: Biomasse (fest/flüssig) | C99: MWh/Jahr | D99: -
C100: MWh/Jahr | D100: - nicht ausgewählt -
C101: MWh/Jahr | D101: - nicht ausgewählt -
C102: MWh/Jahr | D102: - nicht ausgewählt -
C103: MWh/Jahr | D103: - nicht ausgewählt -
C104: MWh/Jahr | D104: - nicht ausgewählt -
C105: MWh/Jahr | D105: - nicht ausgewählt -
C106: MWh/Jahr | D106: - nicht ausgewählt -
C107: MWh/Jahr | D107: - nicht ausgewählt -
C108: MWh/Jahr | D108: - nicht ausgewählt -
C109: MWh/Jahr | D109: - nicht ausgewählt -
B110: Realisierte absolute Energieträgerbedarfe (Heizwert Hi) für die Produktion von Wasserstoffderivaten | C110: Einheit | D110: - | E110: =YEAR('2b) Allg. Inputs'!$C$7) -> 1900 | F110: =E110+1 -> 1901 | G110: =F110+1 -> 1902 | H110: =G110+1 -> 1903 | I110: =H110+1 -> 1904 | J110: =I110+1 -> 1905 | K110: =J110+1 -> 1906 | L110: =K110+1 -> 1907 | M110: =L110+1 -> 1908 | ... R110: =Q110+1 -> 1913 | S110: =IF('4c) Berechnungen_MFS'!E114 = "Nein",R110+1, R110+1&" 1. Teil-KJ") -> 1914 | T110: =IF('4c) Berechnungen_MFS'!E114 = "Nein","", R110+1&" 2. Teil-KJ") | U110: =IF('4c) Berechnungen_MFS'!E114="Ja",R110+2,"")
B111: Strom für die Produktion von Wasserstoffderivaten | C111: MWh/Jahr | D111: -
B112: Grüner Wasserstoff für die Produktion von Wasserstoffderivaten | C112: MWh/Jahr | D112: -
B113: CO2-armer Wasserstoff für die Produktion von Wasserstoffderivaten | C113: MWh/Jahr | D113: -
B114: Erdgas für die Produktion von Wasserstoffderivaten | C114: MWh/Jahr | D114: -
B115: Biomasse (gasförmig) für die Produktion von Wasserstoffderivaten | C115: MWh/Jahr
B116: Biomasse (fest/flüssig) für die Produktion von Wasserstoffderivaten | C116: MWh/Jahr | D116: -
...

Sheet KSV PARAMETER >>

Sheet 3a) KSV Parameter
B2: KSV Inputs und Parameter
B3: Diese Parameter sind durch die Förderrichtline und den Förderaufruf vorgegeben und sollten nicht geändert werden.
B5: Dynamisierung | E5: Ja/nein
B6: Dynamisieren Strom | C6: Vorhaben | D6: 0 oder 1 | E6: 1
B7: Dynamisieren grüner Wasserstoff | C7: Vorhaben | D7: 0 oder 1 | E7: 1
B8: Dynamisieren CO2-armer Wasserstoff | C8: Vorhaben | D8: 0 oder 1 | E8: 1
B9: Dynamisieren Erdgas | C9: Vorhaben | D9: 0 oder 1 | E9: 0
B10: Dynamisieren Kokskohle | C10: Vorhaben | D10: 0 oder 1 | E10: 0
B11: Dynamisieren Kesselkohle | C11: Vorhaben | D11: 0 oder 1 | E11: 0
B12: Dynamisieren Strom | C12: Referenzsystem | D12: 0 oder 1 | E12: 1
B13: Dynamisieren grüner Wasserstoff | C13: Referenzsystem | D13: 0 oder 1 | E13: 1
B14: Dynamisieren CO2-armer Wasserstoff | C14: Referenzsystem | D14: 0 oder 1 | E14: 1
B15: Dynamisieren Erdgas | C15: Referenzsystem | D15: 0 oder 1 | E15: 1
B16: Dynamisieren Kokskohle | C16: Referenzsystem | D16: 0 oder 1 | E16: 1
B17: Dynamisieren Kesselkohle | C17: Referenzsystem | D17: 0 oder 1 | E17: 1
B20: Dynamisierung Faktoren
B21: Strom | C21: Vorhaben | E21: 0.9
B22: Grüner Wasserstoff | C22: Vorhaben | E22: 0.9
B23: CO2-armer Wasserstoff | C23: Vorhaben | E23: 0.9
B24: Erdgas | C24: Vorhaben | E24: 0.9
B25: Kokskohle | C25: Vorhaben | E25: 0.9
B26: Kesselkohle | C26: Vorhaben | E26: 0.9
B27: Strom | C27: Referenzsystem | E27: 0.9
B28: Grüner Wasserstoff | C28: Referenzsystem | E28: 0.9
B29: CO2-armer Wasserstoff | C29: Referenzsystem | E29: 0.9
B30: Erdgas | C30: Referenzsystem | E30: 0.9
B31: Kokskohle | C31: Referenzsystem | E31: 0.9
B32: Kesselkohle | C32: Referenzsystem | E32: 0.9
B35: Absicherungspreise | E35: 2024 | F35: =E35+1 -> 2025 | G35: =F35+1 -> 2026 | H35: =G35+1 -> 2027 | I35: =H35+1 -> 2028 | J35: =I35+1 -> 2029 | K35: =J35+1 -> 2030 | L35: =K35+1 -> 2031 | M35: =L35+1 -> 2032 | ... AE35: =AD35+1 -> 2050
B36: Absicherungspreis - CO2 Preis | C36: EUR/MWh | E36: 40 | F36: 40 | G36: 45 | H36: 50 | I36: 60 | J36: 80 | K36: 90 | L36: 100 | M36: 110 | N36: 130 | O36: 140 | P36: 150 | Q36: 160 | R36: 170 | S36: 175 | T36: 180 | U36: 180 | V36: 180 | W36: 180 | X36: 180 | Y36: 180 | Z36: 180 | AA36: 180 | AB36: 180 | AC36: 180 | AD36: 180 | AE36: 180
B37: Absicherungspreis - Strom | C37: EUR/MWh | E37: 160 | F37: 160 | G37: 125 | H37: 120 | I37: 110 | J37: 100 | K37: 86 | L37: 78 | M37: 76 | N37: 74 | O37: 72 | P37: 70 | Q37: 67 | R37: 64 | S37: 61 | T37: 55 | U37: 51 | V37: 48 | W37: 45 | X37: 45 | Y37: 45 | Z37: 45 | AA37: 45 | AB37: 45 | AC37: 45 | AD37: 45 | AE37: 45
B38: Absicherungspreis - grüner Wasserstoff | C38: EUR/MWh | E38: 300 | F38: 300 | G38: 285 | H38: 270 | I38: 240 | J38: 210 | K38: 195 | L38: 186.9 | M38: 179.1 | N38: 171 | O38: 162.9 | P38: 155.1 | Q38: 147 | R38: 138.9 | S38: 131.1 | T38: 123 | U38: 114.9 | V38: 107.1 | W38: 99 | X38: 90.9 | Y38: 83.1 | Z38: 75 | AA38: 75 | AB38: 75 | AC38: 75 | AD38: 75 | AE38: 75
B39: Absicherungspreis - CO2-armer Wasserstoff | C39: EUR/MWh | E39: 300 | F39: 300 | G39: 285 | H39: 270 | I39: 240 | J39: 210 | K39: 195 | L39: 186.9 | M39: 179.1 | N39: 171 | O39: 162.9 | P39: 155.1 | Q39: 147 | R39: 138.9 | S39: 131.1 | T39: 123 | U39: 114.9 | V39: 107.1 | W39: 99 | X39: 90.9 | Y39: 83.1 | Z39: 75 | AA39: 75 | AB39: 75 | AC39: 75 | AD39: 75 | AE39: 75
B40: Absicherungspreis - Erdgas | C40: EUR/MWh | E40: 60 | F40: 60 | G40: 55 | H40: 52 | I40: 49 | J40: 45 | K40: 40 | L40: 37 | M40: 36 | N40: 34.5 | O40: 33 | P40: 31 | Q40: 30 | R40: 28.5 | S40: 27 | T40: 26 | U40: 25 | V40: 25 | W40: 25 | X40: 25 | Y40: 25 | Z40: 25 | AA40: 25 | AB40: 25 | AC40: 25 | AD40: 25 | AE40: 25
B41: Absicherungspreis - Kokskohle | C41: EUR/MWh | E41: 73.76 | F41: 64.54 | G41: 59.01 | H41: 55.32 | I41: 51.63 | J41: 47.94 | K41: 46.1 | L41: 44.26 | M41: 42.41 | N41: 40.57 | O41: 38.72 | P41: 36.88 | Q41: 35.04 | R41: 33.19 | S41: 31.35 | T41: 29.5 | U41: 27.66 | V41: 23.97 | W41: 23.97 | X41: 23.97 | Y41: 23.97 | Z41: 23.97 | AA41: 23.97 | AB41: 23.97 | AC41: 23.97 | AD41: 23.97 | AE41: 23.97
B42: Absicherungspreis - Kesselkohle | C42: EUR/MWh | E42: 40 | F42: 35 | G42: 32 | H42: 30 | I42: 28 | J42: 26 | K42: 25 | L42: 24 | M42: 23 | N42: 22 | O42: 21 | P42: 20 | Q42: 19 | R42: 18 | S42: 17 | T42: 16 | U42: 15 | V42: 13 | W42: 13 | X42: 13 | Y42: 13 | Z42: 13 | AA42: 13 | AB42: 13 | AC42: 13 | AD42: 13 | AE42: 13
B43: Faktor zur Bestimmung der max. Dynamisierungskomponente | D43: 0.5
B45: Basispreise aus Förderaufruf (EUR/MWh)
B46: Strom | D46: 81
B47: Grüner Wasserstoff | D47: 145.97
B48: CO2-armer Wasserstoff | D48: 145.97
B49: Erdgas | D49: 36.74
B50: Kokskohle | D50: 31.66
B51: Kesselkohle | D51: 17.17

Sheet 3b) Referenzsysteme
B2: Referenzsysteme
B3: Energieträgereinsätze und Treibhausgasemissionen der Referenzsysteme gemäß Anhang 1 Förderaufruf
B5: Produkt | C5: Strom (MWh/ME Produkt) | D5: Wasserstoff (MWh/ME Produkt) | E5: Erdgas (MWh/ME Produkt) | F5: Kokskohle (MWh/ME Produkt) | G5: Kesselkohle (MWh/ME Produkt) | H5: Biomasse (MWh/ME Produkt) | I5: Andere (MWh/ME Produkt) | J5: THG (tCO2-Äq/ME Produkt) | K5: Aktivität unter ETS
B6: - nicht ausgewählt - | C6: 0 | D6: 0 | E6: 0 | F6: 0 | G6: 0 | H6: 0 | I6: 0 | J6: 0 | K6: 0
B7: 01: Raffinerieprodukte | C7: 0 | D7: 0 | E7: 0.11 | F7: 0 | G7: 0 | H7: 0 | I7: 0 | J7: 0.0228 | K7: 21
B8: 02-04: Primärstahl | C8: 0.1 | D8: 0 | E8: 0.67 | F8: 2.83 | G8: 0.86 | H8: 0 | I8: 0 | J8: 1.321 | K8: 22-24
B9: 05: EAF Kohlenstoffstahl | C9: 0.44 | D9: 0 | E9: 0.04 | F9: 0 | G9: 0 | H9: 0 | I9: 0 | J9: 0.05 | K9: 24
B10: 06: EAF hochlegierter Stahl | C10: 0.44 | D10: 0 | E10: 0.04 | F10: 0 | G10: 0 | H10: 0 | I10: 0 | J10: 0.103 | K10: 24
B11: 07: Eisenguss | C11: 0.56 | D11: 0 | E11: 0.04 | F11: 0 | G11: 0 | H11: 0 | I11: 0 | J11: 0.073 | K11: 25
B12: 10: Grauzementklinker | C12: 0.04 | D12: 0 | E12: 0 | F12: 0 | G12: 0.23 | H12: 0 | I12: 0.54 | J12: 0.693 | K12: 29
B13: 12: Kalk | C13: 0.02 | D13: 0 | E13: 0 | F13: 0 | G13: 0 | H13: 0.89 | I13: 0 | J13: 0.725 | K13: 30
B14: 15: Floatglas | C14: 0 | D14: 0 | E14: 1.54 | F14: 0 | G14: 0 | H14: 0 | I14: 0 | J14: 0.399 | K14: 31
B15: 16: Flaschen und Behälter aus nicht gefärbtem Glas | C15: 0.17 | D15: 0 | E15: 1.36 | F15: 0 | G15: 0 | H15: 0 | I15: 0 | J15: 0.29 | K15: 31
B16: 17: Flaschen und Behälter aus gefärbtem Glas | C16: 0.17 | D16: 0 | E16: 1.09 | F16: 0 | G16: 0 | H16: 0 | I16: 0 | J16: 0.237 | K16: 31
B17: 19: Vormauerziegel | C17: 0.08 | D17: 0 | E17: 0.4 | F17: 0 | G17: 0 | H17: 0 | I17: 0 | J17: 0.106 | K17: 32
B18: 20: Pflasterziegel | C18: 0.08 | D18: 0 | E18: 0.6 | F18: 0 | G18: 0 | H18: 0 | I18: 0 | J18: 0.146 | K18: 32
B19: 21: Dachziegel | C19: 0.06 | D19: 0 | E19: 0.47 | F19: 0 | G19: 0 | H19: 0 | I19: 0 | J19: 0.12 | K19: 32
B20: 23: Mineralwolle | C20: 0.84 | D20: 0 | E20: 0.95 | F20: 0 | G20: 0 | H20: 0 | I20: 0 | J20: 0.222 | K20: 33
... B35: 51: Synthesegas | C35: 0 | D35: 0 | E35: 7.41 | F35: 0 | G35: 0 | H35: 0 | I35: 0 | J35: 0.187 | K35: 43
B36: Brennstoffeinsatz | C36: 0 | D36: 0 | E36: 0.76 | F36: 0 | G36: 0 | H36: 0.24 | I36: 0 | J36: 0.15
B37: Wärmebereitstellung | C37: 0 | D37: 0 | E37: 0.84 | F37: 0 | G37: 0 | H37: 0.27 | I37: 0 | J37: 0.17

Sheet Berechnungen >>

Sheet 4a) Berechnungen zu Planwerten
B2: Berechnungen zu den Planwerten
B3: In diesem Tabellenblatt finden Sie Berechnungen für die Bestimmung der maximalen Fördersumme und der Auszahlung basierend auf geplanten Verbrauchsparametern.
B7: Vorhabensspezifische relative Angaben
B8: Relative Energieträgerbedarfe (Gesamtvorhaben) | C8: Einheit | E8: =YEAR('2b) Allg. Inputs'!$C$7) -> 1900 | F8: =E8+1 -> 1901 | G8: =F8+1 -> 1902 | H8: =G8+1 -> 1903 | I8: =H8+1 -> 1904 | J8: =I8+1 -> 1905 | K8: =J8+1 -> 1906 | L8: =K8+1 -> 1907 | M8: =L8+1 -> 1908 | ... R8: =Q8+1 -> 1913 | S8: =IF('4c) Berechnungen_MFS'!E114 = "Nein",R8+1, R8+1&" 1. Teil-KJ") -> 1914 | T8: =IF('4c) Berechnungen_MFS'!E114 = "Nein","", R8+1&" 2. Teil-KJ") | U8: =IF('4c) Berechnungen_MFS'!E114="Ja",R8+2,"")
B9: Strom | C9: Prozent | D9: - | E9: =IFERROR(E33/'4a) Berechnungen zu Planwerten'!E$39,0) -> 0 | F9: =IFERROR(F33/'4a) Berechnungen zu Planwerten'!F$39,0) -> 0 | G9: =IFERROR(G33/'4a) Berechnungen zu Planwerten'!G$39,0) -> 0 | H9: =IFERROR(H33/'4a) Berechnungen zu Planwerten'!H$39,0) -> 0 | I9: =IFERROR(I33/'4a) Berechnungen zu Planwerten'!I$39,0) -> 0 | J9: =IFERROR(J33/'4a) Berechnungen zu Planwerten'!J$39,0) -> 0 | K9: =IFERROR(K33/'4a) Berechnungen zu Planwerten'!K$39,0) -> 0 | L9: =IFERROR(L33/'4a) Berechnungen zu Planwerten'!L$39,0) -> 0 | ... U9: =IFERROR(U33/'4a) Berechnungen zu Planwerten'!U$39,0) -> 0
B10: Grüner Wasserstoff | C10: Prozent | D10: - | E10: =IFERROR(E34/'4a) Berechnungen zu Planwerten'!E$39,0) -> 0 | F10: =IFERROR(F34/'4a) Berechnungen zu Planwerten'!F$39,0) -> 0 | G10: =IFERROR(G34/'4a) Berechnungen zu Planwerten'!G$39,0) -> 0 | H10: =IFERROR(H34/'4a) Berechnungen zu Planwerten'!H$39,0) -> 0 | I10: =IFERROR(I34/'4a) Berechnungen zu Planwerten'!I$39,0) -> 0 | J10: =IFERROR(J34/'4a) Berechnungen zu Planwerten'!J$39,0) -> 0 | K10: =IFERROR(K34/'4a) Berechnungen zu Planwerten'!K$39,0) -> 0 | L10: =IFERROR(L34/'4a) Berechnungen zu Planwerten'!L$39,0) -> 0 | ... U10: =IFERROR(U34/'4a) Berechnungen zu Planwerten'!U$39,0) -> 0
B11: CO2-armer Wasserstoff | C11: Prozent | D11: - | E11: =IFERROR(E35/'4a) Berechnungen zu Planwerten'!E$39,0) -> 0 | F11: =IFERROR(F35/'4a) Berechnungen zu Planwerten'!F$39,0) -> 0 | G11: =IFERROR(G35/'4a) Berechnungen zu Planwerten'!G$39,0) -> 0 | H11: =IFERROR(H35/'4a) Berechnungen zu Planwerten'!H$39,0) -> 0 | I11: =IFERROR(I35/'4a) Berechnungen zu Planwerten'!I$39,0) -> 0 | J11: =IFERROR(J35/'4a) Berechnungen zu Planwerten'!J$39,0) -> 0 | K11: =IFERROR(K35/'4a) Berechnungen zu Planwerten'!K$39,0) -> 0 | L11: =IFERROR(L35/'4a) Berechnungen zu Planwerten'!L$39,0) -> 0 | ... U11: =IFERROR(U35/'4a) Berechnungen zu Planwerten'!U$39,0) -> 0
B12: Erdgas, gasförmige Biomasse und weitere gasförmige konventionelle Energieträger | C12: Prozent | D12: - | E12: =IFERROR(E36/'4a) Berechnungen zu Planwerten'!E$39,0) -> 0 | F12: =IFERROR(F36/'4a) Berechnungen zu Planwerten'!F$39,0) -> 0 | G12: =IFERROR(G36/'4a) Berechnungen zu Planwerten'!G$39,0) -> 0 | H12: =IFERROR(H36/'4a) Berechnungen zu Planwerten'!H$39,0) -> 0 | I12: =IFERROR(I36/'4a) Berechnungen zu Planwerten'!I$39,0) -> 0 | J12: =IFERROR(J36/'4a) Berechnungen zu Planwerten'!J$39,0) -> 0 | K12: =IFERROR(K36/'4a) Berechnungen zu Planwerten'!K$39,0) -> 0 | L12: =IFERROR(L36/'4a) Berechnungen zu Planwerten'!L$39,0) -> 0 | ... U12: =IFERROR(U36/'4a) Berechnungen zu Planwerten'!U$39,0) -> 0
B13: Kokskohle | C13: Prozent | D13: - | E13: =IFERROR(E37/'4a) Berechnungen zu Planwerten'!E$39,0) -> 0 | F13: =IFERROR(F37/'4a) Berechnungen zu Planwerten'!F$39,0) -> 0 | G13: =IFERROR(G37/'4a) Berechnungen zu Planwerten'!G$39,0) -> 0 | H13: =IFERROR(H37/'4a) Berechnungen zu Planwerten'!H$39,0) -> 0 | I13: =IFERROR(I37/'4a) Berechnungen zu Planwerten'!I$39,0) -> 0 | J13: =IFERROR(J37/'4a) Berechnungen zu Planwerten'!J$39,0) -> 0 | K13: =IFERROR(K37/'4a) Berechnungen zu Planwerten'!K$39,0) -> 0 | L13: =IFERROR(L37/'4a) Berechnungen zu Planwerten'!L$39,0) -> 0 | ... U13: =IFERROR(U37/'4a) Berechnungen zu Planwerten'!U$39,0) -> 0
B14: Kesselkohle, feste oder flüssige Biomasse und weitere feste und flüssige konventionelle Energieträger | C14: Prozent | D14: - | E14: =IFERROR(E38/'4a) Berechnungen zu Planwerten'!E$39,0) -> 0 | F14: =IFERROR(F38/'4a) Berechnungen zu Planwerten'!F$39,0) -> 0 | G14: =IFERROR(G38/'4a) Berechnungen zu Planwerten'!G$39,0) -> 0 | H14: =IFERROR(H38/'4a) Berechnungen zu Planwerten'!H$39,0) -> 0 | I14: =IFERROR(I38/'4a) Berechnungen zu Planwerten'!I$39,0) -> 0 | J14: =IFERROR(J38/'4a) Berechnungen zu Planwerten'!J$39,0) -> 0 | K14: =IFERROR(K38/'4a) Berechnungen zu Planwerten'!K$39,0) -> 0 | L14: =IFERROR(L38/'4a) Berechnungen zu Planwerten'!L$39,0) -> 0 | ... U14: =IFERROR(U38/'4a) Berechnungen zu Planwerten'!U$39,0) -> 0
B17: Treibhausgasemissionsminderung Vorhaben
B18: Weitere Angaben zum Vorhaben | C18: Einheit | E18: =YEAR('2b) Allg. Inputs'!$C$7) -> 1900 | F18: =E18+1 -> 1901 | G18: =F18+1 -> 1902 | H18: =G18+1 -> 1903 | I18: =H18+1 -> 1904 | J18: =I18+1 -> 1905 | K18: =J18+1 -> 1906 | L18: =K18+1 -> 1907 | M18: =L18+1 -> 1908 | ... R18: =Q18+1 -> 1913 | S18: =IF('4c) Berechnungen_MFS'!E114 = "Nein",R18+1, R18+1&" 1. Teil-KJ") -> 1914 | T18: =IF('4c) Berechnungen_MFS'!E114 = "Nein","", R18+1&" 2. Teil-KJ") | U18: =IF('4c) Berechnungen_MFS'!E114="Ja",R18+2,"")
B19: Absolute Emissionen Vorhaben | C19: t CO2-Äq. | D19: - | E19: ='2d) Planwerte (Anlage)'!E119 -> 0 | F19: ='2d) Planwerte (Anlage)'!F119 -> 0 | G19: ='2d) Planwerte (Anlage)'!G119 -> 0 | H19: ='2d) Planwerte (Anlage)'!H119 -> 0 | I19: ='2d) Planwerte (Anlage)'!I119 -> 0 | J19: ='2d) Planwerte (Anlage)'!J119 -> 0 | K19: ='2d) Planwerte (Anlage)'!K119 -> 0 | L19: ='2d) Planwerte (Anlage)'!L119 -> 0 | ... U19: ='2d) Planwerte (Anlage)'!U119 -> 0
B20: Absolute Emissionen Referenz | C20: t CO2-Äq. | D20: - | E20: =E93 -> 0 | F20: =F93 -> 0 | G20: =G93 -> 0 | H20: =H93 -> 0 | I20: =I93 -> 0 | J20: =J93 -> 0 | K20: =K93 -> 0 | L20: =L93 -> 0 | ... U20: =U93 -> 0
B21: Absolute Treibhausgasemissionsminderung | C21: t CO2-Äq. | D21: - | E21: =IF('2d) Planwerte (Anlage)'!E119="",0,E93-'2d) Planwerte (Anlage)'!E119) -> 0 | F21: =IF('2d) Planwerte (Anlage)'!F119="",0,F93-'2d) Planwerte (Anlage)'!F119) -> 0 | G21: =IF('2d) Planwerte (Anlage)'!G119="",0,G93-'2d) Planwerte (Anlage)'!G119) -> 0 | H21: =IF('2d) Planwerte (Anlage)'!H119="",0,H93-'2d) Planwerte (Anlage)'!H119) -> 0 | I21: =IF('2d) Planwerte (Anlage)'!I119="",0,I93-'2d) Planwerte (Anlage)'!I119) -> 0 | J21: =IF('2d) Planwerte (Anlage)'!J119="",0,J93-'2d) Planwerte (Anlage)'!J119) -> 0 | K21: =IF('2d) Planwerte (Anlage)'!K119="",0,K93-'2d) Planwerte (Anlage)'!K119) -> 0 | L21: =IF('2d) Planwerte (Anlage)'!L119="",0,L93-'2d) Planwerte (Anlage)'!L119) -> 0 | ... U21: =IF('2d) Planwerte (Anlage)'!U119="",0,U93-'2d) Planwerte (Anlage)'!U119) -> 0
B22: Relative Treibhausgasemissionsminderung | C22: % | D22: - | E22: =IF('2d) Planwerte (Anlage)'!E119="",0,IFERROR(E21/E93,0)) -> 0 | F22: =IF('2d) Planwerte (Anlage)'!F119="",0,IFERROR(F21/F93,0)) -> 0 | G22: =IF('2d) Planwerte (Anlage)'!G119="",0,IFERROR(G21/G93,0)) -> 0 | H22: =IF('2d) Planwerte (Anlage)'!H119="",0,IFERROR(H21/H93,0)) -> 0 | I22: =IF('2d) Planwerte (Anlage)'!I119="",0,IFERROR(I21/I93,0)) -> 0 | J22: =IF('2d) Planwerte (Anlage)'!J119="",0,IFERROR(J21/J93,0)) -> 0 | K22: =IF('2d) Planwerte (Anlage)'!K119="",0,IFERROR(K21/K93,0)) -> 0 | L22: =IF('2d) Planwerte (Anlage)'!L119="",0,IFERROR(L21/L93,0)) -> 0 | ... U22: =IF('2d) Planwerte (Anlage)'!U119="",0,IFERROR(U21/U93,0)) -> 0
B25: Wasserstoffmindestpfad
B26: Absolute Energieträgerbedarfe (Gesamtvorhaben) | C26: Einheit | E26: =YEAR('2b) Allg. Inputs'!$C$7) -> 1900 | F26: =E26+1 -> 1901 | G26: =F26+1 -> 1902 | H26: =G26+1 -> 1903 | I26: =H26+1 -> 1904 | J26: =I26+1 -> 1905 | K26: =J26+1 -> 1906 | L26: =K26+1 -> 1907 | M26: =L26+1 -> 1908 | ... R26: =Q26+1 -> 1913 | S26: =IF('4c) Berechnungen_MFS'!E114 = "Nein",R26+1, R26+1&" 1. Teil-KJ") -> 1914 | T26: =IF('4c) Berechnungen_MFS'!E114 = "Nein","", R26+1&" 2. Teil-KJ") | U26: =IF('4c) Berechnungen_MFS'!E114="Ja",R26+2,"")
B27: Wasserstoff | C27: MWh/Jahr | D27: - | E27: =E34+E35 -> 0 | F27: =F34+F35 -> 0 | G27: =G34+G35 -> 0 | H27: =H34+H35 -> 0 | I27: =I34+I35 -> 0 | J27: =J34+J35 -> 0 | K27: =K34+K35 -> 0 | L27: =L34+L35 -> 0 | ... U27: =U34+U35 -> 0
B31: Hilfstabelle I - Absolute Energieträgerbedarfe (reaggregiert)
B32: Absolute Energieträgerbedarfe (Gesamtvorhaben) | C32: Einheit | E32: =YEAR('2b) Allg. Inputs'!$C$7) -> 1900 | F32: =E32+1 -> 1901 | G32: =F32+1 -> 1902 | H32: =G32+1 -> 1903 | I32: =H32+1 -> 1904 | J32: =I32+1 -> 1905 | K32: =J32+1 -> 1906 | L32: =K32+1 -> 1907 | M32: =L32+1 -> 1908 | ... R32: =Q32+1 -> 1913 | S32: =IF('4c) Berechnungen_MFS'!E114 = "Nein",R32+1, R32+1&" 1. Teil-KJ") -> 1914 | T32: =IF('4c) Berechnungen_MFS'!E114 = "Nein","", R32+1&" 2. Teil-KJ") | U32: =IF('4c) Berechnungen_MFS'!E114="Ja",R32+2,"")
B33: Strom | C33: MWh/Jahr | D33: - | E33: ='2d) Planwerte (Anlage)'!E$92+'2d) Planwerte (Anlage)'!E$111 -> 0 | F33: ='2d) Planwerte (Anlage)'!F$92+'2d) Planwerte (Anlage)'!F$111 -> 0 | G33: ='2d) Planwerte (Anlage)'!G$92+'2d) Planwerte (Anlage)'!G$111 -> 0 | H33: ='2d) Planwerte (Anlage)'!H$92+'2d) Planwerte (Anlage)'!H$111 -> 0 | I33: ='2d) Planwerte (Anlage)'!I$92+'2d) Planwerte (Anlage)'!I$111 -> 0 | J33: ='2d) Planwerte (Anlage)'!J$92+'2d) Planwerte (Anlage)'!J$111 -> 0 | K33: ='2d) Planwerte (Anlage)'!K$92+'2d) Planwerte (Anlage)'!K$111 -> 0 | L33: ='2d) Planwerte (Anlage)'!L$92+'2d) Planwerte (Anlage)'!L$111 -> 0 | ... U33: ='2d) Planwerte (Anlage)'!U$92+'2d) Planwerte (Anlage)'!U$111 -> 0
B34: Grüner Wasserstoff | C34: MWh/Jahr | D34: - | E34: =SUMIF('2d) Planwerte (Anlage)'!$D$106:$D$107,"energetische Nutzung",'2d) Planwerte (Anlage)'!E$106:E$107)+'2d) Planwerte (Anlage)'!E$93+'2d) Planwerte (Anlage)'!E$112 -> 0 | F34: =SUMIF('2d) Planwerte (Anlage)'!$D$106:$D$107,"energetische Nutzung",'2d) Planwerte (Anlage)'!F$106:F$107)+'2d) Planwerte (Anlage)'!F$93+'2d) Planwerte (Anlage)'!F$112 -> 0 | G34: =SUMIF('2d) Planwerte (Anlage)'!$D$106:$D$107,"energetische Nutzung",'2d) Planwerte (Anlage)'!G$106:G$107)+'2d) Planwerte (Anlage)'!G$93+'2d) Planwerte (Anlage)'!G$112 -> 0 | H34: =SUMIF('2d) Planwerte (Anlage)'!$D$106:$D$107,"energetische Nutzung",'2d) Planwerte (Anlage)'!H$106:H$107)+'2d) Planwerte (Anlage)'!H$93+'2d) Planwerte (Anlage)'!H$112 -> 0 | I34: =SUMIF('2d) Planwerte (Anlage)'!$D$106:$D$107,"energetische Nutzung",'2d) Planwerte (Anlage)'!I$106:I$107)+'2d) Planwerte (Anlage)'!I$93+'2d) Planwerte (Anlage)'!I$112 -> 0 | J34: =SUMIF('2d) Planwerte (Anlage)'!$D$106:$D$107,"energetische Nutzung",'2d) Planwerte (Anlage)'!J$106:J$107)+'2d) Planwerte (Anlage)'!J$93+'2d) Planwerte (Anlage)'!J$112 -> 0 | K34: =SUMIF('2d) Planwerte (Anlage)'!$D$106:$D$107,"energetische Nutzung",'2d) Planwerte (Anlage)'!K$106:K$107)+'2d) Planwerte (Anlage)'!K$93+'2d) Planwerte (Anlage)'!K$112 -> 0 | L34: =SUMIF('2d) Planwerte (Anlage)'!$D$106:$D$107,"energetische Nutzung",'2d) Planwerte (Anlage)'!L$106:L$107)+'2d) Planwerte (Anlage)'!L$93+'2d) Planwerte (Anlage)'!L$112 -> 0 | ... U34: =SUMIF('2d) Planwerte (Anlage)'!$D$106:$D$107,"energetische Nutzung",'2d) Planwerte (Anlage)'!U$106:U$107)+'2d) Planwerte (Anlage)'!U$93+'2d) Planwerte (Anlage)'!U$112 -> 0
B35: CO2-armer Wasserstoff | C35: MWh/Jahr | D35: - | E35: =SUMIF('2d) Planwerte (Anlage)'!$D$108:$D$109,"energetische Nutzung",'2d) Planwerte (Anlage)'!E$108:E$109)+'2d) Planwerte (Anlage)'!E$94+'2d) Planwerte (Anlage)'!E$113 -> 0 | F35: =SUMIF('2d) Planwerte (Anlage)'!$D$108:$D$109,"energetische Nutzung",'2d) Planwerte (Anlage)'!F$108:F$109)+'2d) Planwerte (Anlage)'!F$94+'2d) Planwerte (Anlage)'!F$113 -> 0 | G35: =SUMIF('2d) Planwerte (Anlage)'!$D$108:$D$109,"energetische Nutzung",'2d) Planwerte (Anlage)'!G$108:G$109)+'2d) Planwerte (Anlage)'!G$94+'2d) Planwerte (Anlage)'!G$113 -> 0 | H35: =SUMIF('2d) Planwerte (Anlage)'!$D$108:$D$109,"energetische Nutzung",'2d) Planwerte (Anlage)'!H$108:H$109)+'2d) Planwerte (Anlage)'!H$94+'2d) Planwerte (Anlage)'!H$113 -> 0 | I35: =SUMIF('2d) Planwerte (Anlage)'!$D$108:$D$109,"energetische Nutzung",'2d) Planwerte (Anlage)'!I$108:I$109)+'2d) Planwerte (Anlage)'!I$94+'2d) Planwerte (Anlage)'!I$113 -> 0 | J35: =SUMIF('2d) Planwerte (Anlage)'!$D$108:$D$109,"energetische Nutzung",'2d) Planwerte (Anlage)'!J$108:J$109)+'2d) Planwerte (Anlage)'!J$94+'2d) Planwerte (Anlage)'!J$113 -> 0 | K35: =SUMIF('2d) Planwerte (Anlage)'!$D$108:$D$109,"energetische Nutzung",'2d) Planwerte (Anlage)'!K$108:K$109)+'2d) Planwerte (Anlage)'!K$94+'2d) Planwerte (Anlage)'!K$113 -> 0 | L35: =SUMIF('2d) Planwerte (Anlage)'!$D$108:$D$109,"energetische Nutzung",'2d) Planwerte (Anlage)'!L$108:L$109)+'2d) Planwerte (Anlage)'!L$94+'2d) Planwerte (Anlage)'!L$113 -> 0 | ... U35: =SUMIF('2d) Planwerte (Anlage)'!$D$108:$D$109,"energetische Nutzung",'2d) Planwerte (Anlage)'!U$108:U$109)+'2d) Planwerte (Anlage)'!U$94+'2d) Planwerte (Anlage)'!U$113 -> 0
B36: Erdgas, gasförmige Biomasse und weitere gasförmige konventionelle Energieträger | C36: MWh/Jahr | D36: - | E36: ='2d) Planwerte (Anlage)'!E$95+'2d) Planwerte (Anlage)'!E$98+SUMIF('2d) Planwerte (Anlage)'!$D$100:$D$105,"gasförmig",'2d) Planwerte (Anlage)'!E$100:E$105)+'2d) Planwerte (Anlage)'!E$114+'2d) Planwerte (Anlage)'!E$115 -> 0 | F36: ='2d) Planwerte (Anlage)'!F$95+'2d) Planwerte (Anlage)'!F$98+SUMIF('2d) Planwerte (Anlage)'!$D$100:$D$105,"gasförmig",'2d) Planwerte (Anlage)'!F$100:F$105)+'2d) Planwerte (Anlage)'!F$114+'2d) Planwerte (Anlage)'!F$115 -> 0 | G36: ='2d) Planwerte (Anlage)'!G$95+'2d) Planwerte (Anlage)'!G$98+SUMIF('2d) Planwerte (Anlage)'!$D$100:$D$105,"gasförmig",'2d) Planwerte (Anlage)'!G$100:G$105)+'2d) Planwerte (Anlage)'!G$114+'2d) Planwerte (Anlage)'!G$115 -> 0 | H36: ='2d) Planwerte (Anlage)'!H$95+'2d) Planwerte (Anlage)'!H$98+SUMIF('2d) Planwerte (Anlage)'!$D$100:$D$105,"gasförmig",'2d) Planwerte (Anlage)'!H$100:H$105)+'2d) Planwerte (Anlage)'!H$114+'2d) Planwerte (Anlage)'!H$115 -> 0 | I36: ='2d) Planwerte (Anlage)'!I$95+'2d) Planwerte (Anlage)'!I$98+SUMIF('2d) Planwerte (Anlage)'!$D$100:$D$105,"gasförmig",'2d) Planwerte (Anlage)'!I$100:I$105)+'2d) Planwerte (Anlage)'!I$114+'2d) Planwerte (Anlage)'!I$115 -> 0 | J36: ='2d) Planwerte (Anlage)'!J$95+'2d) Planwerte (Anlage)'!J$98+SUMIF('2d) Planwerte (Anlage)'!$D$100:$D$105,"gasförmig",'2d) Planwerte (Anlage)'!J$100:J$105)+'2d) Planwerte (Anlage)'!J$114+'2d) Planwerte (Anlage)'!J$115 -> 0 | K36: ='2d) Planwerte (Anlage)'!K$95+'2d) Planwerte (Anlage)'!K$98+SUMIF('2d) Planwerte (Anlage)'!$D$100:$D$105,"gasförmig",'2d) Planwerte (Anlage)'!K$100:K$105)+'2d) Planwerte (Anlage)'!K$114+'2d) Planwerte (Anlage)'!K$115 -> 0 | L36: ='2d) Planwerte (Anlage)'!L$95+'2d) Planwerte (Anlage)'!L$98+SUMIF('2d) Planwerte (Anlage)'!$D$100:$D$105,"gasförmig",'2d) Planwerte (Anlage)'!L$100:L$105)+'2d) Planwerte (Anlage)'!L$114+'2d) Planwerte (Anlage)'!L$115 -> 0 | ... U36: ='2d) Planwerte (Anlage)'!U$95+'2d) Planwerte (Anlage)'!U$98+SUMIF('2d) Planwerte (Anlage)'!$D$100:$D$105,"gasförmig",'2d) Planwerte (Anlage)'!U$100:U$105)+'2d) Planwerte (Anlage)'!U$114+'2d) Planwerte (Anlage)'!U$115 -> 0
B37: Kokskohle | C37: MWh/Jahr | D37: - | E37: ='2d) Planwerte (Anlage)'!E$96 -> 0 | F37: ='2d) Planwerte (Anlage)'!F$96 -> 0 | G37: ='2d) Planwerte (Anlage)'!G$96 -> 0 | H37: ='2d) Planwerte (Anlage)'!H$96 -> 0 | I37: ='2d) Planwerte (Anlage)'!I$96 -> 0 | J37: ='2d) Planwerte (Anlage)'!J$96 -> 0 | K37: ='2d) Planwerte (Anlage)'!K$96 -> 0 | L37: ='2d) Planwerte (Anlage)'!L$96 -> 0 | ... U37: ='2d) Planwerte (Anlage)'!U$96 -> 0
B38: Kesselkohle, feste oder flüssige Biomasse und weitere feste und flüssige konventionelle Energieträger | C38: MWh/Jahr | D38: - | E38: ='2d) Planwerte (Anlage)'!E$97+'2d) Planwerte (Anlage)'!E$99+SUMIF('2d) Planwerte (Anlage)'!$D$100:$D$105,"fest",'2d) Planwerte (Anlage)'!E$100:E$105)+SUMIF('2d) Planwerte (Anlage)'!$D$100:$D$105,"flüssig",'2d) Planwerte (Anlage)'!E$100:E$105)+'2d) Planwerte (Anlage)'!E$116 -> 0 | F38: ='2d) Planwerte (Anlage)'!F$97+'2d) Planwerte (Anlage)'!F$99+SUMIF('2d) Planwerte (Anlage)'!$D$100:$D$105,"fest",'2d) Planwerte (Anlage)'!F$100:F$105)+SUMIF('2d) Planwerte (Anlage)'!$D$100:$D$105,"flüssig",'2d) Planwerte (Anlage)'!F$100:F$105)+'2d) Planwerte (Anlage)'!F$116 -> 0 | G38: ='2d) Planwerte (Anlage)'!G$97+'2d) Planwerte (Anlage)'!G$99+SUMIF('2d) Planwerte (Anlage)'!$D$100:$D$105,"fest",'2d) Planwerte (Anlage)'!G$100:G$105)+SUMIF('2d) Planwerte (Anlage)'!$D$100:$D$105,"flüssig",'2d) Planwerte (Anlage)'!G$100:G$105)+'2d) Planwerte (Anlage)'!G$116 -> 0 | H38: ='2d) Planwerte (Anlage)'!H$97+'2d) Planwerte (Anlage)'!H$99+SUMIF('2d) Planwerte (Anlage)'!$D$100:$D$105,"fest",'2d) Planwerte (Anlage)'!H$100:H$105)+SUMIF('2d) Planwerte (Anlage)'!$D$100:$D$105,"flüssig",'2d) Planwerte (Anlage)'!H$100:H$105)+'2d) Planwerte (Anlage)'!H$116 -> 0 | I38: ='2d) Planwerte (Anlage)'!I$97+'2d) Planwerte (Anlage)'!I$99+SUMIF('2d) Planwerte (Anlage)'!$D$100:$D$105,"fest",'2d) Planwerte (Anlage)'!I$100:I$105)+SUMIF('2d) Planwerte (Anlage)'!$D$100:$D$105,"flüssig",'2d) Planwerte (Anlage)'!I$100:I$105)+'2d) Planwerte (Anlage)'!I$116 -> 0 | J38: ='2d) Planwerte (Anlage)'!J$97+'2d) Planwerte (Anlage)'!J$99+SUMIF('2d) Planwerte (Anlage)'!$D$100:$D$105,"fest",'2d) Planwerte (Anlage)'!J$100:J$105)+SUMIF('2d) Planwerte (Anlage)'!$D$100:$D$105,"flüssig",'2d) Planwerte (Anlage)'!J$100:J$105)+'2d) Planwerte (Anlage)'!J$116 -> 0 | K38: ='2d) Planwerte (Anlage)'!K$97+'2d) Planwerte (Anlage)'!K$99+SUMIF('2d) Planwerte (Anlage)'!$D$100:$D$105,"fest",'2d) Planwerte (Anlage)'!K$100:K$105)+SUMIF('2d) Planwerte (Anlage)'!$D$100:$D$105,"flüssig",'2d) Planwerte (Anlage)'!K$100:K$105)+'2d) Planwerte (Anlage)'!K$116 -> 0 | L38: ='2d) Planwerte (Anlage)'!L$97+'2d) Planwerte (Anlage)'!L$99+SUMIF('2d) Planwerte (Anlage)'!$D$100:$D$105,"fest",'2d) Planwerte (Anlage)'!L$100:L$105)+SUMIF('2d) Planwerte (Anlage)'!$D$100:$D$105,"flüssig",'2d) Planwerte (Anlage)'!L$100:L$105)+'2d) Planwerte (Anlage)'!L$116 -> 0 | ... U38: ='2d) Planwerte (Anlage)'!U$97+'2d) Planwerte (Anlage)'!U$99+SUMIF('2d) Planwerte (Anlage)'!$D$100:$D$105,"fest",'2d) Planwerte (Anlage)'!U$100:U$105)+SUMIF('2d) Planwerte (Anlage)'!$D$100:$D$105,"flüssig",'2d) Planwerte (Anlage)'!U$100:U$105)+'2d) Planwerte (Anlage)'!U$116 -> 0
B39: Gesamtenergiebedarf | C39: MWh/Jahr | D39: - | E39: =IFERROR(SUM(E33:E38),0) -> 0 | F39: =IFERROR(SUM(F33:F38),0) -> 0 | G39: =IFERROR(SUM(G33:G38),0) -> 0 | H39: =IFERROR(SUM(H33:H38),0) -> 0 | I39: =IFERROR(SUM(I33:I38),0) -> 0 | J39: =IFERROR(SUM(J33:J38),0) -> 0 | K39: =IFERROR(SUM(K33:K38),0) -> 0 | L39: =IFERROR(SUM(L33:L38),0) -> 0 | ... U39: =IFERROR(SUM(U33:U38),0) -> 0
B42: Hilfstabelle II - Absolute Energieträgerbedarfe (nicht aggregiert)
B43: Absolute Energieträgerbedarfe (Gesamtvorhaben) | C43: Einheit | E43: =YEAR('2b) Allg. Inputs'!$C$7) -> 1900 | F43: =E43+1 -> 1901 | G43: =F43+1 -> 1902 | H43: =G43+1 -> 1903 | I43: =H43+1 -> 1904 | J43: =I43+1 -> 1905 | K43: =J43+1 -> 1906 | L43: =K43+1 -> 1907 | M43: =L43+1 -> 1908 | ... R43: =Q43+1 -> 1913 | S43: =IF('4c) Berechnungen_MFS'!E114 = "Nein",R43+1, R43+1&" 1. Teil-KJ") -> 1914 | T43: =IF('4c) Berechnungen_MFS'!E114 = "Nein","", R43+1&" 2. Teil-KJ") | U43: =IF('4c) Berechnungen_MFS'!E114="Ja",R43+2,"")
B44: Strom | C44: MWh/Jahr | D44: - | E44: ='2d) Planwerte (Anlage)'!E$92+'2d) Planwerte (Anlage)'!E$111 -> 0 | F44: ='2d) Planwerte (Anlage)'!F$92+'2d) Planwerte (Anlage)'!F$111 -> 0 | G44: ='2d) Planwerte (Anlage)'!G$92+'2d) Planwerte (Anlage)'!G$111 -> 0 | H44: ='2d) Planwerte (Anlage)'!H$92+'2d) Planwerte (Anlage)'!H$111 -> 0 | I44: ='2d) Planwerte (Anlage)'!I$92+'2d) Planwerte (Anlage)'!I$111 -> 0 | J44: ='2d) Planwerte (Anlage)'!J$92+'2d) Planwerte (Anlage)'!J$111 -> 0 | K44: ='2d) Planwerte (Anlage)'!K$92+'2d) Planwerte (Anlage)'!K$111 -> 0 | L44: ='2d) Planwerte (Anlage)'!L$92+'2d) Planwerte (Anlage)'!L$111 -> 0 | ... U44: ='2d) Planwerte (Anlage)'!U$92+'2d) Planwerte (Anlage)'!U$111 -> 0
B45: Grüner Wasserstoff | C45: MWh/Jahr | D45: - | E45: ='2d) Planwerte (Anlage)'!E$93+'2d) Planwerte (Anlage)'!E$112 -> 0 | F45: ='2d) Planwerte (Anlage)'!F$93+'2d) Planwerte (Anlage)'!F$112 -> 0 | G45: ='2d) Planwerte (Anlage)'!G$93+'2d) Planwerte (Anlage)'!G$112 -> 0 | H45: ='2d) Planwerte (Anlage)'!H$93+'2d) Planwerte (Anlage)'!H$112 -> 0 | I45: ='2d) Planwerte (Anlage)'!I$93+'2d) Planwerte (Anlage)'!I$112 -> 0 | J45: ='2d) Planwerte (Anlage)'!J$93+'2d) Planwerte (Anlage)'!J$112 -> 0 | K45: ='2d) Planwerte (Anlage)'!K$93+'2d) Planwerte (Anlage)'!K$112 -> 0 | L45: ='2d) Planwerte (Anlage)'!L$93+'2d) Planwerte (Anlage)'!L$112 -> 0 | ... U45: ='2d) Planwerte (Anlage)'!U$93+'2d) Planwerte (Anlage)'!U$112 -> 0
B46: CO2-armer Wasserstoff | C46: MWh/Jahr | D46: - | E46: ='2d) Planwerte (Anlage)'!E$94+'2d) Planwerte (Anlage)'!E$113 -> 0 | F46: ='2d) Planwerte (Anlage)'!F$94+'2d) Planwerte (Anlage)'!F$113 -> 0 | G46: ='2d) Planwerte (Anlage)'!G$94+'2d) Planwerte (Anlage)'!G$113 -> 0 | H46: ='2d) Planwerte (Anlage)'!H$94+'2d) Planwerte (Anlage)'!H$113 -> 0 | I46: ='2d) Planwerte (Anlage)'!I$94+'2d) Planwerte (Anlage)'!I$113 -> 0 | J46: ='2d) Planwerte (Anlage)'!J$94+'2d) Planwerte (Anlage)'!J$113 -> 0 | K46: ='2d) Planwerte (Anlage)'!K$94+'2d) Planwerte (Anlage)'!K$113 -> 0 | L46: ='2d) Planwerte (Anlage)'!L$94+'2d) Planwerte (Anlage)'!L$113 -> 0 | ... U46: ='2d) Planwerte (Anlage)'!U$94+'2d) Planwerte (Anlage)'!U$113 -> 0
B47: Erdgas | C47: MWh/Jahr | D47: - | E47: ='2d) Planwerte (Anlage)'!E$95+'2d) Planwerte (Anlage)'!E$114 -> 0 | F47: ='2d) Planwerte (Anlage)'!F$95+'2d) Planwerte (Anlage)'!F$114 -> 0 | G47: ='2d) Planwerte (Anlage)'!G$95+'2d) Planwerte (Anlage)'!G$114 -> 0 | H47: ='2d) Planwerte (Anlage)'!H$95+'2d) Planwerte (Anlage)'!H$114 -> 0 | I47: ='2d) Planwerte (Anlage)'!I$95+'2d) Planwerte (Anlage)'!I$114 -> 0 | J47: ='2d) Planwerte (Anlage)'!J$95+'2d) Planwerte (Anlage)'!J$114 -> 0 | K47: ='2d) Planwerte (Anlage)'!K$95+'2d) Planwerte (Anlage)'!K$114 -> 0 | L47: ='2d) Planwerte (Anlage)'!L$95+'2d) Planwerte (Anlage)'!L$114 -> 0 | ... U47: ='2d) Planwerte (Anlage)'!U$95+'2d) Planwerte (Anlage)'!U$114 -> 0
B48: Kokskohle | C48: MWh/Jahr | D48: - | E48: ='2d) Planwerte (Anlage)'!E$96 -> 0 | F48: ='2d) Planwerte (Anlage)'!F$96 -> 0 | G48: ='2d) Planwerte (Anlage)'!G$96 -> 0 | H48: ='2d) Planwerte (Anlage)'!H$96 -> 0 | I48: ='2d) Planwerte (Anlage)'!I$96 -> 0 | J48: ='2d) Planwerte (Anlage)'!J$96 -> 0 | K48: ='2d) Planwerte (Anlage)'!K$96 -> 0 | L48: ='2d) Planwerte (Anlage)'!L$96 -> 0 | ... U48: ='2d) Planwerte (Anlage)'!U$96 -> 0
B49: Kesselkohle | C49: MWh/Jahr | D49: - | E49: ='2d) Planwerte (Anlage)'!E$97 -> 0 | F49: ='2d) Planwerte (Anlage)'!F$97 -> 0 | G49: ='2d) Planwerte (Anlage)'!G$97 -> 0 | H49: ='2d) Planwerte (Anlage)'!H$97 -> 0 | I49: ='2d) Planwerte (Anlage)'!I$97 -> 0 | J49: ='2d) Planwerte (Anlage)'!J$97 -> 0 | K49: ='2d) Planwerte (Anlage)'!K$97 -> 0 | L49: ='2d) Planwerte (Anlage)'!L$97 -> 0 | ... U49: ='2d) Planwerte (Anlage)'!U$97 -> 0
B50: Biomasse (gasförmig) | C50: MWh/Jahr | D50: - | E50: ='2d) Planwerte (Anlage)'!E$98+'2d) Planwerte (Anlage)'!E$115 -> 0 | F50: ='2d) Planwerte (Anlage)'!F$98+'2d) Planwerte (Anlage)'!F$115 -> 0 | G50: ='2d) Planwerte (Anlage)'!G$98+'2d) Planwerte (Anlage)'!G$115 -> 0 | H50: ='2d) Planwerte (Anlage)'!H$98+'2d) Planwerte (Anlage)'!H$115 -> 0 | I50: ='2d) Planwerte (Anlage)'!I$98+'2d) Planwerte (Anlage)'!I$115 -> 0 | J50: ='2d) Planwerte (Anlage)'!J$98+'2d) Planwerte (Anlage)'!J$115 -> 0 | K50: ='2d) Planwerte (Anlage)'!K$98+'2d) Planwerte (Anlage)'!K$115 -> 0 | L50: ='2d) Planwerte (Anlage)'!L$98+'2d) Planwerte (Anlage)'!L$115 -> 0 | ... U50: ='2d) Planwerte (Anlage)'!U$98+'2d) Planwerte (Anlage)'!U$115 -> 0
B51: Biomasse (fest/flüssig) | C51: MWh/Jahr | D51: - | E51: ='2d) Planwerte (Anlage)'!E$99+'2d) Planwerte (Anlage)'!E$116 -> 0 | F51: ='2d) Planwerte (Anlage)'!F$99+'2d) Planwerte (Anlage)'!F$116 -> 0 | G51: ='2d) Planwerte (Anlage)'!G$99+'2d) Planwerte (Anlage)'!G$116 -> 0 | H51: ='2d) Planwerte (Anlage)'!H$99+'2d) Planwerte (Anlage)'!H$116 -> 0 | I51: ='2d) Planwerte (Anlage)'!I$99+'2d) Planwerte (Anlage)'!I$116 -> 0 | J51: ='2d) Planwerte (Anlage)'!J$99+'2d) Planwerte (Anlage)'!J$116 -> 0 | K51: ='2d) Planwerte (Anlage)'!K$99+'2d) Planwerte (Anlage)'!K$116 -> 0 | L51: ='2d) Planwerte (Anlage)'!L$99+'2d) Planwerte (Anlage)'!L$116 -> 0 | ... U51: ='2d) Planwerte (Anlage)'!U$99+'2d) Planwerte (Anlage)'!U$116 -> 0
B52: =IF(ISBLANK('2d) Planwerte (Anlage)'!B100),"",'2d) Planwerte (Anlage)'!B100) | C52: =IF(ISBLANK('2d) Planwerte (Anlage)'!B100),"","MWh/Jahr") | D52: - | E52: ='2d) Planwerte (Anlage)'!E$100 -> 0 | F52: ='2d) Planwerte (Anlage)'!F$100 -> 0 | G52: ='2d) Planwerte (Anlage)'!G$100 -> 0 | H52: ='2d) Planwerte (Anlage)'!H$100 -> 0 | I52: ='2d) Planwerte (Anlage)'!I$100 -> 0 | J52: ='2d) Planwerte (Anlage)'!J$100 -> 0 | K52: ='2d) Planwerte (Anlage)'!K$100 -> 0 | L52: ='2d) Planwerte (Anlage)'!L$100 -> 0 | ... U52: ='2d) Planwerte (Anlage)'!U$100 -> 0
B53: =IF(ISBLANK('2d) Planwerte (Anlage)'!B101),"",'2d) Planwerte (Anlage)'!B101) | C53: =IF(ISBLANK('2d) Planwerte (Anlage)'!B101),"","MWh/Jahr") | D53: - | E53: ='2d) Planwerte (Anlage)'!E$101 -> 0 | F53: ='2d) Planwerte (Anlage)'!F$101 -> 0 | G53: ='2d) Planwerte (Anlage)'!G$101 -> 0 | H53: ='2d) Planwerte (Anlage)'!H$101 -> 0 | I53: ='2d) Planwerte (Anlage)'!I$101 -> 0 | J53: ='2d) Planwerte (Anlage)'!J$101 -> 0 | K53: ='2d) Planwerte (Anlage)'!K$101 -> 0 | L53: ='2d) Planwerte (Anlage)'!L$101 -> 0 | ... U53: ='2d) Planwerte (Anlage)'!U$101 -> 0
B54: =IF(ISBLANK('2d) Planwerte (Anlage)'!B102),"",'2d) Planwerte (Anlage)'!B102) | C54: =IF(ISBLANK('2d) Planwerte (Anlage)'!B102),"","MWh/Jahr") | D54: - | E54: ='2d) Planwerte (Anlage)'!E$102 -> 0 | F54: ='2d) Planwerte (Anlage)'!F$102 -> 0 | G54: ='2d) Planwerte (Anlage)'!G$102 -> 0 | H54: ='2d) Planwerte (Anlage)'!H$102 -> 0 | I54: ='2d) Planwerte (Anlage)'!I$102 -> 0 | J54: ='2d) Planwerte (Anlage)'!J$102 -> 0 | K54: ='2d) Planwerte (Anlage)'!K$102 -> 0 | L54: ='2d) Planwerte (Anlage)'!L$102 -> 0 | ... U54: ='2d) Planwerte (Anlage)'!U$102 -> 0
B55: =IF(ISBLANK('2d) Planwerte (Anlage)'!B103),"",'2d) Planwerte (Anlage)'!B103) | C55: =IF(ISBLANK('2d) Planwerte (Anlage)'!B103),"","MWh/Jahr") | D55: - | E55: ='2d) Planwerte (Anlage)'!E$103 -> 0 | F55: ='2d) Planwerte (Anlage)'!F$103 -> 0 | G55: ='2d) Planwerte (Anlage)'!G$103 -> 0 | H55: ='2d) Planwerte (Anlage)'!H$103 -> 0 | I55: ='2d) Planwerte (Anlage)'!I$103 -> 0 | J55: ='2d) Planwerte (Anlage)'!J$103 -> 0 | K55: ='2d) Planwerte (Anlage)'!K$103 -> 0 | L55: ='2d) Planwerte (Anlage)'!L$103 -> 0 | ... U55: ='2d) Planwerte (Anlage)'!U$103 -> 0
B56: =IF(ISBLANK('2d) Planwerte (Anlage)'!B104),"",'2d) Planwerte (Anlage)'!B104) | C56: =IF(ISBLANK('2d) Planwerte (Anlage)'!B104),"","MWh/Jahr") | D56: - | E56: ='2d) Planwerte (Anlage)'!E$104 -> 0 | F56: ='2d) Planwerte (Anlage)'!F$104 -> 0 | G56: ='2d) Planwerte (Anlage)'!G$104 -> 0 | H56: ='2d) Planwerte (Anlage)'!H$104 -> 0 | I56: ='2d) Planwerte (Anlage)'!I$104 -> 0 | J56: ='2d) Planwerte (Anlage)'!J$104 -> 0 | K56: ='2d) Planwerte (Anlage)'!K$104 -> 0 | L56: ='2d) Planwerte (Anlage)'!L$104 -> 0 | ... U56: ='2d) Planwerte (Anlage)'!U$104 -> 0
B57: =IF(ISBLANK('2d) Planwerte (Anlage)'!B105),"",'2d) Planwerte (Anlage)'!B105) | C57: =IF(ISBLANK('2d) Planwerte (Anlage)'!B105),"","MWh/Jahr") | D57: - | E57: ='2d) Planwerte (Anlage)'!E$105 -> 0 | F57: ='2d) Planwerte (Anlage)'!F$105 -> 0 | G57: ='2d) Planwerte (Anlage)'!G$105 -> 0 | H57: ='2d) Planwerte (Anlage)'!H$105 -> 0 | I57: ='2d) Planwerte (Anlage)'!I$105 -> 0 | J57: ='2d) Planwerte (Anlage)'!J$105 -> 0 | K57: ='2d) Planwerte (Anlage)'!K$105 -> 0 | L57: ='2d) Planwerte (Anlage)'!L$105 -> 0 | ... U57: ='2d) Planwerte (Anlage)'!U$105 -> 0
B58: =IF(ISBLANK('2d) Planwerte (Anlage)'!B106),"",IF('2d) Planwerte (Anlage)'!D106="energetische Nutzung",'2d) Planwerte (Anlage)'!B106,"")) | C58: =IF(AND(NOT(ISBLANK('2d) Planwerte (Anlage)'!B106)),'2d) Planwerte (Anlage)'!D106="energetische Nutzung"),"MWh/Jahr","") | D58: - | E58: =IF('2d) Planwerte (Anlage)'!$D$106="energetische Nutzung",'2d) Planwerte (Anlage)'!E$106,0) -> 0 | F58: =IF('2d) Planwerte (Anlage)'!$D$106="energetische Nutzung",'2d) Planwerte (Anlage)'!F$106,0) -> 0 | G58: =IF('2d) Planwerte (Anlage)'!$D$106="energetische Nutzung",'2d) Planwerte (Anlage)'!G$106,0) -> 0 | H58: =IF('2d) Planwerte (Anlage)'!$D$106="energetische Nutzung",'2d) Planwerte (Anlage)'!H$106,0) -> 0 | I58: =IF('2d) Planwerte (Anlage)'!$D$106="energetische Nutzung",'2d) Planwerte (Anlage)'!I$106,0) -> 0 | J58: =IF('2d) Planwerte (Anlage)'!$D$106="energetische Nutzung",'2d) Planwerte (Anlage)'!J$106,0) -> 0 | K58: =IF('2d) Planwerte (Anlage)'!$D$106="energetische Nutzung",'2d) Planwerte (Anlage)'!K$106,0) -> 0 | L58: =IF('2d) Planwerte (Anlage)'!$D$106="energetische Nutzung",'2d) Planwerte (Anlage)'!L$106,0) -> 0 | ... U58: =IF('2d) Planwerte (Anlage)'!$D$106="energetische Nutzung",'2d) Planwerte (Anlage)'!U$106,0) -> 0
B59: =IF(ISBLANK('2d) Planwerte (Anlage)'!B107),"",IF('2d) Planwerte (Anlage)'!D107="energetische Nutzung",'2d) Planwerte (Anlage)'!B107,"")) | C59: =IF(AND(NOT(ISBLANK('2d) Planwerte (Anlage)'!B107)),'2d) Planwerte (Anlage)'!D107="energetische Nutzung"),"MWh/Jahr","") | D59: - | E59: =IF('2d) Planwerte (Anlage)'!$D$107="energetische Nutzung",'2d) Planwerte (Anlage)'!E$107,0) -> 0 | F59: =IF('2d) Planwerte (Anlage)'!$D$107="energetische Nutzung",'2d) Planwerte (Anlage)'!F$107,0) -> 0 | G59: =IF('2d) Planwerte (Anlage)'!$D$107="energetische Nutzung",'2d) Planwerte (Anlage)'!G$107,0) -> 0 | H59: =IF('2d) Planwerte (Anlage)'!$D$107="energetische Nutzung",'2d) Planwerte (Anlage)'!H$107,0) -> 0 | I59: =IF('2d) Planwerte (Anlage)'!$D$107="energetische Nutzung",'2d) Planwerte (Anlage)'!I$107,0) -> 0 | J59: =IF('2d) Planwerte (Anlage)'!$D$107="energetische Nutzung",'2d) Planwerte (Anlage)'!J$107,0) -> 0 | K59: =IF('2d) Planwerte (Anlage)'!$D$107="energetische Nutzung",'2d) Planwerte (Anlage)'!K$107,0) -> 0 | L59: =IF('2d) Planwerte (Anlage)'!$D$107="energetische Nutzung",'2d) Planwerte (Anlage)'!L$107,0) -> 0 | ... U59: =IF('2d) Planwerte (Anlage)'!$D$107="energetische Nutzung",'2d) Planwerte (Anlage)'!U$107,0) -> 0
B60: =IF(ISBLANK('2d) Planwerte (Anlage)'!B108),"",IF('2d) Planwerte (Anlage)'!D108="energetische Nutzung",'2d) Planwerte (Anlage)'!B108,"")) | C60: =IF(AND(NOT(ISBLANK('2d) Planwerte (Anlage)'!B108)),'2d) Planwerte (Anlage)'!D108="energetische Nutzung"),"MWh/Jahr","") | D60: - | E60: =IF('2d) Planwerte (Anlage)'!$D$108="energetische Nutzung",'2d) Planwerte (Anlage)'!E$108,0) -> 0 | F60: =IF('2d) Planwerte (Anlage)'!$D$108="energetische Nutzung",'2d) Planwerte (Anlage)'!F$108,0) -> 0 | G60: =IF('2d) Planwerte (Anlage)'!$D$108="energetische Nutzung",'2d) Planwerte (Anlage)'!G$108,0) -> 0 | H60: =IF('2d) Planwerte (Anlage)'!$D$108="energetische Nutzung",'2d) Planwerte (Anlage)'!H$108,0) -> 0 | I60: =IF('2d) Planwerte (Anlage)'!$D$108="energetische Nutzung",'2d) Planwerte (Anlage)'!I$108,0) -> 0 | J60: =IF('2d) Planwerte (Anlage)'!$D$108="energetische Nutzung",'2d) Planwerte (Anlage)'!J$108,0) -> 0 | K60: =IF('2d) Planwerte (Anlage)'!$D$108="energetische Nutzung",'2d) Planwerte (Anlage)'!K$108,0) -> 0 | L60: =IF('2d) Planwerte (Anlage)'!$D$108="energetische Nutzung",'2d) Planwerte (Anlage)'!L$108,0) -> 0 | ... U60: =IF('2d) Planwerte (Anlage)'!$D$108="energetische Nutzung",'2d) Planwerte (Anlage)'!U$108,0) -> 0
B61: =IF(ISBLANK('2d) Planwerte (Anlage)'!B109),"",IF('2d) Planwerte (Anlage)'!D109="energetische Nutzung",'2d) Planwerte (Anlage)'!B109,"")) | C61: =IF(AND(NOT(ISBLANK('2d) Planwerte (Anlage)'!B109)),'2d) Planwerte (Anlage)'!D109="energetische Nutzung"),"MWh/Jahr","") | D61: - | E61: =IF('2d) Planwerte (Anlage)'!$D$109="energetische Nutzung",'2d) Planwerte (Anlage)'!E$109,0) -> 0 | F61: =IF('2d) Planwerte (Anlage)'!$D$109="energetische Nutzung",'2d) Planwerte (Anlage)'!F$109,0) -> 0 | G61: =IF('2d) Planwerte (Anlage)'!$D$109="energetische Nutzung",'2d) Planwerte (Anlage)'!G$109,0) -> 0 | H61: =IF('2d) Planwerte (Anlage)'!$D$109="energetische Nutzung",'2d) Planwerte (Anlage)'!H$109,0) -> 0 | I61: =IF('2d) Planwerte (Anlage)'!$D$109="energetische Nutzung",'2d) Planwerte (Anlage)'!I$109,0) -> 0 | J61: =IF('2d) Planwerte (Anlage)'!$D$109="energetische Nutzung",'2d) Planwerte (Anlage)'!J$109,0) -> 0 | K61: =IF('2d) Planwerte (Anlage)'!$D$109="energetische Nutzung",'2d) Planwerte (Anlage)'!K$109,0) -> 0 | L61: =IF('2d) Planwerte (Anlage)'!$D$109="energetische Nutzung",'2d) Planwerte (Anlage)'!L$109,0) -> 0 | ... U61: =IF('2d) Planwerte (Anlage)'!$D$109="energetische Nutzung",'2d) Planwerte (Anlage)'!U$109,0) -> 0
B62: Gesamtenergiebedarf | C62: MWh/Jahr | D62: - | E62: =IFERROR(SUM(E44:E61),0) -> 0 | F62: =IFERROR(SUM(F44:F61),0) -> 0 | G62: =IFERROR(SUM(G44:G61),0) -> 0 | H62: =IFERROR(SUM(H44:H61),0) -> 0 | I62: =IFERROR(SUM(I44:I61),0) -> 0 | J62: =IFERROR(SUM(J44:J61),0) -> 0 | K62: =IFERROR(SUM(K44:K61),0) -> 0 | L62: =IFERROR(SUM(L44:L61),0) -> 0 | ... U62: =IFERROR(SUM(U44:U61),0) -> 0
B65: Hilfstabelle III - Absolute Energieträgerbedarfe grüner Wasserstoff
B66: Absolute Energieträgerbedarfe grüner Wasserstoff und grüne Wasserstoffderivate | C66: Einheit | E66: =YEAR('2b) Allg. Inputs'!$C$7) -> 1900 | F66: =E66+1 -> 1901 | G66: =F66+1 -> 1902 | H66: =G66+1 -> 1903 | I66: =H66+1 -> 1904 | J66: =I66+1 -> 1905 | K66: =J66+1 -> 1906 | L66: =K66+1 -> 1907 | M66: =L66+1 -> 1908 | ... R66: =Q66+1 -> 1913 | S66: =IF('4c) Berechnungen_MFS'!E114 = "Nein",R66+1, R66+1&" 1. Teil-KJ") -> 1914 | T66: =IF('4c) Berechnungen_MFS'!E114 = "Nein","", R66+1&" 2. Teil-KJ") | U66: =IF('4c) Berechnungen_MFS'!E114="Ja",R66+2,"")
B67: Grüner Wasserstoff | C67: MWh/Jahr | D67: - | E67: ='2d) Planwerte (Anlage)'!E$93+'2d) Planwerte (Anlage)'!E$112 -> 0 | F67: ='2d) Planwerte (Anlage)'!F$93+'2d) Planwerte (Anlage)'!F$112 -> 0 | G67: ='2d) Planwerte (Anlage)'!G$93+'2d) Planwerte (Anlage)'!G$112 -> 0 | H67: ='2d) Planwerte (Anlage)'!H$93+'2d) Planwerte (Anlage)'!H$112 -> 0 | I67: ='2d) Planwerte (Anlage)'!I$93+'2d) Planwerte (Anlage)'!I$112 -> 0 | J67: ='2d) Planwerte (Anlage)'!J$93+'2d) Planwerte (Anlage)'!J$112 -> 0 | K67: ='2d) Planwerte (Anlage)'!K$93+'2d) Planwerte (Anlage)'!K$112 -> 0 | L67: ='2d) Planwerte (Anlage)'!L$93+'2d) Planwerte (Anlage)'!L$112 -> 0 | ... U67: ='2d) Planwerte (Anlage)'!U$93+'2d) Planwerte (Anlage)'!U$112 -> 0
B68: Grüne Wasserstoffderivate | C68: MWh/Jahr | D68: - | E68: =SUMIFS('2d) Planwerte (Anlage)'!E$106:E$107,'2d) Planwerte (Anlage)'!$D$106:$D$107,"energetische Nutzung") -> 0 | F68: =SUMIFS('2d) Planwerte (Anlage)'!F$106:F$107,'2d) Planwerte (Anlage)'!$D$106:$D$107,"energetische Nutzung") -> 0 | G68: =SUMIFS('2d) Planwerte (Anlage)'!G$106:G$107,'2d) Planwerte (Anlage)'!$D$106:$D$107,"energetische Nutzung") -> 0 | H68: =SUMIFS('2d) Planwerte (Anlage)'!H$106:H$107,'2d) Planwerte (Anlage)'!$D$106:$D$107,"energetische Nutzung") -> 0 | I68: =SUMIFS('2d) Planwerte (Anlage)'!I$106:I$107,'2d) Planwerte (Anlage)'!$D$106:$D$107,"energetische Nutzung") -> 0 | J68: =SUMIFS('2d) Planwerte (Anlage)'!J$106:J$107,'2d) Planwerte (Anlage)'!$D$106:$D$107,"energetische Nutzung") -> 0 | K68: =SUMIFS('2d) Planwerte (Anlage)'!K$106:K$107,'2d) Planwerte (Anlage)'!$D$106:$D$107,"energetische Nutzung") -> 0 | L68: =SUMIFS('2d) Planwerte (Anlage)'!L$106:L$107,'2d) Planwerte (Anlage)'!$D$106:$D$107,"energetische Nutzung") -> 0 | ... U68: =SUMIFS('2d) Planwerte (Anlage)'!U$106:U$107,'2d) Planwerte (Anlage)'!$D$106:$D$107,"energetische Nutzung") -> 0
B71: Hilfstabelle IV - Referenzsystemspezifische Angaben
B72: Absolute Energieträgerbedarfe (reaggregiert) | C72: Einheit | E72: =YEAR('2b) Allg. Inputs'!$C$7) -> 1900 | F72: =E72+1 -> 1901 | G72: =F72+1 -> 1902 | H72: =G72+1 -> 1903 | I72: =H72+1 -> 1904 | J72: =I72+1 -> 1905 | K72: =J72+1 -> 1906 | L72: =K72+1 -> 1907 | M72: =L72+1 -> 1908 | ... R72: =Q72+1 -> 1913 | S72: =IF('4c) Berechnungen_MFS'!E114 = "Nein",R72+1, R72+1&" 1. Teil-KJ") -> 1914 | T72: =IF('4c) Berechnungen_MFS'!E114 = "Nein","", R72+1&" 2. Teil-KJ") | U72: =IF('4c) Berechnungen_MFS'!E114="Ja",R72+2,"")
B73: Strombedarf des Referenzsystems | C73: MWh/Jahr | D73: - | E73: ='4a) Berechnungen zu Planwerten'!E85 -> 0 | F73: ='4a) Berechnungen zu Planwerten'!F85 -> 0 | G73: ='4a) Berechnungen zu Planwerten'!G85 -> 0 | H73: ='4a) Berechnungen zu Planwerten'!H85 -> 0 | I73: ='4a) Berechnungen zu Planwerten'!I85 -> 0 | J73: ='4a) Berechnungen zu Planwerten'!J85 -> 0 | K73: ='4a) Berechnungen zu Planwerten'!K85 -> 0 | L73: ='4a) Berechnungen zu Planwerten'!L85 -> 0 | ... U73: ='4a) Berechnungen zu Planwerten'!U85 -> 0
B74: Grüner Wasserstoffbedarf des Referenzsystems | C74: MWh/Jahr | D74: - | E74: ='4a) Berechnungen zu Planwerten'!E86 -> 0 | F74: ='4a) Berechnungen zu Planwerten'!F86 -> 0 | G74: ='4a) Berechnungen zu Planwerten'!G86 -> 0 | H74: ='4a) Berechnungen zu Planwerten'!H86 -> 0 | I74: ='4a) Berechnungen zu Planwerten'!I86 -> 0 | J74: ='4a) Berechnungen zu Planwerten'!J86 -> 0 | K74: ='4a) Berechnungen zu Planwerten'!K86 -> 0 | L74: ='4a) Berechnungen zu Planwerten'!L86 -> 0 | ... U74: ='4a) Berechnungen zu Planwerten'!U86 -> 0
B75: CO2-armer Wasserstoffbedarf des Referenzsystems | C75: MWh/Jahr | D75: - | E75: ='4a) Berechnungen zu Planwerten'!E86 -> 0 | F75: ='4a) Berechnungen zu Planwerten'!F86 -> 0 | G75: ='4a) Berechnungen zu Planwerten'!G86 -> 0 | H75: ='4a) Berechnungen zu Planwerten'!H86 -> 0 | I75: ='4a) Berechnungen zu Planwerten'!I86 -> 0 | J75: ='4a) Berechnungen zu Planwerten'!J86 -> 0 | K75: ='4a) Berechnungen zu Planwerten'!K86 -> 0 | L75: ='4a) Berechnungen zu Planwerten'!L86 -> 0 | ... U75: ='4a) Berechnungen zu Planwerten'!U86 -> 0
B76: Erdgasbedarf des Referenzsystems | C76: MWh/Jahr | D76: - | E76: ='4a) Berechnungen zu Planwerten'!E87 -> 0 | F76: ='4a) Berechnungen zu Planwerten'!F87 -> 0 | G76: ='4a) Berechnungen zu Planwerten'!G87 -> 0 | H76: ='4a) Berechnungen zu Planwerten'!H87 -> 0 | I76: ='4a) Berechnungen zu Planwerten'!I87 -> 0 | J76: ='4a) Berechnungen zu Planwerten'!J87 -> 0 | K76: ='4a) Berechnungen zu Planwerten'!K87 -> 0 | L76: ='4a) Berechnungen zu Planwerten'!L87 -> 0 | ... U76: ='4a) Berechnungen zu Planwerten'!U87 -> 0
B77: Kokskohlebedarf des Referenzsystems | C77: MWh/Jahr | D77: - | E77: ='4a) Berechnungen zu Planwerten'!E88 -> 0 | F77: ='4a) Berechnungen zu Planwerten'!F88 -> 0 | G77: ='4a) Berechnungen zu Planwerten'!G88 -> 0 | H77: ='4a) Berechnungen zu Planwerten'!H88 -> 0 | I77: ='4a) Berechnungen zu Planwerten'!I88 -> 0 | J77: ='4a) Berechnungen zu Planwerten'!J88 -> 0 | K77: ='4a) Berechnungen zu Planwerten'!K88 -> 0 | L77: ='4a) Berechnungen zu Planwerten'!L88 -> 0 | ... U77: ='4a) Berechnungen zu Planwerten'!U88 -> 0
B78: Kesselkohlebedarf des Referenzsystems | C78: MWh/Jahr | D78: - | E78: ='4a) Berechnungen zu Planwerten'!E89+'4a) Berechnungen zu Planwerten'!E90+'4a) Berechnungen zu Planwerten'!E91 -> 0 | F78: ='4a) Berechnungen zu Planwerten'!F89+'4a) Berechnungen zu Planwerten'!F90+'4a) Berechnungen zu Planwerten'!F91 -> 0 | G78: ='4a) Berechnungen zu Planwerten'!G89+'4a) Berechnungen zu Planwerten'!G90+'4a) Berechnungen zu Planwerten'!G91 -> 0 | H78: ='4a) Berechnungen zu Planwerten'!H89+'4a) Berechnungen zu Planwerten'!H90+'4a) Berechnungen zu Planwerten'!H91 -> 0 | I78: ='4a) Berechnungen zu Planwerten'!I89+'4a) Berechnungen zu Planwerten'!I90+'4a) Berechnungen zu Planwerten'!I91 -> 0 | J78: ='4a) Berechnungen zu Planwerten'!J89+'4a) Berechnungen zu Planwerten'!J90+'4a) Berechnungen zu Planwerten'!J91 -> 0 | K78: ='4a) Berechnungen zu Planwerten'!K89+'4a) Berechnungen zu Planwerten'!K90+'4a) Berechnungen zu Planwerten'!K91 -> 0 | L78: ='4a) Berechnungen zu Planwerten'!L89+'4a) Berechnungen zu Planwerten'!L90+'4a) Berechnungen zu Planwerten'!L91 -> 0 | ... U78: ='4a) Berechnungen zu Planwerten'!U89+'4a) Berechnungen zu Planwerten'!U90+'4a) Berechnungen zu Planwerten'!U91 -> 0
B80: Emissionen des Referenzsystems | C80: t CO2-Äq. | D80: - | E80: =E106+E116+E126+E136+E146+E156+E166 -> 0 | F80: =F106+F116+F126+F136+F146+F156+F166 -> 0 | G80: =G106+G116+G126+G136+G146+G156+G166 -> 0 | H80: =H106+H116+H126+H136+H146+H156+H166 -> 0 | I80: =I106+I116+I126+I136+I146+I156+I166 -> 0 | J80: =J106+J116+J126+J136+J146+J156+J166 -> 0 | K80: =K106+K116+K126+K136+K146+K156+K166 -> 0 | L80: =L106+L116+L126+L136+L146+L156+L166 -> 0 | ... U80: =U106+U116+U126+U136+U146+U156+U166 -> 0
B83: Hilfstabelle V - Referenzsystemspezifische Angaben
B84: Energieträger | C84: Einheit | E84: =YEAR('2b) Allg. Inputs'!$C$7) -> 1900 | F84: =E84+1 -> 1901 | G84: =F84+1 -> 1902 | H84: =G84+1 -> 1903 | I84: =H84+1 -> 1904 | J84: =I84+1 -> 1905 | K84: =J84+1 -> 1906 | L84: =K84+1 -> 1907 | M84: =L84+1 -> 1908 | ... R84: =Q84+1 -> 1913 | S84: =IF('4c) Berechnungen_MFS'!E114 = "Nein",R84+1, R84+1&" 1. Teil-KJ") -> 1914 | T84: =IF('4c) Berechnungen_MFS'!E114 = "Nein","", R84+1&" 2. Teil-KJ") | U84: =IF('4c) Berechnungen_MFS'!E114="Ja",R84+2,"")
B85: Strom | C85: MWh | D85: - | E85: =E99+E109+E119+E129+E139+E149+E159 -> 0 | F85: =F99+F109+F119+F129+F139+F149+F159 -> 0 | G85: =G99+G109+G119+G129+G139+G149+G159 -> 0 | H85: =H99+H109+H119+H129+H139+H149+H159 -> 0 | I85: =I99+I109+I119+I129+I139+I149+I159 -> 0 | J85: =J99+J109+J119+J129+J139+J149+J159 -> 0 | K85: =K99+K109+K119+K129+K139+K149+K159 -> 0 | L85: =L99+L109+L119+L129+L139+L149+L159 -> 0 | ... U85: =U99+U109+U119+U129+U139+U149+U159 -> 0
B86: Wasserstoff | C86: MWh | D86: - | E86: =E100+E110+E120+E130+E140+E150+E160 -> 0 | F86: =F100+F110+F120+F130+F140+F150+F160 -> 0 | G86: =G100+G110+G120+G130+G140+G150+G160 -> 0 | H86: =H100+H110+H120+H130+H140+H150+H160 -> 0 | I86: =I100+I110+I120+I130+I140+I150+I160 -> 0 | J86: =J100+J110+J120+J130+J140+J150+J160 -> 0 | K86: =K100+K110+K120+K130+K140+K150+K160 -> 0 | L86: =L100+L110+L120+L130+L140+L150+L160 -> 0 | ... U86: =U100+U110+U120+U130+U140+U150+U160 -> 0
B87: Erdgas | C87: MWh | D87: - | E87: =E101+E111+E121+E131+E141+E151+E161 -> 0 | F87: =F101+F111+F121+F131+F141+F151+F161 -> 0 | G87: =G101+G111+G121+G131+G141+G151+G161 -> 0 | H87: =H101+H111+H121+H131+H141+H151+H161 -> 0 | I87: =I101+I111+I121+I131+I141+I151+I161 -> 0 | J87: =J101+J111+J121+J131+J141+J151+J161 -> 0 | K87: =K101+K111+K121+K131+K141+K151+K161 -> 0 | L87: =L101+L111+L121+L131+L141+L151+L161 -> 0 | ... U87: =U101+U111+U121+U131+U141+U151+U161 -> 0
B88: Kokskohle | C88: MWh | D88: - | E88: =E102+E112+E122+E132+E142+E152+E162 -> 0 | F88: =F102+F112+F122+F132+F142+F152+F162 -> 0 | G88: =G102+G112+G122+G132+G142+G152+G162 -> 0 | H88: =H102+H112+H122+H132+H142+H152+H162 -> 0 | I88: =I102+I112+I122+I132+I142+I152+I162 -> 0 | J88: =J102+J112+J122+J132+J142+J152+J162 -> 0 | K88: =K102+K112+K122+K132+K142+K152+K162 -> 0 | L88: =L102+L112+L122+L132+L142+L152+L162 -> 0 | ... U88: =U102+U112+U122+U132+U142+U152+U162 -> 0
