Workbook
Name ChartAB: OFFSET(INDIRECT('1) Gesamtübersicht'!$E$117),,,,'1) Gesamtübersicht'!$F$99)
Name ChartAndere: #NAME?
Name ChartAndere: OFFSET('1) Gesamtübersicht'!$E$92,,,,IF('1) Gesamtübersicht'!$T$83,16,15))
Name ChartAuszahlung: #NAME?
Name ChartAuszahlung: OFFSET(INDIRECT('1) Gesamtübersicht'!$E$105),,,,'1) Gesamtübersicht'!$F$99)
Name ChartBV: #NAME?
Name ChartBV: OFFSET(INDIRECT('1) Gesamtübersicht'!$E$111),,,,'1) Gesamtübersicht'!$F$99)
Name ChartDV: #NAME?
Name ChartDV: OFFSET(INDIRECT('1) Gesamtübersicht'!$E$99),,,,'1) Gesamtübersicht'!$F$99)
Name ChartEff: #NAME?
Name ChartEff: OFFSET(INDIRECT('1) Gesamtübersicht'!$E$114),,,,'1) Gesamtübersicht'!$F$99)
Name ChartÜber: #NAME?
Name ChartÜber: OFFSET(INDIRECT('1) Gesamtübersicht'!$E$108),,,,'1) Gesamtübersicht'!$F$99)
Name ChartYears: #NAME?
Name ChartYears: OFFSET(INDIRECT('1) Gesamtübersicht'!$E$102),,,,'1) Gesamtübersicht'!$F$99)

Sheet Inhaltsverzeichnis
C5: Tabellenblatt/Abschnitt | D5: Inhalt
C7: 1) Gesamtübersicht | D7: Zusammenfassung der wichtigsten Angaben und basierend auf den Eingaben ein Überblick über die berechneten maximalen Fördersummen, die zu erwartenden Auszahlungen sowie die Erfüllung der Mindestanforderungen gemäß Nummer 4.15 FRL KSV und die Erfüllung der Auszahlungsbedingungen.
C9: 2a) Preisannahmen | D9: Angabe von Annahmen zu indexierten Preisen (bis zu drei Szenarien).
C11: 2b) Allg. Inputs | D11: Angabe der allgemeinen Daten des Antrags sowie anderweitiger für das Vorhaben bewilligter Förderungen gemäß Nummer 7.5(c) FRL KSV. Zudem sind Annahmen über kostenlose Zuteilungen im ETS hier einzutragen.
C13: 2c) Elektrolyseurförderung | D13: Angaben zur Elektrolyseanlage, falls im Vorhaben Wasserstoff verwendet wird, der durch Elektrolyseanlagen eines verbundenen Unternehmens produziert wird.
C15: 2d) Planwerte (Anlage) | D15: Angabe des/der Referenzsystem(e) und zugrundeliegender geplanter Verbrauchsparameter sowie Produktionsmengen.
C16: 2e) Realisierte Werte (Anlage) | D16: Angabe realisierter Verbrauchsparameter sowie Produktionsmengen (bei Abweichung von geplanten Verbrauchsparametern).
C17: 3a) KSV Parameter | D17: Übersicht der durch die Bewilligungsbehörde festgelegten Parameter des KSV-Programms.
C18: 3b) Referenzsysteme | D18: Angabe des/der Referenzsystem(e) und zugrundeliegender vorhabenspezifischer, geplanter Verbrauchsparameter sowie Produktionsmengen.
C19: 4a) Berechnungen zu Planwerten | D19: Allgemeine Berechnung zur Bestimmung der maximalen Fördersumme und der Auszahlungen basierend auf geplanten Verbrauchsparametern.
C20: 4b) Berechnungen zu realisierten Werten | D20: Berechnung zur Bestimmung der Auszahlungen basierend auf realisierten Verbrauchsparametern (bei Abweichung von geplanten Verbrauchsparametern).
C21: 4c) Berechnung_MFS | D21: Berechnung der maximalen Fördersummen.
... C23: 5) Eingabeprüfung | D23: Eingabeprüfung für besonders relevante Inputdaten.

Sheet Read Me
C6: Zweck | D6: Das vorliegende Excel-Tool dient der Berechnung der zu erwartenden jährlichen Auszahlungsbeträge eines Vorhabens im Rahmen des ersten Gebotsverfahrens des Förderprogramms Klimaschutzverträge gemäß der Förderrichtlinie vom 11.03.2024. Unternehmen können hier die zu erwartende Auszahlung unter Eingabe ihrer Energie- und CO2-Preisannahmen entnehmen. Zudem dient das Excel-Tool der Berechnung der jährlichen maximalen Fördersummen. So können im Falle einer geplanten Verschiebung des operativen Beginns die neuen jährlichen maximalen Fördersummen und die zu erwartenden jährlichen Auszahlungsbeträge basierend auf den geplanten Verbrauchsparametern abgeschätzt werden. Das Excel-Tool stellt kein verbindliches Dokument im Rahmen des Klimaschutzvertrags dar, sondern ist lediglich als Hilfestellung für die Zuwendungsempfänger des ersten Gebotsverfahrens zu sehen.
C8: Gliederung | D8: Das Tabellenblatt 1) Gesamtübersicht zeigt die zu erwartende Auszahlung und maximale gesamte Fördersumme sowie die Einhaltung der Mindestanforderungen nach Nummer 4.15 FRL KSV und die Erfüllung von Auszahlungsbedingungen. Der zeitliche Verlauf der Aus- bzw. Überschusszahlungen ist zudem graphisch dargestellt. Außerdem wird für besonders relevante Inputdaten geprüft, ob eine Eingabe (in aktiven Jahren) erfolgt ist. Im Abschnitt (Tabellengruppe) Inputs sind die Angaben des Vorhabens einzutragen. Dies umfasst insbesondere Produktionsmengen, Emissionen, Energieverbräuche und anderweitige Förderung. Die Vorhabensdaten sind jeweils in absoluten Werten anzugeben. Im Abschnitt (Tabellengruppe) KSV Parameter sind die durch die Bewilligungsbehörde festgelegten Programmparameter dargestellt. Der Abschnitt (Tabellengruppe) Berechnungen zeigt die Berechnungen, die der zu erwartenden Auszahlung und der maximalen Fördersumme des Vorhabens zugrundeliegen.
C10: Verwendungshinweis | D10: Grundsätzlich sind Felder zur Eingabe farblich markiert: Grün bezeichnet die von dem Zuwendungsempfänger zu machenden Angaben. Hellgrau bezeichnet die Angaben des Zuwendungsempfängers, welche für weitere Berechnungen aus den Angaben übernommen wurden. Orange hinterlegte Felder sind Angaben der Bewilligungsbehörde. Im vorliegenden Excel-Tool hat der Zuwendungsempfänger lediglich die Tabellenblätter im Abschnitt Inputs auszufüllen. Bitte beachten Sie, dass sich die Farbe der Felder teilweise dynamisch anpasst, z.B. bei Auswahl eines vorgelagerten Referenzsystems. Im Tabellenblatt 2a) Preisannahmen werden Annahmen zu indexierten Preisen für die kommenden Jahre eingetragen. Sie können Annahmen für drei verschiedene Preisszenarien eingeben und das jeweilige Szenario in Tabellenblatt 2b) Allg. Inputs auswählen. Im Tabellenblatt 2b) Allg. Inputs werden allgemeine Informationen des Vorhabens, einschließlich bewilligter anderweitiger Förderung und kostenloser Zuteilungen von Emissionsberechtigungen des EU-ETS, abgefragt. Zudem wird hier das anzuwendende Preisszenario ausgewählt. Falls in Ihrem Vorhaben Wasserstoff eingesetzt wird, der durch Elektrolyseanlagen eines verbundenen Unternehmens produziert wird, füllen Sie bitte das Tabellenblatt 2c) Elektrolyseurförderung aus. Ansonsten ist dieses Tabellenblatt nicht auszufüllen. Im Tabellenblatt 2d) Planwerte (Anlage) ist das jeweilige Referenzsystem aus einer Dropdown-Liste auszuwählen. Es gibt die Möglichkeit, mehrere Referenzsysteme auszuwählen, welche gewichtet in die Berechnungen einfließen. Bei der Wahl eines vorgelagerten Referenzsystems (Wasserstoff, Synthesegas, Wärmebereitstellung oder Brennstoffeinsatz) müssen zusätzlich die Prozessemissionen, hergestellten Industrieprodukte und jeweiligen Produktionsmengen angegeben werden. Die Prozessemissionen der vorgelagerten Referenzsysteme wurden den Zuwendungsempfängern mit Veröffentlichung des Förderaufrufs gesondert mitgeteilt. Die Abfrage von grünem und CO2-armem Wasserstoff erfolgt getrennt. In Anhang 1 des Förderaufrufs ist die jeweilige Mengeneinheit aufgeführt, mit der die Produktmenge anzugeben ist (z.B. für Grauzementklinker in Tonnen Klinker). Falls erwartet wird, dass realisierte Verbrauchsparameter von den geplanten Verbrauchsparametern abweichen werden, ist zusätzlich zum Tabellenblatt 2c) Planwerte (Anlage) das Tabellenblatt 2d) Realisierte Werte (Anlage) auszufüllen. Die Eingabe abweichender realisierter Verbrauchsparameter wird durch den Schalter in Zelle "C6" des Tabellenblatts 2e) Realisierte Werte (Anlage) freigeschaltet. Zu beachten ist ebenfalls, dass die Auszahlungsbeträge im Rahmen der KSV grundsätzlich nachschüssig gewährt werden (mit Ausnahme von Abschlagszahlungen).
C12: Disclaimer | D12: Bitte beachten Sie, dass es sich bei diesem Erklärungstool um eine rechtlich unverbindliche Erklärhilfe handelt. Maßgeblich für diese Erklärhilfe sind die Förderrichtlinie Klimaschutzverträge (FRL KSV) in der für das erste Gebotsverfahren geltenden Fassung vom 11.03.2024, der 1. Förderaufruf zum Gebotsverfahren Klimaschutzverträge vom 12.03.2024 sowie die Regelungen im Zuwendungsbescheid und im Klimaschutzvertrag (KSV).
C14: Kontakt | D14: fragen@klimaschutzvertraege.info
C16: Version | D16: Erklärhilfe zur Abschätzung der jährlichen Förderhöhe (26.02.2026)

Sheet 1) Gesamtübersicht
B2: Gesamtübersicht
B3: Dieses Tabellenblatt gibt einen Überblick über die wichtigsten Angaben und Ergebnisse der nachfolgenden Berechnungen. Zudem wird für besonders relevante Inputdaten geprüft, ob eine Eingabe (in aktiven Jahren) erfolgt ist.
B5: Eingabeprüfung von Schlüsselparametern
B6: Kategorie | C6: Prüfung
B7: Operativer Beginn | C7: ='5) Eingabeprüfung'!C7 -> Nicht befüllt
B8: Basis-Vertragspreis | C8: ='5) Eingabeprüfung'!C8 -> Nicht befüllt
B9: Preisannahmen | C9: ='5) Eingabeprüfung'!C9 -> Nicht befüllt
B10: Angabe Referenzsystem 1 | C10: ='5) Eingabeprüfung'!C10 -> Nicht befüllt
B11: Geplante Produktionsmenge | C11: ='5) Eingabeprüfung'!C11 -> Nicht befüllt
B12: Geplante Emissionen Vorhaben | C12: ='5) Eingabeprüfung'!C12 -> Nicht befüllt
B13: Ggf. realisierte Produktionsmenge | C13: ='5) Eingabeprüfung'!C13 -> -
B14: Ggf. realisierte Emissionen Vorhaben | C14: ='5) Eingabeprüfung'!C14 -> -
B16: Eingabeprüfung: Planwerte vs. realisierte Werte
B17: Nutzung abweichender Eingaben von realisierten Werten im Vergleich zu den Planwerten | C17: ='2e) Realisierte Werte (Anlage)'!$C$6 -> Nein
B19: Allgemeine Angaben & Mindestanforderungen
B20: Kategorie | C20: Einheit
B21: Operativer Beginn | C21: - | D21: =IF(ISBLANK('2b) Allg. Inputs'!C7),"",'2b) Allg. Inputs'!C7)
B22: Basis-Vertragspreis | C22: EUR/t CO2-Äq. | D22: =IF(ISBLANK('2b) Allg. Inputs'!C9),"",'2b) Allg. Inputs'!C9)
B23: Relative geplante Treibhausgasemissionsminderung der ersten 5 vollständigen Jahre der Vertragslaufzeit | C23: % | D23: =IF(ISBLANK('4c) Berechnungen_MFS'!E119),"",'4c) Berechnungen_MFS'!E119) -> 0
B24: Maximale gesamte Fördersumme | C24: EUR | D24: =IFERROR('4c) Berechnungen_MFS'!E110,"")
B25: Maximale gesamte Fördersumme von mind. 15 Mio. EUR | C25: - | D25: =IFERROR(IF('4c) Berechnungen_MFS'!E110>=15000000,"Erreicht","Nicht erreicht"),"")
B26: Maximale gesamte Fördersumme nicht größer als 1 Mrd. EUR | C26: - | D26: =IFERROR(IF('4c) Berechnungen_MFS'!E110>1000000000,"Nicht erreicht","Erreicht"),"")
B27: Erreichte geplante Treibhausgasemissionsminderung von 60 % ab dem 3. vollständigen Kalenderjahr | C27: - | D27: =IFERROR(IF('4c) Berechnungen_MFS'!E114="Nein",IF(MIN('4a) Berechnungen zu Planwerten'!G22:S22)>=60%,"Erreicht","Nicht erreicht"),IF(AND(MIN('4a) Berechnungen zu Planwerten'!H22:R22)>=60%, (('4a) Berechnungen zu Planwerten'!S21 + '4a) Berechnungen zu Planwerten'!T21)/('4a) Berechnungen zu Planwerten'!S93 + '4a) Berechnungen zu Planwerten'!T93))>=60%, ('4a) Berechnungen zu Planwerten'!U22)>=60%),"Erreicht","Nicht erreicht")),"-") -> Nicht erreicht
B28: Erreichte geplante Treibhausgasemissionsminderung von 90 % in den letzten 12 Monaten der Vertragslaufzeit | C28: - | D28: =IFERROR(IF('4c) Berechnungen_MFS'!E114="Nein",IF('4a) Berechnungen zu Planwerten'!S22>=0.9,"Erreicht","Nicht erreicht"),IF(SUM('4a) Berechnungen zu Planwerten'!T21:U21)/SUM('4a) Berechnungen zu Planwerten'!T93:U93)>=0.9,"Erreicht","Nicht erreicht")),"-") -> Nicht erreicht
B29: Ab dem 6. vollständigen Kalenderjahr wird die geplante Treibhausgasemissionsminderung aus dem 5. vollständigen Kalenderjahr nicht unterschritten | C29: - | D29: =IFERROR(IF('4c) Berechnungen_MFS'!E114="Nein", IF(MIN('4a) Berechnungen zu Planwerten'!J22:S22) < '4a) Berechnungen zu Planwerten'!I22 - 0.001, "Nicht erreicht", "Erreicht"), IF(OR(('4a) Berechnungen zu Planwerten'!S21+'4a) Berechnungen zu Planwerten'!T21)/('4a) Berechnungen zu Planwerten'!S93+'4a) Berechnungen zu Planwerten'!T93) < '4a) Berechnungen zu Planwerten'!J22 - 0.001, MIN('4a) Berechnungen zu Planwerten'!K22:R22, '4a) Berechnungen zu Planwerten'!U22) < '4a) Berechnungen zu Planwerten'!J22 - 0.001), "Nicht erreicht", "Erreicht")),"-") -> Erreicht
B30: Mindestgröße des Referenzsystems erreicht (10 kt CO2-Äq.) | C30: - | D30: =IF(SUM( '4c) Berechnungen_MFS'!E39:T39)/15>=10000,"Erreicht","Nicht erreicht") -> Nicht erreicht
M31: Anmerkung: Grafik wird ab dem ersten Jahr, in dem eine Emissionsminderung erreicht wird (geplant oder realisiert), angezeigt.
B32: Auszahlungsbedingungen
B33: Kategorie | C33: Einheit | D33: Gesamte Laufzeit | E33: =YEAR('2b) Allg. Inputs'!C7) -> 1900 | F33: =E44+1 -> 1901 | G33: =F44+1 -> 1902 | H33: =G44+1 -> 1903 | I33: =H44+1 -> 1904 | J33: =I44+1 -> 1905 | K33: =J44+1 -> 1906 | L33: =K44+1 -> 1907 | M33: =L44+1 -> 1908 | ... S33: =R44+1 -> 1914 | T33: =IF('4c) Berechnungen_MFS'!E114="Nein","",S33+1)
B34: Realisierte absolute Treibhausgasemissionsminderung liegt nicht mehr als 10 % unterhalb der geplanten absoluten Treibhausgasemissionsminderung. | C34: - | D34: =IF(AND(COUNTIF(E34:T34,"Nicht erfüllt")=0,COUNTIF(E34:T34,"Erfüllt")=0),"",IF(COUNTIF(E34:T34,"Nicht erfüllt")>0,"Nicht erfüllt","Erfüllt")) | E34: =IFERROR('4d) Berechnungen_Auszahlung'!E372,"") | F34: =IFERROR('4d) Berechnungen_Auszahlung'!F372,"") | G34: =IFERROR('4d) Berechnungen_Auszahlung'!G372,"") | H34: =IFERROR('4d) Berechnungen_Auszahlung'!H372,"") | I34: =IFERROR('4d) Berechnungen_Auszahlung'!I372,"") | J34: =IFERROR('4d) Berechnungen_Auszahlung'!J372,"") | K34: =IFERROR('4d) Berechnungen_Auszahlung'!K372,"") | L34: =IFERROR('4d) Berechnungen_Auszahlung'!L372,"") | ... T34: =IFERROR('4d) Berechnungen_Auszahlung'!T372,"")
B35: Realisierte Treibhausgasemissionsminderung von 60 % ab dem 3. bzw. 4. vollständigen Kalenderjahr (Mindestanforderung). | C35: - | D35: =IF(AND(COUNTIF(E35:T35,"Nicht erfüllt")=0,COUNTIF(E35:T35,"Erfüllt")=0),"",IF(COUNTIF(E35:T35,"Nicht erfüllt")>0,"Nicht erfüllt","Erfüllt")) -> Nicht erfüllt | E35: =IFERROR('4d) Berechnungen_Auszahlung'!E376,"") -> - | F35: =IFERROR('4d) Berechnungen_Auszahlung'!F376,"") -> - | G35: =IFERROR('4d) Berechnungen_Auszahlung'!G376,"") -> Nicht erfüllt | H35: =IFERROR('4d) Berechnungen_Auszahlung'!H376,"") -> Nicht erfüllt | I35: =IFERROR('4d) Berechnungen_Auszahlung'!I376,"") -> Nicht erfüllt | J35: =IFERROR('4d) Berechnungen_Auszahlung'!J376,"") -> Nicht erfüllt | K35: =IFERROR('4d) Berechnungen_Auszahlung'!K376,"") -> Nicht erfüllt | L35: =IFERROR('4d) Berechnungen_Auszahlung'!L376,"") -> Nicht erfüllt | ... T35: =IFERROR('4d) Berechnungen_Auszahlung'!T376,"")
B36: Realisierte Treibhausgasemissionsminderung von 90 % in den letzten 12 Monaten der Vertragslaufzeit (Mindestanforderung). | C36: - | D36: =IF(AND(COUNTIF(E36:T36,"Nicht erfüllt")=0,COUNTIF(E36:T36,"Erfüllt")=0),"",IF(COUNTIF(E36:T36,"Nicht erfüllt")>0,"Nicht erfüllt","Erfüllt")) -> Nicht erfüllt | E36: =IFERROR(IF('4c) Berechnungen_MFS'!$E$114="Nein",'4d) Berechnungen_Auszahlung'!$S$381,'4d) Berechnungen_Auszahlung'!$T$381),"") -> Nicht erfüllt
B37: Keine Unterschreitung der geplanten relativen Treibhausgasemissionsminderung des 5. vollständigen Kalenderjahres ab dem 6. vollständigen Kalenderjahr (Mindestanforderung). | C37: - | D37: =IF(AND(COUNTIF(E37:T37,"Nicht erfüllt")=0,COUNTIF(E37:T37,"Erfüllt")=0),"",IF(COUNTIF(E37:T37,"Nicht erfüllt")>0,"Nicht erfüllt","Erfüllt")) -> Erfüllt | E37: =IFERROR('4d) Berechnungen_Auszahlung'!E387,"") -> - | F37: =IFERROR('4d) Berechnungen_Auszahlung'!F387,"") -> - | G37: =IFERROR('4d) Berechnungen_Auszahlung'!G387,"") -> - | H37: =IFERROR('4d) Berechnungen_Auszahlung'!H387,"") -> - | I37: =IFERROR('4d) Berechnungen_Auszahlung'!I387,"") -> - | J37: =IFERROR('4d) Berechnungen_Auszahlung'!J387,"") -> Erfüllt | K37: =IFERROR('4d) Berechnungen_Auszahlung'!K387,"") -> Erfüllt | L37: =IFERROR('4d) Berechnungen_Auszahlung'!L387,"") -> Erfüllt | ... T37: =IFERROR('4d) Berechnungen_Auszahlung'!T387,"")
B38: Unterschreitung der geplanten spezifischen Treibhausgasemissionsminderung nicht öfter als in 4 Kalenderjahren. | C38: - | D38: =IF(AND(COUNTIF(E38:T38,"Nicht erfüllt")=0,COUNTIF(E38:T38,"Erfüllt")=0),"",IF(COUNTIF(E38:T38,"Nicht erfüllt")>0,"Nicht erfüllt",IF(COUNTIF(E38:T38,"Nicht erfüllt, aber unkritisch")>0,"Nicht erfüllt, aber unkritisch","Erfüllt"))) | E38: =IFERROR('4d) Berechnungen_Auszahlung'!E393,"") | F38: =IFERROR('4d) Berechnungen_Auszahlung'!F393,"") | G38: =IFERROR('4d) Berechnungen_Auszahlung'!G393,"") | H38: =IFERROR('4d) Berechnungen_Auszahlung'!H393,"") | I38: =IFERROR('4d) Berechnungen_Auszahlung'!I393,"") | J38: =IFERROR('4d) Berechnungen_Auszahlung'!J393,"") | K38: =IFERROR('4d) Berechnungen_Auszahlung'!K393,"") | L38: =IFERROR('4d) Berechnungen_Auszahlung'!L393,"") | ... T38: =IFERROR('4d) Berechnungen_Auszahlung'!T393,"")
B39: Der Wasserstoffmindestpfad wird nicht um mehr als 10% unterschritten. | C39: - | D39: =IF(AND(COUNTIF(E39:T39,"Nicht erfüllt")=0,COUNTIF(E39:T39,"Erfüllt")=0),"",IF(COUNTIF(E39:T39,"Nicht erfüllt")>0,"Nicht erfüllt","Erfüllt")) -> Erfüllt | E39: =IFERROR('4d) Berechnungen_Auszahlung'!E398,"") -> Erfüllt | F39: =IFERROR('4d) Berechnungen_Auszahlung'!F398,"") -> Erfüllt | G39: =IFERROR('4d) Berechnungen_Auszahlung'!G398,"") -> Erfüllt | H39: =IFERROR('4d) Berechnungen_Auszahlung'!H398,"") -> Erfüllt | I39: =IFERROR('4d) Berechnungen_Auszahlung'!I398,"") -> Erfüllt | J39: =IFERROR('4d) Berechnungen_Auszahlung'!J398,"") -> Erfüllt | K39: =IFERROR('4d) Berechnungen_Auszahlung'!K398,"") -> Erfüllt | L39: =IFERROR('4d) Berechnungen_Auszahlung'!L398,"") -> Erfüllt | ... T39: =IFERROR('4d) Berechnungen_Auszahlung'!T398,"")
B40: Der operative Beginn des geförderten Vorhabens erfolgt spätestens 36 Monate nach Bestandskraft des Zuwendungsbescheids. | C40: - | D40: =IF(AND(COUNTIF(E40:T40,"Nicht erfüllt")=0,COUNTIF(E40:T40,"Erfüllt")=0),"",IF(COUNTIF(E40:T40,"Nicht erfüllt")>0,"Nicht erfüllt","Erfüllt")) -> Erfüllt | E40: =IFERROR('4d) Berechnungen_Auszahlung'!E401,"") -> Erfüllt
B41: Die realisierten relativen Bedarfe weichen nicht um mehr als fünf Prozentpunkte von den geplanten relativen Bedarfen eines oder mehrerer Energieträger ab. | C41: - | D41: =IF(AND(COUNTIF(E41:T41,"Nicht erfüllt")=0,COUNTIF(E41:T41,"Erfüllt")=0),"",IF(COUNTIF(E41:T41,"Nicht erfüllt")>0,"Nicht erfüllt","Erfüllt")) | E41: =IFERROR('4d) Berechnungen_Auszahlung'!E493,"") | F41: =IFERROR('4d) Berechnungen_Auszahlung'!F493,"") | G41: =IFERROR('4d) Berechnungen_Auszahlung'!G493,"") | H41: =IFERROR('4d) Berechnungen_Auszahlung'!H493,"") | I41: =IFERROR('4d) Berechnungen_Auszahlung'!I493,"") | J41: =IFERROR('4d) Berechnungen_Auszahlung'!J493,"") | K41: =IFERROR('4d) Berechnungen_Auszahlung'!K493,"") | L41: =IFERROR('4d) Berechnungen_Auszahlung'!L493,"") | ... T41: =IFERROR('4d) Berechnungen_Auszahlung'!T493,"")
D42: =IF(AND(COUNTIF(E42:T42,"Nicht erfüllt")=0,COUNTIF(E42:T42,"Erfüllt")=0),"",IF(COUNTIF(E42:T42,"Nicht erfüllt")>0,"Nicht erfüllt","Erfüllt"))
B43: Maximale jährliche Fördersumme und zu erwartende Auszahlung
B44: Kategorie | C44: Einheit | D44: Gesamte Laufzeit | E44: =YEAR('2b) Allg. Inputs'!C7) -> 1900 | F44: =E44+1 -> 1901 | G44: =F44+1 -> 1902 | H44: =G44+1 -> 1903 | I44: =H44+1 -> 1904 | J44: =I44+1 -> 1905 | K44: =J44+1 -> 1906 | L44: =K44+1 -> 1907 | M44: =L44+1 -> 1908 | ... S44: =R44+1 -> 1914 | T44: =IF('4c) Berechnungen_MFS'!E114="Nein","",S44+1)
...

Sheet INPUTS >>

Sheet 2a) Preisannahmen
B1: Preisannahmen
B2: In diesem Tabellenblatt sind Annahmen zu den indexierten Preisen einzugeben. Diese indexierten Preise werden den Berechnungen der zu erwartenden, jährlichen Auszahlungsbeträge zugrundegelegt. Es können Annahmen für drei verschiedene Preisszenarien eingegeben und das jeweilige Szenario in Tabellenblatt 2b) ausgewählt werden.
B3: Szenario 1 | C3: Einheit | D3: 2025 | E3: 2026 | F3: 2027 | G3: 2028 | H3: 2029 | I3: 2030 | J3: 2031 | K3: 2032 | L3: 2033 | M3: 2034 | N3: 2035 | O3: 2036 | P3: 2037 | Q3: 2038 | R3: 2039 | S3: 2040 | T3: 2041 | U3: 2042 | V3: 2043 | W3: 2044 | X3: 2045 | Y3: 2046 | Z3: 2047 | AA3: 2048 | AB3: 2049 | AC3: 2050
B4: Strom | C4: EUR/MWh
B5: Grüner Wasserstoff | C5: EUR/MWh
B6: CO2-armer Wasserstoff | C6: EUR/MWh
B7: Erdgas | C7: EUR/MWh
B8: Kokskohle | C8: EUR/MWh
B9: Kesselkohle | C9: EUR/MWh
B10: CO2-Preis im EU-ETS | C10: EUR/t CO2-Äq.
B12: Szenario 2 | C12: Einheit | D12: 2025 | E12: 2026 | F12: 2027 | G12: 2028 | H12: 2029 | I12: 2030 | J12: 2031 | K12: 2032 | L12: 2033 | M12: 2034 | N12: 2035 | O12: 2036 | P12: 2037 | Q12: 2038 | R12: 2039 | S12: 2040 | T12: 2041 | U12: 2042 | V12: 2043 | W12: 2044 | X12: 2045 | Y12: 2046 | Z12: 2047 | AA12: 2048 | AB12: 2049 | AC12: 2050
B13: Strom | C13: EUR/MWh
B14: Grüner Wasserstoff | C14: EUR/MWh
B15: CO2-armer Wasserstoff | C15: EUR/MWh
B16: Erdgas | C16: EUR/MWh
B17: Kokskohle | C17: EUR/MWh
B18: Kesselkohle | C18: EUR/MWh
B19: CO2-Preis im EU-ETS | C19: EUR/t CO2-Äq.
B21: Szenario 3 | C21: Einheit | D21: 2025 | E21: 2026 | F21: 2027 | G21: 2028 | H21: 2029 | I21: 2030 | J21: 2031 | K21: 2032 | L21: 2033 | M21: 2034 | N21: 2035 | O21: 2036 | P21: 2037 | Q21: 2038 | R21: 2039 | S21: 2040 | T21: 2041 | U21: 2042 | V21: 2043 | W21: 2044 | X21: 2045 | Y21: 2046 | Z21: 2047 | AA21: 2048 | AB21: 2049 | AC21: 2050
B22: Strom | C22: EUR/MWh
B23: Grüner Wasserstoff | C23: EUR/MWh
B24: CO2-armer Wasserstoff | C24: EUR/MWh
B25: Erdgas | C25: EUR/MWh
B26: Kokskohle | C26: EUR/MWh
B27: Kesselkohle | C27: EUR/MWh
B28: CO2-Preis im EU-ETS | C28: EUR/t CO2-Äq.
B30: Namen der Szenarien:
B31: =B3 -> Szenario 1
B32: =B12 -> Szenario 2
B33: =B21 -> Szenario 3

Sheet 2b) Allg. Inputs
B2: Allgemeine Angaben
B3: In diesem Tabellenblatt sind die allgemeinen Informationen des Vorhabens, einschließlich bewilligter anderweitiger Förderung anzugeben. Zudem wird das anzuwendende Preisszenario ausgewählt (indexierte Preise, die für die Berechnung der Auszahlung zugrundegelegt werden).
B5: Modellstart | C5: 2024
B6: Bestandskraft Zuwendungsbescheid (TT/MM/JJJJ)
B7: Operativer Beginn (TT/MM/JJJJ)
B8: Abweichung von dem im quantitativen Abfragedokument angegebenen operativen Beginn | C8: Nein
B9: Basis-Vertragspreis (EUR/t CO2-Äq.)
B11: Anderweitige Förderung
C12: Welche Fördermittel (EUR) fließen oder sind bereits in welchem Jahr geflossen?
C13: Kommentar | D13: Einheit | E13: =C5 -> 2024 | F13: =E13+1 -> 2025 | G13: =F13+1 -> 2026 | H13: =G13+1 -> 2027 | I13: =H13+1 -> 2028 | J13: =I13+1 -> 2029 | K13: =J13+1 -> 2030 | L13: =K13+1 -> 2031 | M13: =L13+1 -> 2032 | ... T13: =S13+1 -> 2039 | U13: =IF(T13>=IF('4c) Berechnungen_MFS'!$E$114="Nein",YEAR($C$7)+14,YEAR($C$7)+15),"",T13+1) | V13: =IF(U13>=IF('4c) Berechnungen_MFS'!$E$114="Nein",YEAR($C$7)+14,YEAR($C$7)+15),"",U13+1) | W13: =IF(V13>=IF('4c) Berechnungen_MFS'!$E$114="Nein",YEAR($C$7)+14,YEAR($C$7)+15),"",V13+1) | X13: =IF(W13>=IF('4c) Berechnungen_MFS'!$E$114="Nein",YEAR($C$7)+14,YEAR($C$7)+15),"",W13+1) | Y13: =IF(X13>=IF('4c) Berechnungen_MFS'!$E$114="Nein",YEAR($C$7)+14,YEAR($C$7)+15),"",X13+1) | Z13: =IF(Y13>=IF('4c) Berechnungen_MFS'!$E$114="Nein",YEAR($C$7)+14,YEAR($C$7)+15),"",Y13+1) | AA13: =IF(Z13>=IF('4c) Berechnungen_MFS'!$E$114="Nein",YEAR($C$7)+14,YEAR($C$7)+15),"",Z13+1) | AB13: =IF(AA13>=IF('4c) Berechnungen_MFS'!$E$114="Nein",YEAR($C$7)+14,YEAR($C$7)+15),"",AA13+1) | ... AE13: =IF(AD13>=IF('4c) Berechnungen_MFS'!$E$114="Nein",YEAR($C$7)+14,YEAR($C$7)+15),"",AD13+1)
B14: Anderweitige Förderung, die nach der Antragsstellung bewilligt oder erhöht wurde | D14: EUR
B16: Angaben zum Wasserstoffbezug
B17: Wird der Wasserstoff durch eine Elektrolyseanlage eines verbundenen Unternehmen bezogen? | C17: Nein | F17: =IF(C17="Ja","Bitte füllen Sie zusätzlich Tabellenblatt 2c) zu Elektrolyseurförderung aus.","Bitte füllen Sie Tabellenblatt 2c) nicht aus.") -> Bitte füllen Sie Tabellenblatt 2c) nicht aus.
B19: Kostenlose Zuteilungen
C20: Welche Höhe kostenloser Zuteilungen im Vorhaben sowie im Referenzsystem wird angenommen?
C21: Kommentar | D21: Einheit | E21: =YEAR('2b) Allg. Inputs'!$C$7) -> 1900 | F21: =E21+1 -> 1901 | G21: =F21+1 -> 1902 | H21: =G21+1 -> 1903 | I21: =H21+1 -> 1904 | J21: =I21+1 -> 1905 | K21: =J21+1 -> 1906 | L21: =K21+1 -> 1907 | M21: =L21+1 -> 1908 | ... S21: =R21+1 -> 1914 | T21: =IF('4c) Berechnungen_MFS'!E114="Nein","",S21+1)
B22: Kostenlose Zuteilungen Referenzsystem | D22: t CO2-Äq./ME Produkt
B23: Kostenlose Zuteilungen Vorhaben | D23: t CO2-Äq./ME Produkt
B25: Preisannahmen
B26: Welche indexierten Preise werden angenommen? | C26: Szenario 1
C27: Kommentar | D27: Einheit | E27: =YEAR('2b) Allg. Inputs'!$C$7) -> 1900 | F27: =E27+1 -> 1901 | G27: =F27+1 -> 1902 | H27: =G27+1 -> 1903 | I27: =H27+1 -> 1904 | J27: =I27+1 -> 1905 | K27: =J27+1 -> 1906 | L27: =K27+1 -> 1907 | M27: =L27+1 -> 1908 | ... S27: =R27+1 -> 1914 | T27: =IF('4c) Berechnungen_MFS'!E114="Nein","",S27+1)
B28: Strom | D28: EUR/MWh | E28: =_xlfn.IFNA(IF($C$26="Szenario 1",INDEX('2a) Preisannahmen'!$D$4:$AC$10,MATCH('2b) Allg. Inputs'!$B28,'2a) Preisannahmen'!$B$4:$B$10,FALSE),MATCH('2b) Allg. Inputs'!E$27,'2a) Preisannahmen'!$D$3:$AC$3,FALSE)),IF($C$26="Szenario 2",INDEX('2a) Preisannahmen'!$D$13:$AC$19,MATCH('2b) Allg. Inputs'!$B28,'2a) Preisannahmen'!$B$13:$B$19,FALSE),MATCH('2b) Allg. Inputs'!E$27,'2a) Preisannahmen'!$D$12:$AC$12,FALSE)),IF($C$26="Szenario 3",INDEX('2a) Preisannahmen'!$D$22:$AC$28,MATCH('2b) Allg. Inputs'!$B28,'2a) Preisannahmen'!$B$22:$B$28,FALSE),MATCH('2b) Allg. Inputs'!E$27,'2a) Preisannahmen'!$D$21:$AC$21,FALSE)),""))),"") | F28: =_xlfn.IFNA(IF($C$26="Szenario 1",INDEX('2a) Preisannahmen'!$D$4:$AC$10,MATCH('2b) Allg. Inputs'!$B28,'2a) Preisannahmen'!$B$4:$B$10,FALSE),MATCH('2b) Allg. Inputs'!F$27,'2a) Preisannahmen'!$D$3:$AC$3,FALSE)),IF($C$26="Szenario 2",INDEX('2a) Preisannahmen'!$D$13:$AC$19,MATCH('2b) Allg. Inputs'!$B28,'2a) Preisannahmen'!$B$13:$B$19,FALSE),MATCH('2b) Allg. Inputs'!F$27,'2a) Preisannahmen'!$D$12:$AC$12,FALSE)),IF($C$26="Szenario 3",INDEX('2a) Preisannahmen'!$D$22:$AC$28,MATCH('2b) Allg. Inputs'!$B28,'2a) Preisannahmen'!$B$22:$B$28,FALSE),MATCH('2b) Allg. Inputs'!F$27,'2a) Preisannahmen'!$D$21:$AC$21,FALSE)),""))),"") | G28: =_xlfn.IFNA(IF($C$26="Szenario 1",INDEX('2a) Preisannahmen'!$D$4:$AC$10,MATCH('2b) Allg. Inputs'!$B28,'2a) Preisannahmen'!$B$4:$B$10,FALSE),MATCH('2b) Allg. Inputs'!G$27,'2a) Preisannahmen'!$D$3:$AC$3,FALSE)),IF($C$26="Szenario 2",INDEX('2a) Preisannahmen'!$D$13:$AC$19,MATCH('2b) Allg. Inputs'!$B28,'2a) Preisannahmen'!$B$13:$B$19,FALSE),MATCH('2b) Allg. Inputs'!G$27,'2a) Preisannahmen'!$D$12:$AC$12,FALSE)),IF($C$26="Szenario 3",INDEX('2a) Preisannahmen'!$D$22:$AC$28,MATCH('2b) Allg. Inputs'!$B28,'2a) Preisannahmen'!$B$22:$B$28,FALSE),MATCH('2b) Allg. Inputs'!G$27,'2a) Preisannahmen'!$D$21:$AC$21,FALSE)),""))),"") | H28: =_xlfn.IFNA(IF($C$26="Szenario 1",INDEX('2a) Preisannahmen'!$D$4:$AC$10,MATCH('2b) Allg. Inputs'!$B28,'2a) Preisannahmen'!$B$4:$B$10,FALSE),MATCH('2b) Allg. Inputs'!H$27,'2a) Preisannahmen'!$D$3:$AC$3,FALSE)),IF($C$26="Szenario 2",INDEX('2a) Preisannahmen'!$D$13:$AC$19,MATCH('2b) Allg. Inputs'!$B28,'2a) Preisannahmen'!$B$13:$B$19,FALSE),MATCH('2b) Allg. Inputs'!H$27,'2a) Preisannahmen'!$D$12:$AC$12,FALSE)),IF($C$26="Szenario 3",INDEX('2a) Preisannahmen'!$D$22:$AC$28,MATCH('2b) Allg. Inputs'!$B28,'2a) Preisannahmen'!$B$22:$B$28,FALSE),MATCH('2b) Allg. Inputs'!H$27,'2a) Preisannahmen'!$D$21:$AC$21,FALSE)),""))),"") | I28: =_xlfn.IFNA(IF($C$26="Szenario 1",INDEX('2a) Preisannahmen'!$D$4:$AC$10,MATCH('2b) Allg. Inputs'!$B28,'2a) Preisannahmen'!$B$4:$B$10,FALSE),MATCH('2b) Allg. Inputs'!I$27,'2a) Preisannahmen'!$D$3:$AC$3,FALSE)),IF($C$26="Szenario 2",INDEX('2a) Preisannahmen'!$D$13:$AC$19,MATCH('2b) Allg. Inputs'!$B28,'2a) Preisannahmen'!$B$13:$B$19,FALSE),MATCH('2b) Allg. Inputs'!I$27,'2a) Preisannahmen'!$D$12:$AC$12,FALSE)),IF($C$26="Szenario 3",INDEX('2a) Preisannahmen'!$D$22:$AC$28,MATCH('2b) Allg. Inputs'!$B28,'2a) Preisannahmen'!$B$22:$B$28,FALSE),MATCH('2b) Allg. Inputs'!I$27,'2a) Preisannahmen'!$D$21:$AC$21,FALSE)),""))),"") | J28: =_xlfn.IFNA(IF($C$26="Szenario 1",INDEX('2a) Preisannahmen'!$D$4:$AC$10,MATCH('2b) Allg. Inputs'!$B28,'2a) Preisannahmen'!$B$4:$B$10,FALSE),MATCH('2b) Allg. Inputs'!J$27,'2a) Preisannahmen'!$D$3:$AC$3,FALSE)),IF($C$26="Szenario 2",INDEX('2a) Preisannahmen'!$D$13:$AC$19,MATCH('2b) Allg. Inputs'!$B28,'2a) Preisannahmen'!$B$13:$B$19,FALSE),MATCH('2b) Allg. Inputs'!J$27,'2a) Preisannahmen'!$D$12:$AC$12,FALSE)),IF($C$26="Szenario 3",INDEX('2a) Preisannahmen'!$D$22:$AC$28,MATCH('2b) Allg. Inputs'!$B28,'2a) Preisannahmen'!$B$22:$B$28,FALSE),MATCH('2b) Allg. Inputs'!J$27,'2a) Preisannahmen'!$D$21:$AC$21,FALSE)),""))),"") | K28: =_xlfn.IFNA(IF($C$26="Szenario 1",INDEX('2a) Preisannahmen'!$D$4:$AC$10,MATCH('2b) Allg. Inputs'!$B28,'2a) Preisannahmen'!$B$4:$B$10,FALSE),MATCH('2b) Allg. Inputs'!K$27,'2a) Preisannahmen'!$D$3:$AC$3,FALSE)),IF($C$26="Szenario 2",INDEX('2a) Preisannahmen'!$D$13:$AC$19,MATCH('2b) Allg. Inputs'!$B28,'2a) Preisannahmen'!$B$13:$B$19,FALSE),MATCH('2b) Allg. Inputs'!K$27,'2a) Preisannahmen'!$D$12:$AC$12,FALSE)),IF($C$26="Szenario 3",INDEX('2a) Preisannahmen'!$D$22:$AC$28,MATCH('2b) Allg. Inputs'!$B28,'2a) Preisannahmen'!$B$22:$B$28,FALSE),MATCH('2b) Allg. Inputs'!K$27,'2a) Preisannahmen'!$D$21:$AC$21,FALSE)),""))),"") | L28: =_xlfn.IFNA(IF($C$26="Szenario 1",INDEX('2a) Preisannahmen'!$D$4:$AC$10,MATCH('2b) Allg. Inputs'!$B28,'2a) Preisannahmen'!$B$4:$B$10,FALSE),MATCH('2b) Allg. Inputs'!L$27,'2a) Preisannahmen'!$D$3:$AC$3,FALSE)),IF($C$26="Szenario 2",INDEX('2a) Preisannahmen'!$D$13:$AC$19,MATCH('2b) Allg. Inputs'!$B28,'2a) Preisannahmen'!$B$13:$B$19,FALSE),MATCH('2b) Allg. Inputs'!L$27,'2a) Preisannahmen'!$D$12:$AC$12,FALSE)),IF($C$26="Szenario 3",INDEX('2a) Preisannahmen'!$D$22:$AC$28,MATCH('2b) Allg. Inputs'!$B28,'2a) Preisannahmen'!$B$22:$B$28,FALSE),MATCH('2b) Allg. Inputs'!L$27,'2a) Preisannahmen'!$D$21:$AC$21,FALSE)),""))),"") | ... T28: =_xlfn.IFNA(IF($C$26="Szenario 1",INDEX('2a) Preisannahmen'!$D$4:$AC$10,MATCH('2b) Allg. Inputs'!$B28,'2a) Preisannahmen'!$B$4:$B$10,FALSE),MATCH('2b) Allg. Inputs'!T$27,'2a) Preisannahmen'!$D$3:$AC$3,FALSE)),IF($C$26="Szenario 2",INDEX('2a) Preisannahmen'!$D$13:$AC$19,MATCH('2b) Allg. Inputs'!$B28,'2a) Preisannahmen'!$B$13:$B$19,FALSE),MATCH('2b) Allg. Inputs'!T$27,'2a) Preisannahmen'!$D$12:$AC$12,FALSE)),IF($C$26="Szenario 3",INDEX('2a) Preisannahmen'!$D$22:$AC$28,MATCH('2b) Allg. Inputs'!$B28,'2a) Preisannahmen'!$B$22:$B$28,FALSE),MATCH('2b) Allg. Inputs'!T$27,'2a) Preisannahmen'!$D$21:$AC$21,FALSE)),""))),"")
B29: Grüner Wasserstoff | C29: mit Berücksichtigung eines 3% Bonus | D29: EUR/MWh | E29: =_xlfn.IFNA(IF($C$26="Szenario 1",INDEX('2a) Preisannahmen'!$D$4:$AC$10,MATCH('2b) Allg. Inputs'!$B29,'2a) Preisannahmen'!$B$4:$B$10,FALSE),MATCH('2b) Allg. Inputs'!E$27,'2a) Preisannahmen'!$D$3:$AC$3,FALSE)),IF($C$26="Szenario 2",INDEX('2a) Preisannahmen'!$D$13:$AC$19,MATCH('2b) Allg. Inputs'!$B29,'2a) Preisannahmen'!$B$13:$B$19,FALSE),MATCH('2b) Allg. Inputs'!E$27,'2a) Preisannahmen'!$D$12:$AC$12,FALSE)),IF($C$26="Szenario 3",INDEX('2a) Preisannahmen'!$D$22:$AC$28,MATCH('2b) Allg. Inputs'!$B29,'2a) Preisannahmen'!$B$22:$B$28,FALSE),MATCH('2b) Allg. Inputs'!E$27,'2a) Preisannahmen'!$D$21:$AC$21,FALSE)),"")))*1.03,"") | F29: =_xlfn.IFNA(IF($C$26="Szenario 1",INDEX('2a) Preisannahmen'!$D$4:$AC$10,MATCH('2b) Allg. Inputs'!$B29,'2a) Preisannahmen'!$B$4:$B$10,FALSE),MATCH('2b) Allg. Inputs'!F$27,'2a) Preisannahmen'!$D$3:$AC$3,FALSE)),IF($C$26="Szenario 2",INDEX('2a) Preisannahmen'!$D$13:$AC$19,MATCH('2b) Allg. Inputs'!$B29,'2a) Preisannahmen'!$B$13:$B$19,FALSE),MATCH('2b) Allg. Inputs'!F$27,'2a) Preisannahmen'!$D$12:$AC$12,FALSE)),IF($C$26="Szenario 3",INDEX('2a) Preisannahmen'!$D$22:$AC$28,MATCH('2b) Allg. Inputs'!$B29,'2a) Preisannahmen'!$B$22:$B$28,FALSE),MATCH('2b) Allg. Inputs'!F$27,'2a) Preisannahmen'!$D$21:$AC$21,FALSE)),"")))*1.03,"") | G29: =_xlfn.IFNA(IF($C$26="Szenario 1",INDEX('2a) Preisannahmen'!$D$4:$AC$10,MATCH('2b) Allg. Inputs'!$B29,'2a) Preisannahmen'!$B$4:$B$10,FALSE),MATCH('2b) Allg. Inputs'!G$27,'2a) Preisannahmen'!$D$3:$AC$3,FALSE)),IF($C$26="Szenario 2",INDEX('2a) Preisannahmen'!$D$13:$AC$19,MATCH('2b) Allg. Inputs'!$B29,'2a) Preisannahmen'!$B$13:$B$19,FALSE),MATCH('2b) Allg. Inputs'!G$27,'2a) Preisannahmen'!$D$12:$AC$12,FALSE)),IF($C$26="Szenario 3",INDEX('2a) Preisannahmen'!$D$22:$AC$28,MATCH('2b) Allg. Inputs'!$B29,'2a) Preisannahmen'!$B$22:$B$28,FALSE),MATCH('2b) Allg. Inputs'!G$27,'2a) Preisannahmen'!$D$21:$AC$21,FALSE)),"")))*1.03,"") | H29: =_xlfn.IFNA(IF($C$26="Szenario 1",INDEX('2a) Preisannahmen'!$D$4:$AC$10,MATCH('2b) Allg. Inputs'!$B29,'2a) Preisannahmen'!$B$4:$B$10,FALSE),MATCH('2b) Allg. Inputs'!H$27,'2a) Preisannahmen'!$D$3:$AC$3,FALSE)),IF($C$26="Szenario 2",INDEX('2a) Preisannahmen'!$D$13:$AC$19,MATCH('2b) Allg. Inputs'!$B29,'2a) Preisannahmen'!$B$13:$B$19,FALSE),MATCH('2b) Allg. Inputs'!H$27,'2a) Preisannahmen'!$D$12:$AC$12,FALSE)),IF($C$26="Szenario 3",INDEX('2a) Preisannahmen'!$D$22:$AC$28,MATCH('2b) Allg. Inputs'!$B29,'2a) Preisannahmen'!$B$22:$B$28,FALSE),MATCH('2b) Allg. Inputs'!H$27,'2a) Preisannahmen'!$D$21:$AC$21,FALSE)),"")))*1.03,"") | I29: =_xlfn.IFNA(IF($C$26="Szenario 1",INDEX('2a) Preisannahmen'!$D$4:$AC$10,MATCH('2b) Allg. Inputs'!$B29,'2a) Preisannahmen'!$B$4:$B$10,FALSE),MATCH('2b) Allg. Inputs'!I$27,'2a) Preisannahmen'!$D$3:$AC$3,FALSE)),IF($C$26="Szenario 2",INDEX('2a) Preisannahmen'!$D$13:$AC$19,MATCH('2b) Allg. Inputs'!$B29,'2a) Preisannahmen'!$B$13:$B$19,FALSE),MATCH('2b) Allg. Inputs'!I$27,'2a) Preisannahmen'!$D$12:$AC$12,FALSE)),IF($C$26="Szenario 3",INDEX('2a) Preisannahmen'!$D$22:$AC$28,MATCH('2b) Allg. Inputs'!$B29,'2a) Preisannahmen'!$B$22:$B$28,FALSE),MATCH('2b) Allg. Inputs'!I$27,'2a) Preisannahmen'!$D$21:$AC$21,FALSE)),"")))*1.03,"") | J29: =_xlfn.IFNA(IF($C$26="Szenario 1",INDEX('2a) Preisannahmen'!$D$4:$AC$10,MATCH('2b) Allg. Inputs'!$B29,'2a) Preisannahmen'!$B$4:$B$10,FALSE),MATCH('2b) Allg. Inputs'!J$27,'2a) Preisannahmen'!$D$3:$AC$3,FALSE)),IF($C$26="Szenario 2",INDEX('2a) Preisannahmen'!$D$13:$AC$19,MATCH('2b) Allg. Inputs'!$B29,'2a) Preisannahmen'!$B$13:$B$19,FALSE),MATCH('2b) Allg. Inputs'!J$27,'2a) Preisannahmen'!$D$12:$AC$12,FALSE)),IF($C$26="Szenario 3",INDEX('2a) Preisannahmen'!$D$22:$AC$28,MATCH('2b) Allg. Inputs'!$B29,'2a) Preisannahmen'!$B$22:$B$28,FALSE),MATCH('2b) Allg. Inputs'!J$27,'2a) Preisannahmen'!$D$21:$AC$21,FALSE)),"")))*1.03,"") | K29: =_xlfn.IFNA(IF($C$26="Szenario 1",INDEX('2a) Preisannahmen'!$D$4:$AC$10,MATCH('2b) Allg. Inputs'!$B29,'2a) Preisannahmen'!$B$4:$B$10,FALSE),MATCH('2b) Allg. Inputs'!K$27,'2a) Preisannahmen'!$D$3:$AC$3,FALSE)),IF($C$26="Szenario 2",INDEX('2a) Preisannahmen'!$D$13:$AC$19,MATCH('2b) Allg. Inputs'!$B29,'2a) Preisannahmen'!$B$13:$B$19,FALSE),MATCH('2b) Allg. Inputs'!K$27,'2a) Preisannahmen'!$D$12:$AC$12,FALSE)),IF($C$26="Szenario 3",INDEX('2a) Preisannahmen'!$D$22:$AC$28,MATCH('2b) Allg. Inputs'!$B29,'2a) Preisannahmen'!$B$22:$B$28,FALSE),MATCH('2b) Allg. Inputs'!K$27,'2a) Preisannahmen'!$D$21:$AC$21,FALSE)),"")))*1.03,"") | L29: =_xlfn.IFNA(IF($C$26="Szenario 1",INDEX('2a) Preisannahmen'!$D$4:$AC$10,MATCH('2b) Allg. Inputs'!$B29,'2a) Preisannahmen'!$B$4:$B$10,FALSE),MATCH('2b) Allg. Inputs'!L$27,'2a) Preisannahmen'!$D$3:$AC$3,FALSE)),IF($C$26="Szenario 2",INDEX('2a) Preisannahmen'!$D$13:$AC$19,MATCH('2b) Allg. Inputs'!$B29,'2a) Preisannahmen'!$B$13:$B$19,FALSE),MATCH('2b) Allg. Inputs'!L$27,'2a) Preisannahmen'!$D$12:$AC$12,FALSE)),IF($C$26="Szenario 3",INDEX('2a) Preisannahmen'!$D$22:$AC$28,MATCH('2b) Allg. Inputs'!$B29,'2a) Preisannahmen'!$B$22:$B$28,FALSE),MATCH('2b) Allg. Inputs'!L$27,'2a) Preisannahmen'!$D$21:$AC$21,FALSE)),"")))*1.03,"") | ... T29: =_xlfn.IFNA(IF($C$26="Szenario 1",INDEX('2a) Preisannahmen'!$D$4:$AC$10,MATCH('2b) Allg. Inputs'!$B29,'2a) Preisannahmen'!$B$4:$B$10,FALSE),MATCH('2b) Allg. Inputs'!T$27,'2a) Preisannahmen'!$D$3:$AC$3,FALSE)),IF($C$26="Szenario 2",INDEX('2a) Preisannahmen'!$D$13:$AC$19,MATCH('2b) Allg. Inputs'!$B29,'2a) Preisannahmen'!$B$13:$B$19,FALSE),MATCH('2b) Allg. Inputs'!T$27,'2a) Preisannahmen'!$D$12:$AC$12,FALSE)),IF($C$26="Szenario 3",INDEX('2a) Preisannahmen'!$D$22:$AC$28,MATCH('2b) Allg. Inputs'!$B29,'2a) Preisannahmen'!$B$22:$B$28,FALSE),MATCH('2b) Allg. Inputs'!T$27,'2a) Preisannahmen'!$D$21:$AC$21,FALSE)),"")))*1.03,"")
B30: Grüner Wasserstoff | C30: ohne Berücksichtigung eines 3% Bonus | D30: EUR/MWh | E30: =_xlfn.IFNA(IF($C$26="Szenario 1",INDEX('2a) Preisannahmen'!$D$4:$AC$10,MATCH('2b) Allg. Inputs'!$B30,'2a) Preisannahmen'!$B$4:$B$10,FALSE),MATCH('2b) Allg. Inputs'!E$27,'2a) Preisannahmen'!$D$3:$AC$3,FALSE)),IF($C$26="Szenario 2",INDEX('2a) Preisannahmen'!$D$13:$AC$19,MATCH('2b) Allg. Inputs'!$B30,'2a) Preisannahmen'!$B$13:$B$19,FALSE),MATCH('2b) Allg. Inputs'!E$27,'2a) Preisannahmen'!$D$12:$AC$12,FALSE)),IF($C$26="Szenario 3",INDEX('2a) Preisannahmen'!$D$22:$AC$28,MATCH('2b) Allg. Inputs'!$B30,'2a) Preisannahmen'!$B$22:$B$28,FALSE),MATCH('2b) Allg. Inputs'!E$27,'2a) Preisannahmen'!$D$21:$AC$21,FALSE)),""))),"") | F30: =_xlfn.IFNA(IF($C$26="Szenario 1",INDEX('2a) Preisannahmen'!$D$4:$AC$10,MATCH('2b) Allg. Inputs'!$B30,'2a) Preisannahmen'!$B$4:$B$10,FALSE),MATCH('2b) Allg. Inputs'!F$27,'2a) Preisannahmen'!$D$3:$AC$3,FALSE)),IF($C$26="Szenario 2",INDEX('2a) Preisannahmen'!$D$13:$AC$19,MATCH('2b) Allg. Inputs'!$B30,'2a) Preisannahmen'!$B$13:$B$19,FALSE),MATCH('2b) Allg. Inputs'!F$27,'2a) Preisannahmen'!$D$12:$AC$12,FALSE)),IF($C$26="Szenario 3",INDEX('2a) Preisannahmen'!$D$22:$AC$28,MATCH('2b) Allg. Inputs'!$B30,'2a) Preisannahmen'!$B$22:$B$28,FALSE),MATCH('2b) Allg. Inputs'!F$27,'2a) Preisannahmen'!$D$21:$AC$21,FALSE)),""))),"") | G30: =_xlfn.IFNA(IF($C$26="Szenario 1",INDEX('2a) Preisannahmen'!$D$4:$AC$10,MATCH('2b) Allg. Inputs'!$B30,'2a) Preisannahmen'!$B$4:$B$10,FALSE),MATCH('2b) Allg. Inputs'!G$27,'2a) Preisannahmen'!$D$3:$AC$3,FALSE)),IF($C$26="Szenario 2",INDEX('2a) Preisannahmen'!$D$13:$AC$19,MATCH('2b) Allg. Inputs'!$B30,'2a) Preisannahmen'!$B$13:$B$19,FALSE),MATCH('2b) Allg. Inputs'!G$27,'2a) Preisannahmen'!$D$12:$AC$12,FALSE)),IF($C$26="Szenario 3",INDEX('2a) Preisannahmen'!$D$22:$AC$28,MATCH('2b) Allg. Inputs'!$B30,'2a) Preisannahmen'!$B$22:$B$28,FALSE),MATCH('2b) Allg. Inputs'!G$27,'2a) Preisannahmen'!$D$21:$AC$21,FALSE)),""))),"") | H30: =_xlfn.IFNA(IF($C$26="Szenario 1",INDEX('2a) Preisannahmen'!$D$4:$AC$10,MATCH('2b) Allg. Inputs'!$B30,'2a) Preisannahmen'!$B$4:$B$10,FALSE),MATCH('2b) Allg. Inputs'!H$27,'2a) Preisannahmen'!$D$3:$AC$3,FALSE)),IF($C$26="Szenario 2",INDEX('2a) Preisannahmen'!$D$13:$AC$19,MATCH('2b) Allg. Inputs'!$B30,'2a) Preisannahmen'!$B$13:$B$19,FALSE),MATCH('2b) Allg. Inputs'!H$27,'2a) Preisannahmen'!$D$12:$AC$12,FALSE)),IF($C$26="Szenario 3",INDEX('2a) Preisannahmen'!$D$22:$AC$28,MATCH('2b) Allg. Inputs'!$B30,'2a) Preisannahmen'!$B$22:$B$28,FALSE),MATCH('2b) Allg. Inputs'!H$27,'2a) Preisannahmen'!$D$21:$AC$21,FALSE)),""))),"") | I30: =_xlfn.IFNA(IF($C$26="Szenario 1",INDEX('2a) Preisannahmen'!$D$4:$AC$10,MATCH('2b) Allg. Inputs'!$B30,'2a) Preisannahmen'!$B$4:$B$10,FALSE),MATCH('2b) Allg. Inputs'!I$27,'2a) Preisannahmen'!$D$3:$AC$3,FALSE)),IF($C$26="Szenario 2",INDEX('2a) Preisannahmen'!$D$13:$AC$19,MATCH('2b) Allg. Inputs'!$B30,'2a) Preisannahmen'!$B$13:$B$19,FALSE),MATCH('2b) Allg. Inputs'!I$27,'2a) Preisannahmen'!$D$12:$AC$12,FALSE)),IF($C$26="Szenario 3",INDEX('2a) Preisannahmen'!$D$22:$AC$28,MATCH('2b) Allg. Inputs'!$B30,'2a) Preisannahmen'!$B$22:$B$28,FALSE),MATCH('2b) Allg. Inputs'!I$27,'2a) Preisannahmen'!$D$21:$AC$21,FALSE)),""))),"") | J30: =_xlfn.IFNA(IF($C$26="Szenario 1",INDEX('2a) Preisannahmen'!$D$4:$AC$10,MATCH('2b) Allg. Inputs'!$B30,'2a) Preisannahmen'!$B$4:$B$10,FALSE),MATCH('2b) Allg. Inputs'!J$27,'2a) Preisannahmen'!$D$3:$AC$3,FALSE)),IF($C$26="Szenario 2",INDEX('2a) Preisannahmen'!$D$13:$AC$19,MATCH('2b) Allg. Inputs'!$B30,'2a) Preisannahmen'!$B$13:$B$19,FALSE),MATCH('2b) Allg. Inputs'!J$27,'2a) Preisannahmen'!$D$12:$AC$12,FALSE)),IF($C$26="Szenario 3",INDEX('2a) Preisannahmen'!$D$22:$AC$28,MATCH('2b) Allg. Inputs'!$B30,'2a) Preisannahmen'!$B$22:$B$28,FALSE),MATCH('2b) Allg. Inputs'!J$27,'2a) Preisannahmen'!$D$21:$AC$21,FALSE)),""))),"") | K30: =_xlfn.IFNA(IF($C$26="Szenario 1",INDEX('2a) Preisannahmen'!$D$4:$AC$10,MATCH('2b) Allg. Inputs'!$B30,'2a) Preisannahmen'!$B$4:$B$10,FALSE),MATCH('2b) Allg. Inputs'!K$27,'2a) Preisannahmen'!$D$3:$AC$3,FALSE)),IF($C$26="Szenario 2",INDEX('2a) Preisannahmen'!$D$13:$AC$19,MATCH('2b) Allg. Inputs'!$B30,'2a) Preisannahmen'!$B$13:$B$19,FALSE),MATCH('2b) Allg. Inputs'!K$27,'2a) Preisannahmen'!$D$12:$AC$12,FALSE)),IF($C$26="Szenario 3",INDEX('2a) Preisannahmen'!$D$22:$AC$28,MATCH('2b) Allg. Inputs'!$B30,'2a) Preisannahmen'!$B$22:$B$28,FALSE),MATCH('2b) Allg. Inputs'!K$27,'2a) Preisannahmen'!$D$21:$AC$21,FALSE)),""))),"") | L30: =_xlfn.IFNA(IF($C$26="Szenario 1",INDEX('2a) Preisannahmen'!$D$4:$AC$10,MATCH('2b) Allg. Inputs'!$B30,'2a) Preisannahmen'!$B$4:$B$10,FALSE),MATCH('2b) Allg. Inputs'!L$27,'2a) Preisannahmen'!$D$3:$AC$3,FALSE)),IF($C$26="Szenario 2",INDEX('2a) Preisannahmen'!$D$13:$AC$19,MATCH('2b) Allg. Inputs'!$B30,'2a) Preisannahmen'!$B$13:$B$19,FALSE),MATCH('2b) Allg. Inputs'!L$27,'2a) Preisannahmen'!$D$12:$AC$12,FALSE)),IF($C$26="Szenario 3",INDEX('2a) Preisannahmen'!$D$22:$AC$28,MATCH('2b) Allg. Inputs'!$B30,'2a) Preisannahmen'!$B$22:$B$28,FALSE),MATCH('2b) Allg. Inputs'!L$27,'2a) Preisannahmen'!$D$21:$AC$21,FALSE)),""))),"") | ... T30: =_xlfn.IFNA(IF($C$26="Szenario 1",INDEX('2a) Preisannahmen'!$D$4:$AC$10,MATCH('2b) Allg. Inputs'!$B30,'2a) Preisannahmen'!$B$4:$B$10,FALSE),MATCH('2b) Allg. Inputs'!T$27,'2a) Preisannahmen'!$D$3:$AC$3,FALSE)),IF($C$26="Szenario 2",INDEX('2a) Preisannahmen'!$D$13:$AC$19,MATCH('2b) Allg. Inputs'!$B30,'2a) Preisannahmen'!$B$13:$B$19,FALSE),MATCH('2b) Allg. Inputs'!T$27,'2a) Preisannahmen'!$D$12:$AC$12,FALSE)),IF($C$26="Szenario 3",INDEX('2a) Preisannahmen'!$D$22:$AC$28,MATCH('2b) Allg. Inputs'!$B30,'2a) Preisannahmen'!$B$22:$B$28,FALSE),MATCH('2b) Allg. Inputs'!T$27,'2a) Preisannahmen'!$D$21:$AC$21,FALSE)),""))),"")
B31: CO2-armer Wasserstoff | D31: EUR/MWh | E31: =_xlfn.IFNA(IF($C$26="Szenario 1",INDEX('2a) Preisannahmen'!$D$4:$AC$10,MATCH('2b) Allg. Inputs'!$B31,'2a) Preisannahmen'!$B$4:$B$10,FALSE),MATCH('2b) Allg. Inputs'!E$27,'2a) Preisannahmen'!$D$3:$AC$3,FALSE)),IF($C$26="Szenario 2",INDEX('2a) Preisannahmen'!$D$13:$AC$19,MATCH('2b) Allg. Inputs'!$B31,'2a) Preisannahmen'!$B$13:$B$19,FALSE),MATCH('2b) Allg. Inputs'!E$27,'2a) Preisannahmen'!$D$12:$AC$12,FALSE)),IF($C$26="Szenario 3",INDEX('2a) Preisannahmen'!$D$22:$AC$28,MATCH('2b) Allg. Inputs'!$B31,'2a) Preisannahmen'!$B$22:$B$28,FALSE),MATCH('2b) Allg. Inputs'!E$27,'2a) Preisannahmen'!$D$21:$AC$21,FALSE)),""))),"") | F31: =_xlfn.IFNA(IF($C$26="Szenario 1",INDEX('2a) Preisannahmen'!$D$4:$AC$10,MATCH('2b) Allg. Inputs'!$B31,'2a) Preisannahmen'!$B$4:$B$10,FALSE),MATCH('2b) Allg. Inputs'!F$27,'2a) Preisannahmen'!$D$3:$AC$3,FALSE)),IF($C$26="Szenario 2",INDEX('2a) Preisannahmen'!$D$13:$AC$19,MATCH('2b) Allg. Inputs'!$B31,'2a) Preisannahmen'!$B$13:$B$19,FALSE),MATCH('2b) Allg. Inputs'!F$27,'2a) Preisannahmen'!$D$12:$AC$12,FALSE)),IF($C$26="Szenario 3",INDEX('2a) Preisannahmen'!$D$22:$AC$28,MATCH('2b) Allg. Inputs'!$B31,'2a) Preisannahmen'!$B$22:$B$28,FALSE),MATCH('2b) Allg. Inputs'!F$27,'2a) Preisannahmen'!$D$21:$AC$21,FALSE)),""))),"") | G31: =_xlfn.IFNA(IF($C$26="Szenario 1",INDEX('2a) Preisannahmen'!$D$4:$AC$10,MATCH('2b) Allg. Inputs'!$B31,'2a) Preisannahmen'!$B$4:$B$10,FALSE),MATCH('2b) Allg. Inputs'!G$27,'2a) Preisannahmen'!$D$3:$AC$3,FALSE)),IF($C$26="Szenario 2",INDEX('2a) Preisannahmen'!$D$13:$AC$19,MATCH('2b) Allg. Inputs'!$B31,'2a) Preisannahmen'!$B$13:$B$19,FALSE),MATCH('2b) Allg. Inputs'!G$27,'2a) Preisannahmen'!$D$12:$AC$12,FALSE)),IF($C$26="Szenario 3",INDEX('2a) Preisannahmen'!$D$22:$AC$28,MATCH('2b) Allg. Inputs'!$B31,'2a) Preisannahmen'!$B$22:$B$28,FALSE),MATCH('2b) Allg. Inputs'!G$27,'2a) Preisannahmen'!$D$21:$AC$21,FALSE)),""))),"") | H31: =_xlfn.IFNA(IF($C$26="Szenario 1",INDEX('2a) Preisannahmen'!$D$4:$AC$10,MATCH('2b) Allg. Inputs'!$B31,'2a) Preisannahmen'!$B$4:$B$10,FALSE),MATCH('2b) Allg. Inputs'!H$27,'2a) Preisannahmen'!$D$3:$AC$3,FALSE)),IF($C$26="Szenario 2",INDEX('2a) Preisannahmen'!$D$13:$AC$19,MATCH('2b) Allg. Inputs'!$B31,'2a) Preisannahmen'!$B$13:$B$19,FALSE),MATCH('2b) Allg. Inputs'!H$27,'2a) Preisannahmen'!$D$12:$AC$12,FALSE)),IF($C$26="Szenario 3",INDEX('2a) Preisannahmen'!$D$22:$AC$28,MATCH('2b) Allg. Inputs'!$B31,'2a) Preisannahmen'!$B$22:$B$28,FALSE),MATCH('2b) Allg. Inputs'!H$27,'2a) Preisannahmen'!$D$21:$AC$21,FALSE)),""))),"") | I31: =_xlfn.IFNA(IF($C$26="Szenario 1",INDEX('2a) Preisannahmen'!$D$4:$AC$10,MATCH('2b) Allg. Inputs'!$B31,'2a) Preisannahmen'!$B$4:$B$10,FALSE),MATCH('2b) Allg. Inputs'!I$27,'2a) Preisannahmen'!$D$3:$AC$3,FALSE)),IF($C$26="Szenario 2",INDEX('2a) Preisannahmen'!$D$13:$AC$19,MATCH('2b) Allg. Inputs'!$B31,'2a) Preisannahmen'!$B$13:$B$19,FALSE),MATCH('2b) Allg. Inputs'!I$27,'2a) Preisannahmen'!$D$12:$AC$12,FALSE)),IF($C$26="Szenario 3",INDEX('2a) Preisannahmen'!$D$22:$AC$28,MATCH('2b) Allg. Inputs'!$B31,'2a) Preisannahmen'!$B$22:$B$28,FALSE),MATCH('2b) Allg. Inputs'!I$27,'2a) Preisannahmen'!$D$21:$AC$21,FALSE)),""))),"") | J31: =_xlfn.IFNA(IF($C$26="Szenario 1",INDEX('2a) Preisannahmen'!$D$4:$AC$10,MATCH('2b) Allg. Inputs'!$B31,'2a) Preisannahmen'!$B$4:$B$10,FALSE),MATCH('2b) Allg. Inputs'!J$27,'2a) Preisannahmen'!$D$3:$AC$3,FALSE)),IF($C$26="Szenario 2",INDEX('2a) Preisannahmen'!$D$13:$AC$19,MATCH('2b) Allg. Inputs'!$B31,'2a) Preisannahmen'!$B$13:$B$19,FALSE),MATCH('2b) Allg. Inputs'!J$27,'2a) Preisannahmen'!$D$12:$AC$12,FALSE)),IF($C$26="Szenario 3",INDEX('2a) Preisannahmen'!$D$22:$AC$28,MATCH('2b) Allg. Inputs'!$B31,'2a) Preisannahmen'!$B$22:$B$28,FALSE),MATCH('2b) Allg. Inputs'!J$27,'2a) Preisannahmen'!$D$21:$AC$21,FALSE)),""))),"") | K31: =_xlfn.IFNA(IF($C$26="Szenario 1",INDEX('2a) Preisannahmen'!$D$4:$AC$10,MATCH('2b) Allg. Inputs'!$B31,'2a) Preisannahmen'!$B$4:$B$10,FALSE),MATCH('2b) Allg. Inputs'!K$27,'2a) Preisannahmen'!$D$3:$AC$3,FALSE)),IF($C$26="Szenario 2",INDEX('2a) Preisannahmen'!$D$13:$AC$19,MATCH('2b) Allg. Inputs'!$B31,'2a) Preisannahmen'!$B$13:$B$19,FALSE),MATCH('2b) Allg. Inputs'!K$27,'2a) Preisannahmen'!$D$12:$AC$12,FALSE)),IF($C$26="Szenario 3",INDEX('2a) Preisannahmen'!$D$22:$AC$28,MATCH('2b) Allg. Inputs'!$B31,'2a) Preisannahmen'!$B$22:$B$28,FALSE),MATCH('2b) Allg. Inputs'!K$27,'2a) Preisannahmen'!$D$21:$AC$21,FALSE)),""))),"") | L31: =_xlfn.IFNA(IF($C$26="Szenario 1",INDEX('2a) Preisannahmen'!$D$4:$AC$10,MATCH('2b) Allg. Inputs'!$B31,'2a) Preisannahmen'!$B$4:$B$10,FALSE),MATCH('2b) Allg. Inputs'!L$27,'2a) Preisannahmen'!$D$3:$AC$3,FALSE)),IF($C$26="Szenario 2",INDEX('2a) Preisannahmen'!$D$13:$AC$19,MATCH('2b) Allg. Inputs'!$B31,'2a) Preisannahmen'!$B$13:$B$19,FALSE),MATCH('2b) Allg. Inputs'!L$27,'2a) Preisannahmen'!$D$12:$AC$12,FALSE)),IF($C$26="Szenario 3",INDEX('2a) Preisannahmen'!$D$22:$AC$28,MATCH('2b) Allg. Inputs'!$B31,'2a) Preisannahmen'!$B$22:$B$28,FALSE),MATCH('2b) Allg. Inputs'!L$27,'2a) Preisannahmen'!$D$21:$AC$21,FALSE)),""))),"") | ... T31: =_xlfn.IFNA(IF($C$26="Szenario 1",INDEX('2a) Preisannahmen'!$D$4:$AC$10,MATCH('2b) Allg. Inputs'!$B31,'2a) Preisannahmen'!$B$4:$B$10,FALSE),MATCH('2b) Allg. Inputs'!T$27,'2a) Preisannahmen'!$D$3:$AC$3,FALSE)),IF($C$26="Szenario 2",INDEX('2a) Preisannahmen'!$D$13:$AC$19,MATCH('2b) Allg. Inputs'!$B31,'2a) Preisannahmen'!$B$13:$B$19,FALSE),MATCH('2b) Allg. Inputs'!T$27,'2a) Preisannahmen'!$D$12:$AC$12,FALSE)),IF($C$26="Szenario 3",INDEX('2a) Preisannahmen'!$D$22:$AC$28,MATCH('2b) Allg. Inputs'!$B31,'2a) Preisannahmen'!$B$22:$B$28,FALSE),MATCH('2b) Allg. Inputs'!T$27,'2a) Preisannahmen'!$D$21:$AC$21,FALSE)),""))),"")
B32: Erdgas | D32: EUR/MWh | E32: =_xlfn.IFNA(IF($C$26="Szenario 1",INDEX('2a) Preisannahmen'!$D$4:$AC$10,MATCH('2b) Allg. Inputs'!$B32,'2a) Preisannahmen'!$B$4:$B$10,FALSE),MATCH('2b) Allg. Inputs'!E$27,'2a) Preisannahmen'!$D$3:$AC$3,FALSE)),IF($C$26="Szenario 2",INDEX('2a) Preisannahmen'!$D$13:$AC$19,MATCH('2b) Allg. Inputs'!$B32,'2a) Preisannahmen'!$B$13:$B$19,FALSE),MATCH('2b) Allg. Inputs'!E$27,'2a) Preisannahmen'!$D$12:$AC$12,FALSE)),IF($C$26="Szenario 3",INDEX('2a) Preisannahmen'!$D$22:$AC$28,MATCH('2b) Allg. Inputs'!$B32,'2a) Preisannahmen'!$B$22:$B$28,FALSE),MATCH('2b) Allg. Inputs'!E$27,'2a) Preisannahmen'!$D$21:$AC$21,FALSE)),""))),"") | F32: =_xlfn.IFNA(IF($C$26="Szenario 1",INDEX('2a) Preisannahmen'!$D$4:$AC$10,MATCH('2b) Allg. Inputs'!$B32,'2a) Preisannahmen'!$B$4:$B$10,FALSE),MATCH('2b) Allg. Inputs'!F$27,'2a) Preisannahmen'!$D$3:$AC$3,FALSE)),IF($C$26="Szenario 2",INDEX('2a) Preisannahmen'!$D$13:$AC$19,MATCH('2b) Allg. Inputs'!$B32,'2a) Preisannahmen'!$B$13:$B$19,FALSE),MATCH('2b) Allg. Inputs'!F$27,'2a) Preisannahmen'!$D$12:$AC$12,FALSE)),IF($C$26="Szenario 3",INDEX('2a) Preisannahmen'!$D$22:$AC$28,MATCH('2b) Allg. Inputs'!$B32,'2a) Preisannahmen'!$B$22:$B$28,FALSE),MATCH('2b) Allg. Inputs'!F$27,'2a) Preisannahmen'!$D$21:$AC$21,FALSE)),""))),"") | G32: =_xlfn.IFNA(IF($C$26="Szenario 1",INDEX('2a) Preisannahmen'!$D$4:$AC$10,MATCH('2b) Allg. Inputs'!$B32,'2a) Preisannahmen'!$B$4:$B$10,FALSE),MATCH('2b) Allg. Inputs'!G$27,'2a) Preisannahmen'!$D$3:$AC$3,FALSE)),IF($C$26="Szenario 2",INDEX('2a) Preisannahmen'!$D$13:$AC$19,MATCH('2b) Allg. Inputs'!$B32,'2a) Preisannahmen'!$B$13:$B$19,FALSE),MATCH('2b) Allg. Inputs'!G$27,'2a) Preisannahmen'!$D$12:$AC$12,FALSE)),IF($C$26="Szenario 3",INDEX('2a) Preisannahmen'!$D$22:$AC$28,MATCH('2b) Allg. Inputs'!$B32,'2a) Preisannahmen'!$B$22:$B$28,FALSE),MATCH('2b) Allg. Inputs'!G$27,'2a) Preisannahmen'!$D$21:$AC$21,FALSE)),""))),"") | H32: =_xlfn.IFNA(IF($C$26="Szenario 1",INDEX('2a) Preisannahmen'!$D$4:$AC$10,MATCH('2b) Allg. Inputs'!$B32,'2a) Preisannahmen'!$B$4:$B$10,FALSE),MATCH('2b) Allg. Inputs'!H$27,'2a) Preisannahmen'!$D$3:$AC$3,FALSE)),IF($C$26="Szenario 2",INDEX('2a) Preisannahmen'!$D$13:$AC$19,MATCH('2b) Allg. Inputs'!$B32,'2a) Preisannahmen'!$B$13:$B$19,FALSE),MATCH('2b) Allg. Inputs'!H$27,'2a) Preisannahmen'!$D$12:$AC$12,FALSE)),IF($C$26="Szenario 3",INDEX('2a) Preisannahmen'!$D$22:$AC$28,MATCH('2b) Allg. Inputs'!$B32,'2a) Preisannahmen'!$B$22:$B$28,FALSE),MATCH('2b) Allg. Inputs'!H$27,'2a) Preisannahmen'!$D$21:$AC$21,FALSE)),""))),"") | I32: =_xlfn.IFNA(IF($C$26="Szenario 1",INDEX('2a) Preisannahmen'!$D$4:$AC$10,MATCH('2b) Allg. Inputs'!$B32,'2a) Preisannahmen'!$B$4:$B$10,FALSE),MATCH('2b) Allg. Inputs'!I$27,'2a) Preisannahmen'!$D$3:$AC$3,FALSE)),IF($C$26="Szenario 2",INDEX('2a) Preisannahmen'!$D$13:$AC$19,MATCH('2b) Allg. Inputs'!$B32,'2a) Preisannahmen'!$B$13:$B$19,FALSE),MATCH('2b) Allg. Inputs'!I$27,'2a) Preisannahmen'!$D$12:$AC$12,FALSE)),IF($C$26="Szenario 3",INDEX('2a) Preisannahmen'!$D$22:$AC$28,MATCH('2b) Allg. Inputs'!$B32,'2a) Preisannahmen'!$B$22:$B$28,FALSE),MATCH('2b) Allg. Inputs'!I$27,'2a) Preisannahmen'!$D$21:$AC$21,FALSE)),""))),"") | J32: =_xlfn.IFNA(IF($C$26="Szenario 1",INDEX('2a) Preisannahmen'!$D$4:$AC$10,MATCH('2b) Allg. Inputs'!$B32,'2a) Preisannahmen'!$B$4:$B$10,FALSE),MATCH('2b) Allg. Inputs'!J$27,'2a) Preisannahmen'!$D$3:$AC$3,FALSE)),IF($C$26="Szenario 2",INDEX('2a) Preisannahmen'!$D$13:$AC$19,MATCH('2b) Allg. Inputs'!$B32,'2a) Preisannahmen'!$B$13:$B$19,FALSE),MATCH('2b) Allg. Inputs'!J$27,'2a) Preisannahmen'!$D$12:$AC$12,FALSE)),IF($C$26="Szenario 3",INDEX('2a) Preisannahmen'!$D$22:$AC$28,MATCH('2b) Allg. Inputs'!$B32,'2a) Preisannahmen'!$B$22:$B$28,FALSE),MATCH('2b) Allg. Inputs'!J$27,'2a) Preisannahmen'!$D$21:$AC$21,FALSE)),""))),"") | K32: =_xlfn.IFNA(IF($C$26="Szenario 1",INDEX('2a) Preisannahmen'!$D$4:$AC$10,MATCH('2b) Allg. Inputs'!$B32,'2a) Preisannahmen'!$B$4:$B$10,FALSE),MATCH('2b) Allg. Inputs'!K$27,'2a) Preisannahmen'!$D$3:$AC$3,FALSE)),IF($C$26="Szenario 2",INDEX('2a) Preisannahmen'!$D$13:$AC$19,MATCH('2b) Allg. Inputs'!$B32,'2a) Preisannahmen'!$B$13:$B$19,FALSE),MATCH('2b) Allg. Inputs'!K$27,'2a) Preisannahmen'!$D$12:$AC$12,FALSE)),IF($C$26="Szenario 3",INDEX('2a) Preisannahmen'!$D$22:$AC$28,MATCH('2b) Allg. Inputs'!$B32,'2a) Preisannahmen'!$B$22:$B$28,FALSE),MATCH('2b) Allg. Inputs'!K$27,'2a) Preisannahmen'!$D$21:$AC$21,FALSE)),""))),"") | L32: =_xlfn.IFNA(IF($C$26="Szenario 1",INDEX('2a) Preisannahmen'!$D$4:$AC$10,MATCH('2b) Allg. Inputs'!$B32,'2a) Preisannahmen'!$B$4:$B$10,FALSE),MATCH('2b) Allg. Inputs'!L$27,'2a) Preisannahmen'!$D$3:$AC$3,FALSE)),IF($C$26="Szenario 2",INDEX('2a) Preisannahmen'!$D$13:$AC$19,MATCH('2b) Allg. Inputs'!$B32,'2a) Preisannahmen'!$B$13:$B$19,FALSE),MATCH('2b) Allg. Inputs'!L$27,'2a) Preisannahmen'!$D$12:$AC$12,FALSE)),IF($C$26="Szenario 3",INDEX('2a) Preisannahmen'!$D$22:$AC$28,MATCH('2b) Allg. Inputs'!$B32,'2a) Preisannahmen'!$B$22:$B$28,FALSE),MATCH('2b) Allg. Inputs'!L$27,'2a) Preisannahmen'!$D$21:$AC$21,FALSE)),""))),"") | ... T32: =_xlfn.IFNA(IF($C$26="Szenario 1",INDEX('2a) Preisannahmen'!$D$4:$AC$10,MATCH('2b) Allg. Inputs'!$B32,'2a) Preisannahmen'!$B$4:$B$10,FALSE),MATCH('2b) Allg. Inputs'!T$27,'2a) Preisannahmen'!$D$3:$AC$3,FALSE)),IF($C$26="Szenario 2",INDEX('2a) Preisannahmen'!$D$13:$AC$19,MATCH('2b) Allg. Inputs'!$B32,'2a) Preisannahmen'!$B$13:$B$19,FALSE),MATCH('2b) Allg. Inputs'!T$27,'2a) Preisannahmen'!$D$12:$AC$12,FALSE)),IF($C$26="Szenario 3",INDEX('2a) Preisannahmen'!$D$22:$AC$28,MATCH('2b) Allg. Inputs'!$B32,'2a) Preisannahmen'!$B$22:$B$28,FALSE),MATCH('2b) Allg. Inputs'!T$27,'2a) Preisannahmen'!$D$21:$AC$21,FALSE)),""))),"")
B33: Kokskohle | D33: EUR/MWh | E33: =_xlfn.IFNA(IF($C$26="Szenario 1",INDEX('2a) Preisannahmen'!$D$4:$AC$10,MATCH('2b) Allg. Inputs'!$B33,'2a) Preisannahmen'!$B$4:$B$10,FALSE),MATCH('2b) Allg. Inputs'!E$27,'2a) Preisannahmen'!$D$3:$AC$3,FALSE)),IF($C$26="Szenario 2",INDEX('2a) Preisannahmen'!$D$13:$AC$19,MATCH('2b) Allg. Inputs'!$B33,'2a) Preisannahmen'!$B$13:$B$19,FALSE),MATCH('2b) Allg. Inputs'!E$27,'2a) Preisannahmen'!$D$12:$AC$12,FALSE)),IF($C$26="Szenario 3",INDEX('2a) Preisannahmen'!$D$22:$AC$28,MATCH('2b) Allg. Inputs'!$B33,'2a) Preisannahmen'!$B$22:$B$28,FALSE),MATCH('2b) Allg. Inputs'!E$27,'2a) Preisannahmen'!$D$21:$AC$21,FALSE)),""))),"") | F33: =_xlfn.IFNA(IF($C$26="Szenario 1",INDEX('2a) Preisannahmen'!$D$4:$AC$10,MATCH('2b) Allg. Inputs'!$B33,'2a) Preisannahmen'!$B$4:$B$10,FALSE),MATCH('2b) Allg. Inputs'!F$27,'2a) Preisannahmen'!$D$3:$AC$3,FALSE)),IF($C$26="Szenario 2",INDEX('2a) Preisannahmen'!$D$13:$AC$19,MATCH('2b) Allg. Inputs'!$B33,'2a) Preisannahmen'!$B$13:$B$19,FALSE),MATCH('2b) Allg. Inputs'!F$27,'2a) Preisannahmen'!$D$12:$AC$12,FALSE)),IF($C$26="Szenario 3",INDEX('2a) Preisannahmen'!$D$22:$AC$28,MATCH('2b) Allg. Inputs'!$B33,'2a) Preisannahmen'!$B$22:$B$28,FALSE),MATCH('2b) Allg. Inputs'!F$27,'2a) Preisannahmen'!$D$21:$AC$21,FALSE)),""))),"") | G33: =_xlfn.IFNA(IF($C$26="Szenario 1",INDEX('2a) Preisannahmen'!$D$4:$AC$10,MATCH('2b) Allg. Inputs'!$B33,'2a) Preisannahmen'!$B$4:$B$10,FALSE),MATCH('2b) Allg. Inputs'!G$27,'2a) Preisannahmen'!$D$3:$AC$3,FALSE)),IF($C$26="Szenario 2",INDEX('2a) Preisannahmen'!$D$13:$AC$19,MATCH('2b) Allg. Inputs'!$B33,'2a) Preisannahmen'!$B$13:$B$19,FALSE),MATCH('2b) Allg. Inputs'!G$27,'2a) Preisannahmen'!$D$12:$AC$12,FALSE)),IF($C$26="Szenario 3",INDEX('2a) Preisannahmen'!$D$22:$AC$28,MATCH('2b) Allg. Inputs'!$B33,'2a) Preisannahmen'!$B$22:$B$28,FALSE),MATCH('2b) Allg. Inputs'!G$27,'2a) Preisannahmen'!$D$21:$AC$21,FALSE)),""))),"") | H33: =_xlfn.IFNA(IF($C$26="Szenario 1",INDEX('2a) Preisannahmen'!$D$4:$AC$10,MATCH('2b) Allg. Inputs'!$B33,'2a) Preisannahmen'!$B$4:$B$10,FALSE),MATCH('2b) Allg. Inputs'!H$27,'2a) Preisannahmen'!$D$3:$AC$3,FALSE)),IF($C$26="Szenario 2",INDEX('2a) Preisannahmen'!$D$13:$AC$19,MATCH('2b) Allg. Inputs'!$B33,'2a) Preisannahmen'!$B$13:$B$19,FALSE),MATCH('2b) Allg. Inputs'!H$27,'2a) Preisannahmen'!$D$12:$AC$12,FALSE)),IF($C$26="Szenario 3",INDEX('2a) Preisannahmen'!$D$22:$AC$28,MATCH('2b) Allg. Inputs'!$B33,'2a) Preisannahmen'!$B$22:$B$28,FALSE),MATCH('2b) Allg. Inputs'!H$27,'2a) Preisannahmen'!$D$21:$AC$21,FALSE)),""))),"") | I33: =_xlfn.IFNA(IF($C$26="Szenario 1",INDEX('2a) Preisannahmen'!$D$4:$AC$10,MATCH('2b) Allg. Inputs'!$B33,'2a) Preisannahmen'!$B$4:$B$10,FALSE),MATCH('2b) Allg. Inputs'!I$27,'2a) Preisannahmen'!$D$3:$AC$3,FALSE)),IF($C$26="Szenario 2",INDEX('2a) Preisannahmen'!$D$13:$AC$19,MATCH('2b) Allg. Inputs'!$B33,'2a) Preisannahmen'!$B$13:$B$19,FALSE),MATCH('2b) Allg. Inputs'!I$27,'2a) Preisannahmen'!$D$12:$AC$12,FALSE)),IF($C$26="Szenario 3",INDEX('2a) Preisannahmen'!$D$22:$AC$28,MATCH('2b) Allg. Inputs'!$B33,'2a) Preisannahmen'!$B$22:$B$28,FALSE),MATCH('2b) Allg. Inputs'!I$27,'2a) Preisannahmen'!$D$21:$AC$21,FALSE)),""))),"") | J33: =_xlfn.IFNA(IF($C$26="Szenario 1",INDEX('2a) Preisannahmen'!$D$4:$AC$10,MATCH('2b) Allg. Inputs'!$B33,'2a) Preisannahmen'!$B$4:$B$10,FALSE),MATCH('2b) Allg. Inputs'!J$27,'2a) Preisannahmen'!$D$3:$AC$3,FALSE)),IF($C$26="Szenario 2",INDEX('2a) Preisannahmen'!$D$13:$AC$19,MATCH('2b) Allg. Inputs'!$B33,'2a) Preisannahmen'!$B$13:$B$19,FALSE),MATCH('2b) Allg. Inputs'!J$27,'2a) Preisannahmen'!$D$12:$AC$12,FALSE)),IF($C$26="Szenario 3",INDEX('2a) Preisannahmen'!$D$22:$AC$28,MATCH('2b) Allg. Inputs'!$B33,'2a) Preisannahmen'!$B$22:$B$28,FALSE),MATCH('2b) Allg. Inputs'!J$27,'2a) Preisannahmen'!$D$21:$AC$21,FALSE)),""))),"") | K33: =_xlfn.IFNA(IF($C$26="Szenario 1",INDEX('2a) Preisannahmen'!$D$4:$AC$10,MATCH('2b) Allg. Inputs'!$B33,'2a) Preisannahmen'!$B$4:$B$10,FALSE),MATCH('2b) Allg. Inputs'!K$27,'2a) Preisannahmen'!$D$3:$AC$3,FALSE)),IF($C$26="Szenario 2",INDEX('2a) Preisannahmen'!$D$13:$AC$19,MATCH('2b) Allg. Inputs'!$B33,'2a) Preisannahmen'!$B$13:$B$19,FALSE),MATCH('2b) Allg. Inputs'!K$27,'2a) Preisannahmen'!$D$12:$AC$12,FALSE)),IF($C$26="Szenario 3",INDEX('2a) Preisannahmen'!$D$22:$AC$28,MATCH('2b) Allg. Inputs'!$B33,'2a) Preisannahmen'!$B$22:$B$28,FALSE),MATCH('2b) Allg. Inputs'!K$27,'2a) Preisannahmen'!$D$21:$AC$21,FALSE)),""))),"") | L33: =_xlfn.IFNA(IF($C$26="Szenario 1",INDEX('2a) Preisannahmen'!$D$4:$AC$10,MATCH('2b) Allg. Inputs'!$B33,'2a) Preisannahmen'!$B$4:$B$10,FALSE),MATCH('2b) Allg. Inputs'!L$27,'2a) Preisannahmen'!$D$3:$AC$3,FALSE)),IF($C$26="Szenario 2",INDEX('2a) Preisannahmen'!$D$13:$AC$19,MATCH('2b) Allg. Inputs'!$B33,'2a) Preisannahmen'!$B$13:$B$19,FALSE),MATCH('2b) Allg. Inputs'!L$27,'2a) Preisannahmen'!$D$12:$AC$12,FALSE)),IF($C$26="Szenario 3",INDEX('2a) Preisannahmen'!$D$22:$AC$28,MATCH('2b) Allg. Inputs'!$B33,'2a) Preisannahmen'!$B$22:$B$28,FALSE),MATCH('2b) Allg. Inputs'!L$27,'2a) Preisannahmen'!$D$21:$AC$21,FALSE)),""))),"") | ... T33: =_xlfn.IFNA(IF($C$26="Szenario 1",INDEX('2a) Preisannahmen'!$D$4:$AC$10,MATCH('2b) Allg. Inputs'!$B33,'2a) Preisannahmen'!$B$4:$B$10,FALSE),MATCH('2b) Allg. Inputs'!T$27,'2a) Preisannahmen'!$D$3:$AC$3,FALSE)),IF($C$26="Szenario 2",INDEX('2a) Preisannahmen'!$D$13:$AC$19,MATCH('2b) Allg. Inputs'!$B33,'2a) Preisannahmen'!$B$13:$B$19,FALSE),MATCH('2b) Allg. Inputs'!T$27,'2a) Preisannahmen'!$D$12:$AC$12,FALSE)),IF($C$26="Szenario 3",INDEX('2a) Preisannahmen'!$D$22:$AC$28,MATCH('2b) Allg. Inputs'!$B33,'2a) Preisannahmen'!$B$22:$B$28,FALSE),MATCH('2b) Allg. Inputs'!T$27,'2a) Preisannahmen'!$D$21:$AC$21,FALSE)),""))),"")
