Workbook
Name BaseList: _xlfn._xlws.FILTER('3b) Referenzsysteme'!$B$6:$B$57, '3b) Referenzsysteme'!$B$6:$B$57<>"")
Name ChartAB: OFFSET(INDIRECT('1) Gesamtübersicht'!$E$128),,,,'1) Gesamtübersicht'!$F$110)
Name ChartAuszahlung: OFFSET(INDIRECT('1) Gesamtübersicht'!$E$116),,,,'1) Gesamtübersicht'!$F$110)
Name ChartBV: OFFSET(INDIRECT('1) Gesamtübersicht'!$E$122),,,,'1) Gesamtübersicht'!$F$110)
Name ChartDV: OFFSET(INDIRECT('1) Gesamtübersicht'!$E$110),,,,'1) Gesamtübersicht'!$F$110)
Name ChartEff: OFFSET(INDIRECT('1) Gesamtübersicht'!$E$125),,,,'1) Gesamtübersicht'!$F$110)
Name ChartÜber: OFFSET(INDIRECT('1) Gesamtübersicht'!$E$119),,,,'1) Gesamtübersicht'!$F$110)
Name ChartYears: OFFSET(INDIRECT('1) Gesamtübersicht'!$E$113),,,,'1) Gesamtübersicht'!$F$110)

Sheet Inhaltsverzeichnis
C5: Tabellenblatt/Abschnitt | D5: Inhalt
C7: 1) Gesamtübersicht | D7: Zusammenfassung der wichtigsten Angaben und basierend auf den Eingaben ein Überblick über die berechneten maximalen Fördersummen, die zu erwartenden Auszahlungen sowie die Erfüllung der Mindestanforderungen gemäß Nummer 4.16 der Förderrichtlinie CO2-Differenzverträge (FRL CCfD) und die Erfüllung der Auszahlungsbedingungen.
C8: 2a) Preisannahmen | D8: Angabe von Annahmen zu indexierten Preisen (bis zu drei Szenarien).
C9: 2b) Allg. Inputs | D9: Angabe der allgemeinen Daten des Gebots sowie anderweitiger für das Vorhaben bewilligter Förderungen gemäß Nummer 7.5(c) FRL CCfD. Zudem sind die Annahmen über Energieträgerpreise, CO2-Preise und kostenlose Zuteilungen im ETS hier einzutragen.
C10: 2c) Elektrolyseurförderung | D10: Angaben zur Elektrolyseanlage, falls im Vorhaben Wasserstoff verwendet wird, der durch Elektrolyseanlagen eines verbundenen Unternehmens produziert wird.
C11: 2d) Planwerte (Anlage) | D11: Angabe des/der Referenzsystem(e) und zugrundeliegender vorhabenspezifischer, geplanter Verbrauchsparameter sowie Produktionsmengen.
C12: 2e) Realisierte Werte (Anlage) | D12: Angabe realisierter Verbrauchsparameter sowie Produktionsmengen (bei Abweichung von geplanten Verbrauchsparametern).
C13: 3a) CCfD Parameter | D13: Übersicht der durch die Bewilligungsbehörde festgelegten Parameter des CCfD-Programms.
C14: 3b) Referenzsysteme | D14: Übersicht der Referenzsysteme und der jeweiligen Verbrauchsparameter.
C15: 4a) Berechnungen zu Planwerten | D15: Allgemeine Berechnung zur Bestimmung der maximalen Fördersumme und der zu erwartenden Auszahlungen basierend auf geplanten Verbrauchsparametern.
C16: 4b) Berechnungen zu realisierten Werten | D16: Berechnung zur Bestimmung der zu erwartenden Auszahlungen basierend auf realisierten Verbrauchsparametern (bei Abweichung von geplanten Verbrauchsparametern).
C17: 4c) Berechnung_MFS | D17: Berechnung der maximalen Fördersummen.
... C19: 5) Eingabeprüfung | D19: Eingabeprüfung für besonders relevante Inputdaten.

Sheet Read Me
C6: Zweck | D6: Die vorliegende Erklärhilfe dient der Berechnung der zu erwartenden jährlichen Auszahlungsbeträge eines Vorhabens im Rahmen des Gebotsverfahrens 2026 der CO2-Differenzverträge gemäß FRL vom 04. Mai 2026. Unternehmen können hier die zu erwartenden Auszahlungen unter Eingabe ihrer Energie- und CO2-Preisannahmen entnehmen. Zudem dient die Erklärhilfe der Berechnung der jährlichen maximalen Fördersummen. Außerdem können Sie mit dieser Erklärhilfe verschiedene Annahmen zum geplanten operativen Beginn sowie deren Einfluss auf die Höhe der jährlichen maximalen Fördersummen sowie der zu erwartenden Auszahlungen bewerten. Die Erklärhilfe stellt kein verbindliches Dokument im Rahmen des CO2-Differenzvertrags dar, sondern ist lediglich als Hilfestellung für die Antragsteller des Gebotsverfahrens 2026 zu sehen.
C8: Gliederung | D8: Das Tabellenblatt 1) Gesamtübersicht zeigt die zu erwartenden Auszahlungen und maximale gesamte Fördersumme sowie die Einhaltung der Mindestanforderungen nach Nummer 4.16 FRL CCfD und die Erfüllung von Auszahlungsbedingungen. Der zeitliche Verlauf der Aus- bzw. Überschusszahlungen ist zudem grafisch dargestellt. Außerdem wird für besonders relevante Inputdaten geprüft, ob eine Eingabe (in aktiven Jahren) erfolgt ist. Im Abschnitt (Tabellengruppe) Inputs sind die Angaben des Vorhabens einzutragen. Dies umfasst insbesondere Produktionsmengen, Emissionen, Energieverbräuche und anderweitige Förderungen. Die Vorhabensdaten sind jeweils in absoluten Werten anzugeben. Im Abschnitt (Tabellengruppe) CCfD Parameter sind die durch die Bewilligungsbehörde festgelegten Programmparameter dargestellt. Der Abschnitt (Tabellengruppe) Berechnungen zeigt die Berechnungen, die der zu erwartenden Auszahlung und der maximalen Fördersumme des Vorhabens zugrundeliegen.
C10: Verwendungshinweis | D10: Grundsätzlich sind Felder zur Eingabe farblich markiert: Grün bezeichnet die von dem Zuwendungsempfänger zu machenden Angaben. Hellgrau bezeichnet die Angaben des Zuwendungsempfängers, welche für weitere Berechnungen aus den Angaben übernommen wurden. Orange hinterlegte Felder sind Angaben der Bewilligungsbehörde. In der vorliegenden Erklärhilfe hat der Zuwendungsempfänger lediglich die Tabellenblätter im Abschnitt Inputs auszufüllen. Bitte beachten Sie, dass sich die Farbe der Felder teilweise dynamisch anpasst, z. B. bei Auswahl eines vorgelagerten Referenzsystems. Im Tabellenblatt 2a) Preisannahmen werden Annahmen zu indexierten Preisen für die kommenden Jahre eingetragen. Sie können Annahmen für drei verschiedene Preisszenarien eingeben und das jeweilige Szenario in Tabellenblatt 2b) Allg. Inputs auswählen. Im Tabellenblatt 2b) Allg. Inputs werden allgemeine Informationen des Vorhabens, einschließlich bewilligter anderweitiger Förderung und kostenloser Zuteilungen von Emissionsberechtigungen des EU-ETS, abgefragt. Zudem wird hier das anzuwendende Preisszenario ausgewählt. Falls in Ihrem Vorhaben Wasserstoff eingesetzt wird, der durch Elektrolyseanlagen eines verbundenen Unternehmens produziert wird, füllen Sie bitte das Tabellenblatt 2c) Elektrolyseurförderung aus. Ansonsten ist dieses Tabellenblatt nicht auszufüllen. Im Tabellenblatt 2d) Planwerte (Anlage) ist das jeweilige Referenzsystem aus einer Dropdown-Liste auszuwählen. Es gibt die Möglichkeit, mehrere Referenzsysteme auszuwählen, welche gewichtet in die Berechnungen einfließen. Bei der Wahl eines vorgelagerten Referenzsystems (Wasserstoff, Synthesegas, Wärmebereitstellung und Brennstoffeinsatz) müssen zusätzlich die Produktemissionen, hergestellten Industrieprodukte und jeweiligen Produktionsmengen angegeben werden. Die Produktemissionen der vorgelagerten Referenzsysteme wurden den Antragstellern mit Veröffentlichung des Förderaufrufs CCfD 2026 gesondert mitgeteilt. Die Abfrage von erneuerbarem und CO2-armem Wasserstoff erfolgt getrennt. In Anhang 1 des Förderaufrufs CCfD 2026 ist die jeweilige Mengeneinheit aufgeführt, mit der die Produktmenge anzugeben ist (z. B. für Kalk in Tonnen Kalk). Falls erwartet wird, dass realisierte Verbrauchsparameter von den geplanten Verbrauchsparametern abweichen werden, ist zusätzlich zum Tabellenblatt 2d) Planwerte (Anlage) das Tabellenblatt 2e) Realisierte Werte (Anlage) auszufüllen. Die Eingabe abweichender realisierter Verbrauchsparameter wird durch den Schalter in Zelle "C6" des Tabellenblatts 2e) Realisierte Werte (Anlage) freigeschaltet. Zu beachten ist ebenfalls, dass die Auszahlungsbeträge im Rahmen des CCfDs grundsätzlich nachschüssig gewährt werden (mit Ausnahme von Abschlagszahlungen).
C12: Disclaimer | D12: Bitte beachten Sie, dass es sich bei dieser Erklärhilfe um ein rechtlich unverbindliches Tool handelt. Maßgeblich für diese Erklärhilfe sind die Förderrichtlinie CO2-Differenzverträge (FRL CCfD) in der für das Gebotsverfahren 2026 geltenden Fassung vom 04. Mai 2026 und der Förderaufruf zum Gebotsverfahren CO2-Differenzverträge 2026 vom 05. Mai 2026.
C14: Kontakt | D14: fragen@co2-differenzvertraege.info
C16: Version | D16: Erklärhilfe zur Abschätzung der jährlichen Förderhöhe (05. Mai 2026)

Sheet 1) Gesamtübersicht
B2: Gesamtübersicht
B3: Dieses Tabellenblatt gibt einen Überblick über die wichtigsten Angaben und Ergebnisse der nachfolgenden Berechnungen.
B5: Eingabeprüfung von Schlüsselparametern
B6: Kategorie | C6: Prüfung
B7: Bekanntgabe Zuwendungsbescheid | C7: =IF(ISBLANK('2b) Allg. Inputs'!C6),"Nicht befüllt","OK") -> Nicht befüllt
B8: Geplanter operativer Beginn | C8: ='5) Eingabeprüfung'!C8 -> Nicht befüllt
B9: Basis-Vertragspreis | C9: ='5) Eingabeprüfung'!C9 -> Nicht befüllt
B10: Höhe der Teilförderung | C10: =IF('2b) Allg. Inputs'!C10="Nein","OK",IF(ISBLANK('2b) Allg. Inputs'!C11),"Nicht befüllt","OK")) -> OK
B11: Preisannahmen | C11: ='5) Eingabeprüfung'!C11 -> Nicht befüllt
B12: Angabe Referenzsystem 1 | C12: ='5) Eingabeprüfung'!C12 -> Nicht befüllt
B13: Geplante Produktionsmenge | C13: ='5) Eingabeprüfung'!C13 -> Nicht befüllt
B14: Geplante Emissionen Vorhaben | C14: ='5) Eingabeprüfung'!C14 -> Nicht befüllt
B15: Ggf. realisierte Produktionsmenge | C15: ='5) Eingabeprüfung'!C15 -> -
B16: Ggf. realisierte Emissionen Vorhaben | C16: ='5) Eingabeprüfung'!C16 -> -
B18: Eingabeprüfung: Planwerte vs. realisierte Werte
B19: Nutzung abweichender Eingaben von realisierten Werten im Vergleich zu den Planwerten | C19: ='2e) Realisierte Werte (Anlage)'!$C$6 -> Nein
B21: Allgemeine Angaben & Mindestanforderungen (bezogen auf Planwerte)
B22: Kategorie | C22: Einheit
B23: Geplanter operativer Beginn | C23: - | D23: =IF(ISBLANK('2b) Allg. Inputs'!C8),"",'2b) Allg. Inputs'!C8)
B24: Basis-Vertragspreis | C24: EUR/t CO2-Äq. | D24: =IF(ISBLANK('2b) Allg. Inputs'!C9),"",'2b) Allg. Inputs'!C9)
B25: Maximale gesamte Fördersumme | C25: EUR | D25: =IFERROR('4c) Berechnungen_MFS'!E95,"")
B26: Maximale gesamte Fördersumme von mind. 15 Mio. EUR | C26: - | D26: =IFERROR(IF('4c) Berechnungen_MFS'!E95>=15000000,"Erreicht","Nicht erreicht"),"")
B27: Maximale gesamte Fördersumme nicht größer als 2,5 Mrd. EUR | C27: - | D27: =IFERROR(IF('4c) Berechnungen_MFS'!E95>2500000000,"Nicht erreicht","Erreicht"),"")
B28: Erreichte geplante Treibhausgasemissionsminderung von 50 % ab dem 4. vollständigen Kalenderjahr | C28: - | D28: =IFERROR(IF('4c) Berechnungen_MFS'!E99="Nein",IF(MIN('4a) Berechnungen zu Planwerten'!H12:S12)>=50%,"Erreicht","Nicht erreicht"),IF(AND(MIN('4a) Berechnungen zu Planwerten'!I12:R12)>=50%, (('4a) Berechnungen zu Planwerten'!S11 + '4a) Berechnungen zu Planwerten'!T11)/('4a) Berechnungen zu Planwerten'!S83 + '4a) Berechnungen zu Planwerten'!T83))>=50%, ('4a) Berechnungen zu Planwerten'!U12)>=50%),"Erreicht","Nicht erreicht")),"-") -> Nicht erreicht
B29: Erreichte geplante Treibhausgasemissionsminderung von 85 % in den letzten 12 Monaten der Vertragslaufzeit | C29: - | D29: =IFERROR(IF('4c) Berechnungen_MFS'!E99="Nein",IF('4a) Berechnungen zu Planwerten'!S12>=0.85,"Erreicht","Nicht erreicht"),IF(SUM('4a) Berechnungen zu Planwerten'!T11:U11)/SUM('4a) Berechnungen zu Planwerten'!T83:U83)>=0.85,"Erreicht","Nicht erreicht")),"-") -> Nicht erreicht
B30: Mindestgröße des Referenzsystems erreicht (5 kt CO2-Äq.) | C30: - | D30: =IF(SUM( '4c) Berechnungen_MFS'!E40:T40)/15>=5000,"Erreicht","Nicht erreicht") -> Nicht erreicht
N31: Anmerkung: Grafik wird ab dem ersten Jahr, in dem eine Emissionsminderung erreicht wird (geplant oder realisiert), angezeigt.
B32: Auszahlungsbedingungen
B33: Kategorie | C33: Einheit | D33: Gesamte Laufzeit | E33: =YEAR('2b) Allg. Inputs'!C8) -> 1900 | F33: =E41+1 -> 1901 | G33: =F41+1 -> 1902 | H33: =G41+1 -> 1903 | I33: =H41+1 -> 1904 | J33: =I41+1 -> 1905 | K33: =J41+1 -> 1906 | L33: =K41+1 -> 1907 | M33: =L41+1 -> 1908 | ... S33: =R41+1 -> 1914 | T33: =IF('4c) Berechnungen_MFS'!E99="Nein","",S33+1)
B34: Summe der in einem und dem vorangegangenen Kalenderjahr realisierten absoluten Treibhausgasemissionsminderung unterschreitet die geplante absolute Treibhausgasemissionsminderung nicht um mehr als 30 %. | C34: - | D34: =IF(AND(COUNTIF(E34:T34,"Nicht erfüllt")=0,COUNTIF(E34:T34,"Erfüllt")=0),"",IF(COUNTIF(E34:T34,"Nicht erfüllt")>0,"Nicht erfüllt","Erfüllt")) | E34: =IFERROR('4d) Berechnungen_Auszahlung'!E265,"") -> - | F34: =IFERROR('4d) Berechnungen_Auszahlung'!F265,"") | G34: =IFERROR('4d) Berechnungen_Auszahlung'!G265,"") | H34: =IFERROR('4d) Berechnungen_Auszahlung'!H265,"") | I34: =IFERROR('4d) Berechnungen_Auszahlung'!I265,"") | J34: =IFERROR('4d) Berechnungen_Auszahlung'!J265,"") | K34: =IFERROR('4d) Berechnungen_Auszahlung'!K265,"") | L34: =IFERROR('4d) Berechnungen_Auszahlung'!L265,"") | ... T34: =IFERROR('4d) Berechnungen_Auszahlung'!T265,"")
B35: Realisierte Treibhausgasemissionsminderung von 50 % ab dem 4. vollständigen Kalenderjahr (Mindestanforderung). | C35: - | D35: =IF(AND(COUNTIF(E35:T35,"Nicht erfüllt")=0,COUNTIF(E35:T35,"Erfüllt")=0),"",IF(COUNTIF(E35:T35,"Nicht erfüllt")>0,"Nicht erfüllt","Erfüllt")) -> Nicht erfüllt | E35: =IFERROR('4d) Berechnungen_Auszahlung'!E269,"") -> - | F35: =IFERROR('4d) Berechnungen_Auszahlung'!F269,"") -> - | G35: =IFERROR('4d) Berechnungen_Auszahlung'!G269,"") -> - | H35: =IFERROR('4d) Berechnungen_Auszahlung'!H269,"") -> Nicht erfüllt | I35: =IFERROR('4d) Berechnungen_Auszahlung'!I269,"") -> Nicht erfüllt | J35: =IFERROR('4d) Berechnungen_Auszahlung'!J269,"") -> Nicht erfüllt | K35: =IFERROR('4d) Berechnungen_Auszahlung'!K269,"") -> Nicht erfüllt | L35: =IFERROR('4d) Berechnungen_Auszahlung'!L269,"") -> Nicht erfüllt | ... T35: =IFERROR('4d) Berechnungen_Auszahlung'!T269,"")
B36: Realisierte Treibhausgasemissionsminderung von 85 % in den letzten 12 Monaten der Vertragslaufzeit (Mindestanforderung). | C36: - | D36: =IF(AND(COUNTIF(E36,"Nicht erfüllt")=0,COUNTIF(E36,"Erfüllt")=0),"",IF(COUNTIF(E36,"Nicht erfüllt")>0,"Nicht erfüllt","Erfüllt")) -> Nicht erfüllt | E36: =IFERROR(IF('4c) Berechnungen_MFS'!$E$99="Nein",'4d) Berechnungen_Auszahlung'!$S$274,'4d) Berechnungen_Auszahlung'!$T$274),"") -> Nicht erfüllt
B37: Der operative Beginn des geförderten Vorhabens erfolgt spätestens 48 Monate nach Bekanntgabe des Förderbescheids. Dies kann bei Zustimmung der Bewilligungsbehörde auf 60 Monate verlängert werden. | C37: - | D37: =IF(AND(COUNTIF(E37:T37,"Nicht erfüllt")=0,COUNTIF(E37:T37,"Erfüllt")=0),"",IF(COUNTIF(E37:T37,"Nicht erfüllt")>0,"Nicht erfüllt","Erfüllt")) -> Erfüllt | E37: =IFERROR('4d) Berechnungen_Auszahlung'!E277,"") -> Erfüllt
B38: Die realisierten relativen Einsätze weichen nicht um mehr als fünf Prozentpunkte von den geplanten relativen Einsätzen eines oder mehrerer Energieträger ab (indikativ). | C38: - | D38: =IF(AND(COUNTIF(E38:T38,"Nicht erfüllt")=0,COUNTIF(E38:T38,"Erfüllt")=0),"",IF(COUNTIF(E38:T38,"Nicht erfüllt")>0,"Nicht erfüllt","Erfüllt")) | E38: =IFERROR('4d) Berechnungen_Auszahlung'!E434,"") | F38: =IFERROR('4d) Berechnungen_Auszahlung'!F434,"") | G38: =IFERROR('4d) Berechnungen_Auszahlung'!G434,"") | H38: =IFERROR('4d) Berechnungen_Auszahlung'!H434,"") | I38: =IFERROR('4d) Berechnungen_Auszahlung'!I434,"") | J38: =IFERROR('4d) Berechnungen_Auszahlung'!J434,"") | K38: =IFERROR('4d) Berechnungen_Auszahlung'!K434,"") | L38: =IFERROR('4d) Berechnungen_Auszahlung'!L434,"") | ... T38: =IFERROR('4d) Berechnungen_Auszahlung'!T434,"")
D39: =IF(AND(COUNTIF(E39:T39,"Nicht erfüllt")=0,COUNTIF(E39:T39,"Erfüllt")=0),"",IF(COUNTIF(E39:T39,"Nicht erfüllt")>0,"Nicht erfüllt","Erfüllt"))
B40: Maximale jährliche Fördersumme und zu erwartende Auszahlung
B41: Kategorie | C41: Einheit | D41: Gesamte Laufzeit | E41: =YEAR('2b) Allg. Inputs'!C8) -> 1900 | F41: =E41+1 -> 1901 | G41: =F41+1 -> 1902 | H41: =G41+1 -> 1903 | I41: =H41+1 -> 1904 | J41: =I41+1 -> 1905 | K41: =J41+1 -> 1906 | L41: =K41+1 -> 1907 | M41: =L41+1 -> 1908 | ... S41: =R41+1 -> 1914 | T41: =IF('4c) Berechnungen_MFS'!E99="Nein","",S41+1)
B42: Maximale jährliche Fördersumme | C42: EUR/Jahr | D42: =IF(SUM(E42:T42)=0,"",SUM(E42:T42)) | E42: =IF('4c) Berechnungen_MFS'!E45=TRUE,IFERROR('4c) Berechnungen_MFS'!E$94,""),"") | F42: =IF('4c) Berechnungen_MFS'!F45=TRUE,IFERROR('4c) Berechnungen_MFS'!F$94,""),"") | G42: =IF('4c) Berechnungen_MFS'!G45=TRUE,IFERROR('4c) Berechnungen_MFS'!G$94,""),"") | H42: =IF('4c) Berechnungen_MFS'!H45=TRUE,IFERROR('4c) Berechnungen_MFS'!H$94,""),"") | I42: =IF('4c) Berechnungen_MFS'!I45=TRUE,IFERROR('4c) Berechnungen_MFS'!I$94,""),"") | J42: =IF('4c) Berechnungen_MFS'!J45=TRUE,IFERROR('4c) Berechnungen_MFS'!J$94,""),"") | K42: =IF('4c) Berechnungen_MFS'!K45=TRUE,IFERROR('4c) Berechnungen_MFS'!K$94,""),"") | L42: =IF('4c) Berechnungen_MFS'!L45=TRUE,IFERROR('4c) Berechnungen_MFS'!L$94,""),"") | ... T42: =IF('4c) Berechnungen_MFS'!T45=TRUE,IFERROR('4c) Berechnungen_MFS'!T$94,""),"")
B43: Absolute Treibhausgasemissionsminderung | C43: t CO2-Äq./Jahr | D43: =IF(SUM(E43:T43)=0,"",SUM(E43:T43)) | E43: =IF('4c) Berechnungen_MFS'!E45=TRUE,IFERROR('4d) Berechnungen_Auszahlung'!E144,""),"") | F43: =IF('4c) Berechnungen_MFS'!F45=TRUE,IFERROR('4d) Berechnungen_Auszahlung'!F144,""),"") | G43: =IF('4c) Berechnungen_MFS'!G45=TRUE,IFERROR('4d) Berechnungen_Auszahlung'!G144,""),"") | H43: =IF('4c) Berechnungen_MFS'!H45=TRUE,IFERROR('4d) Berechnungen_Auszahlung'!H144,""),"") | I43: =IF('4c) Berechnungen_MFS'!I45=TRUE,IFERROR('4d) Berechnungen_Auszahlung'!I144,""),"") | J43: =IF('4c) Berechnungen_MFS'!J45=TRUE,IFERROR('4d) Berechnungen_Auszahlung'!J144,""),"") | K43: =IF('4c) Berechnungen_MFS'!K45=TRUE,IFERROR('4d) Berechnungen_Auszahlung'!K144,""),"") | L43: =IF('4c) Berechnungen_MFS'!L45=TRUE,IFERROR('4d) Berechnungen_Auszahlung'!L144,""),"") | ... T43: =IF('4c) Berechnungen_MFS'!T45=TRUE,IFERROR('4d) Berechnungen_Auszahlung'!T144,""),"")
B44: Realisierte Treibhausgasemissionsminderung überschreitet nicht 130 % der geplanten Treibhausgasemissionsminderung. | C44: - | D44: =IF(AND(COUNTIF(E44:T44,"Nein")=0,COUNTIF(E44:T44,"Ja")=0),"",IF(COUNTIF(E44:T44,"Nein")>0,"Nein","Ja")) | E44: =IFERROR(IF('4d) Berechnungen_Auszahlung'!E7=TRUE,IF('4d) Berechnungen_Auszahlung'!E95<0,"-",IF('4d) Berechnungen_Auszahlung'!E144>1.3*'4d) Berechnungen_Auszahlung'!E95,"Nein", "Ja")),""),"") | F44: =IFERROR(IF('4d) Berechnungen_Auszahlung'!F7=TRUE,IF('4d) Berechnungen_Auszahlung'!F95<0,"-",IF('4d) Berechnungen_Auszahlung'!F144>1.3*'4d) Berechnungen_Auszahlung'!F95,"Nein", "Ja")),""),"") | G44: =IFERROR(IF('4d) Berechnungen_Auszahlung'!G7=TRUE,IF('4d) Berechnungen_Auszahlung'!G95<0,"-",IF('4d) Berechnungen_Auszahlung'!G144>1.3*'4d) Berechnungen_Auszahlung'!G95,"Nein", "Ja")),""),"") | H44: =IFERROR(IF('4d) Berechnungen_Auszahlung'!H7=TRUE,IF('4d) Berechnungen_Auszahlung'!H95<0,"-",IF('4d) Berechnungen_Auszahlung'!H144>1.3*'4d) Berechnungen_Auszahlung'!H95,"Nein", "Ja")),""),"") | I44: =IFERROR(IF('4d) Berechnungen_Auszahlung'!I7=TRUE,IF('4d) Berechnungen_Auszahlung'!I95<0,"-",IF('4d) Berechnungen_Auszahlung'!I144>1.3*'4d) Berechnungen_Auszahlung'!I95,"Nein", "Ja")),""),"") | J44: =IFERROR(IF('4d) Berechnungen_Auszahlung'!J7=TRUE,IF('4d) Berechnungen_Auszahlung'!J95<0,"-",IF('4d) Berechnungen_Auszahlung'!J144>1.3*'4d) Berechnungen_Auszahlung'!J95,"Nein", "Ja")),""),"") | K44: =IFERROR(IF('4d) Berechnungen_Auszahlung'!K7=TRUE,IF('4d) Berechnungen_Auszahlung'!K95<0,"-",IF('4d) Berechnungen_Auszahlung'!K144>1.3*'4d) Berechnungen_Auszahlung'!K95,"Nein", "Ja")),""),"") | L44: =IFERROR(IF('4d) Berechnungen_Auszahlung'!L7=TRUE,IF('4d) Berechnungen_Auszahlung'!L95<0,"-",IF('4d) Berechnungen_Auszahlung'!L144>1.3*'4d) Berechnungen_Auszahlung'!L95,"Nein", "Ja")),""),"") | ... T44: =IFERROR(IF('4d) Berechnungen_Auszahlung'!T7=TRUE,IF('4d) Berechnungen_Auszahlung'!T95<0,"-",IF('4d) Berechnungen_Auszahlung'!T144>1.3*'4d) Berechnungen_Auszahlung'!T95,"Nein", "Ja")),""),"")
...

Sheet INPUTS >>

Sheet 2a) Preisannahmen
B1: Preisannahmen
B2: In diesem Tabellenblatt sind Annahmen zu den indexierten Preisen einzugeben. Diese indexierten Preise werden den Berechnungen der zu erwartenden jährlichen Auszahlungsbeträge zugrunde gelegt. Es können Annahmen für drei verschiedene Preisszenarien eingegeben und das jeweilige Szenario in Tabellenblatt 2b) ausgewählt werden.
B3: Szenario 1 | C3: Einheit | D3: 2026 | E3: 2027 | F3: 2028 | G3: 2029 | H3: 2030 | I3: 2031 | J3: 2032 | K3: 2033 | L3: 2034 | M3: 2035 | N3: 2036 | O3: 2037 | P3: 2038 | Q3: 2039 | R3: 2040 | S3: 2041 | T3: 2042 | U3: 2043 | V3: 2044 | W3: 2045 | X3: 2046 | Y3: 2047 | Z3: 2048 | AA3: 2049 | AB3: 2050 | AC3: 2051 | AD3: 2052
B4: Strom | C4: EUR/MWh
B5: Erneuerbarer Wasserstoff | C5: EUR/MWh
B6: CO2-armer Wasserstoff | C6: EUR/MWh
B7: Erdgas | C7: EUR/MWh
B8: Kokskohle | C8: EUR/MWh
B9: Kesselkohle | C9: EUR/MWh
B10: CO2-Preis im EU-ETS | C10: EUR/t CO2-Äq.
B12: Szenario 2 | C12: Einheit | D12: 2026 | E12: 2027 | F12: 2028 | G12: 2029 | H12: 2030 | I12: 2031 | J12: 2032 | K12: 2033 | L12: 2034 | M12: 2035 | N12: 2036 | O12: 2037 | P12: 2038 | Q12: 2039 | R12: 2040 | S12: 2041 | T12: 2042 | U12: 2043 | V12: 2044 | W12: 2045 | X12: 2046 | Y12: 2047 | Z12: 2048 | AA12: 2049 | AB12: 2050 | AC12: 2051 | AD12: 2052
B13: Strom | C13: EUR/MWh
B14: Erneuerbarer Wasserstoff | C14: EUR/MWh
B15: CO2-armer Wasserstoff | C15: EUR/MWh
B16: Erdgas | C16: EUR/MWh
B17: Kokskohle | C17: EUR/MWh
B18: Kesselkohle | C18: EUR/MWh
B19: CO2-Preis im EU-ETS | C19: EUR/t CO2-Äq.
B21: Szenario 3 | C21: Einheit | D21: 2026 | E21: 2027 | F21: 2028 | G21: 2029 | H21: 2030 | I21: 2031 | J21: 2032 | K21: 2033 | L21: 2034 | M21: 2035 | N21: 2036 | O21: 2037 | P21: 2038 | Q21: 2039 | R21: 2040 | S21: 2041 | T21: 2042 | U21: 2043 | V21: 2044 | W21: 2045 | X21: 2046 | Y21: 2047 | Z21: 2048 | AA21: 2049 | AB21: 2050 | AC21: 2051 | AD21: 2052
B22: Strom | C22: EUR/MWh
B23: Erneuerbarer Wasserstoff | C23: EUR/MWh
B24: CO2-armer Wasserstoff | C24: EUR/MWh
B25: Erdgas | C25: EUR/MWh
B26: Kokskohle | C26: EUR/MWh
B27: Kesselkohle | C27: EUR/MWh
B28: CO2-Preis im EU-ETS | C28: EUR/t CO2-Äq.
B30: Namen der Szenarien:
B31: =B3 -> Szenario 1
B32: =B12 -> Szenario 2
B33: =B21 -> Szenario 3

Sheet 2b) Allg. Inputs
B2: Allgemeine Angaben
B3: In diesem Tabellenblatt sind die allgemeinen Informationen des Vorhabens, einschließlich bewilligter anderweitiger Förderung anzugeben. Zudem wird das anzuwendende Preisszenario ausgewählt (indexierte Preise, die für die Berechnung der Auszahlung zugrunde gelegt werden).
B5: Modellstart | C5: 2026
B6: Erwartete Bekanntgabe des Zuwendungsbescheids (TT/MM/JJJJ)
B7: Bei Zustimmung der Bewilligungsbehörde für eine Fristverlängerung des operativen Beginns, bitte hier die genaue Monatsanzahl eintragen
B8: Geplanter operativer Beginn (TT/MM/JJJJ)
B9: Basis-Vertragspreis (EUR/t CO2-Äq.)
B10: Beanspruchung einer Teilförderung nach Nummer 4.20 FRL CCfD | C10: Nein
B11: Zu fördernder Produktionsmengenanteil des Vorhabens in Prozent nach Nummer 4.20 FRL CCfD (%)
B13: Anderweitige Förderung, die nach der Antragstellung bewilligt oder erhöht wurde
C14: Wann fließen diese anderweitigen Förderungen (EUR)?
B15: Name der Förderung | C15: Kommentar | D15: Einheit | E15: =C5 -> 2026 | F15: =E15+1 -> 2027 | G15: =F15+1 -> 2028 | H15: =G15+1 -> 2029 | I15: =H15+1 -> 2030 | J15: =I15+1 -> 2031 | K15: =J15+1 -> 2032 | L15: =K15+1 -> 2033 | M15: =L15+1 -> 2034 | ... T15: =S15+1 -> 2041 | U15: =IF(T15>=IF('4c) Berechnungen_MFS'!$E$99="Nein",YEAR($C$8)+14,YEAR($C$8)+15),"",T15+1) | V15: =IF(U15>=IF('4c) Berechnungen_MFS'!$E$99="Nein",YEAR($C$8)+14,YEAR($C$8)+15),"",U15+1) | W15: =IF(V15>=IF('4c) Berechnungen_MFS'!$E$99="Nein",YEAR($C$8)+14,YEAR($C$8)+15),"",V15+1) | X15: =IF(W15>=IF('4c) Berechnungen_MFS'!$E$99="Nein",YEAR($C$8)+14,YEAR($C$8)+15),"",W15+1) | Y15: =IF(X15>=IF('4c) Berechnungen_MFS'!$E$99="Nein",YEAR($C$8)+14,YEAR($C$8)+15),"",X15+1) | Z15: =IF(Y15>=IF('4c) Berechnungen_MFS'!$E$99="Nein",YEAR($C$8)+14,YEAR($C$8)+15),"",Y15+1) | AA15: =IF(Z15>=IF('4c) Berechnungen_MFS'!$E$99="Nein",YEAR($C$8)+14,YEAR($C$8)+15),"",Z15+1) | AB15: =IF(AA15>=IF('4c) Berechnungen_MFS'!$E$99="Nein",YEAR($C$8)+14,YEAR($C$8)+15),"",AA15+1) | ... AE15: =IF(AD15>=IF('4c) Berechnungen_MFS'!$E$99="Nein",YEAR($C$8)+14,YEAR($C$8)+15),"",AD15+1)
D16: EUR
D17: EUR
D18: EUR
D19: EUR
D20: EUR
D21: EUR
B23: Angaben zum Wasserstoffbezug
B24: Wird der Wasserstoff durch eine Elektrolyseanlage eines verbundenen Unternehmen bezogen? | C24: Nein | F24: =IF(C24="Ja","Bitte füllen Sie zusätzlich Tabellenblatt 2c) zu Elektrolyseurförderung aus.","Bitte füllen Sie Tabellenblatt 2c) nicht aus.") -> Bitte füllen Sie Tabellenblatt 2c) nicht aus.
B26: Kostenlose Zuteilungen
C27: Welche Höhe kostenloser Zuteilungen im Vorhaben sowie im Referenzsystem wird angenommen?
C28: Kommentar | D28: Einheit | E28: =YEAR('2b) Allg. Inputs'!$C$8) -> 1900 | F28: =E28+1 -> 1901 | G28: =F28+1 -> 1902 | H28: =G28+1 -> 1903 | I28: =H28+1 -> 1904 | J28: =I28+1 -> 1905 | K28: =J28+1 -> 1906 | L28: =K28+1 -> 1907 | M28: =L28+1 -> 1908 | ... S28: =R28+1 -> 1914 | T28: =IF('4c) Berechnungen_MFS'!E99="Nein","",S28+1)
B29: Kostenlose Zuteilungen Referenzsystem | D29: t CO2-Äq./ME Produkt
B30: Kostenlose Zuteilungen Vorhaben | D30: t CO2-Äq./ME Produkt
B32: Preisannahmen
B33: Welche indexierten Preise werden angenommen? | C33: Szenario 1
C34: Kommentar | D34: Einheit | E34: =YEAR('2b) Allg. Inputs'!$C$8) -> 1900 | F34: =E34+1 -> 1901 | G34: =F34+1 -> 1902 | H34: =G34+1 -> 1903 | I34: =H34+1 -> 1904 | J34: =I34+1 -> 1905 | K34: =J34+1 -> 1906 | L34: =K34+1 -> 1907 | M34: =L34+1 -> 1908 | ... S34: =R34+1 -> 1914 | T34: =IF('4c) Berechnungen_MFS'!E99="Nein","",S34+1)
B35: Strom | D35: EUR/MWh | E35: =_xlfn.IFNA(IF($C$33="Szenario 1",INDEX('2a) Preisannahmen'!$D$4:$AD$10,MATCH('2b) Allg. Inputs'!$B35,'2a) Preisannahmen'!$B$4:$B$10,FALSE),MATCH('2b) Allg. Inputs'!E$34,'2a) Preisannahmen'!$D$3:$AD$3,FALSE)),IF($C$33="Szenario 2",INDEX('2a) Preisannahmen'!$D$13:$AD$19,MATCH('2b) Allg. Inputs'!$B35,'2a) Preisannahmen'!$B$13:$B$19,FALSE),MATCH('2b) Allg. Inputs'!E$34,'2a) Preisannahmen'!$D$12:$AD$12,FALSE)),IF($C$33="Szenario 3",INDEX('2a) Preisannahmen'!$D$22:$AD$28,MATCH('2b) Allg. Inputs'!$B35,'2a) Preisannahmen'!$B$22:$B$28,FALSE),MATCH('2b) Allg. Inputs'!E$34,'2a) Preisannahmen'!$D$21:$AD$21,FALSE)),""))),"") | F35: =_xlfn.IFNA(IF($C$33="Szenario 1",INDEX('2a) Preisannahmen'!$D$4:$AD$10,MATCH('2b) Allg. Inputs'!$B35,'2a) Preisannahmen'!$B$4:$B$10,FALSE),MATCH('2b) Allg. Inputs'!F$34,'2a) Preisannahmen'!$D$3:$AD$3,FALSE)),IF($C$33="Szenario 2",INDEX('2a) Preisannahmen'!$D$13:$AD$19,MATCH('2b) Allg. Inputs'!$B35,'2a) Preisannahmen'!$B$13:$B$19,FALSE),MATCH('2b) Allg. Inputs'!F$34,'2a) Preisannahmen'!$D$12:$AD$12,FALSE)),IF($C$33="Szenario 3",INDEX('2a) Preisannahmen'!$D$22:$AD$28,MATCH('2b) Allg. Inputs'!$B35,'2a) Preisannahmen'!$B$22:$B$28,FALSE),MATCH('2b) Allg. Inputs'!F$34,'2a) Preisannahmen'!$D$21:$AD$21,FALSE)),""))),"") | G35: =_xlfn.IFNA(IF($C$33="Szenario 1",INDEX('2a) Preisannahmen'!$D$4:$AD$10,MATCH('2b) Allg. Inputs'!$B35,'2a) Preisannahmen'!$B$4:$B$10,FALSE),MATCH('2b) Allg. Inputs'!G$34,'2a) Preisannahmen'!$D$3:$AD$3,FALSE)),IF($C$33="Szenario 2",INDEX('2a) Preisannahmen'!$D$13:$AD$19,MATCH('2b) Allg. Inputs'!$B35,'2a) Preisannahmen'!$B$13:$B$19,FALSE),MATCH('2b) Allg. Inputs'!G$34,'2a) Preisannahmen'!$D$12:$AD$12,FALSE)),IF($C$33="Szenario 3",INDEX('2a) Preisannahmen'!$D$22:$AD$28,MATCH('2b) Allg. Inputs'!$B35,'2a) Preisannahmen'!$B$22:$B$28,FALSE),MATCH('2b) Allg. Inputs'!G$34,'2a) Preisannahmen'!$D$21:$AD$21,FALSE)),""))),"") | H35: =_xlfn.IFNA(IF($C$33="Szenario 1",INDEX('2a) Preisannahmen'!$D$4:$AD$10,MATCH('2b) Allg. Inputs'!$B35,'2a) Preisannahmen'!$B$4:$B$10,FALSE),MATCH('2b) Allg. Inputs'!H$34,'2a) Preisannahmen'!$D$3:$AD$3,FALSE)),IF($C$33="Szenario 2",INDEX('2a) Preisannahmen'!$D$13:$AD$19,MATCH('2b) Allg. Inputs'!$B35,'2a) Preisannahmen'!$B$13:$B$19,FALSE),MATCH('2b) Allg. Inputs'!H$34,'2a) Preisannahmen'!$D$12:$AD$12,FALSE)),IF($C$33="Szenario 3",INDEX('2a) Preisannahmen'!$D$22:$AD$28,MATCH('2b) Allg. Inputs'!$B35,'2a) Preisannahmen'!$B$22:$B$28,FALSE),MATCH('2b) Allg. Inputs'!H$34,'2a) Preisannahmen'!$D$21:$AD$21,FALSE)),""))),"") | I35: =_xlfn.IFNA(IF($C$33="Szenario 1",INDEX('2a) Preisannahmen'!$D$4:$AD$10,MATCH('2b) Allg. Inputs'!$B35,'2a) Preisannahmen'!$B$4:$B$10,FALSE),MATCH('2b) Allg. Inputs'!I$34,'2a) Preisannahmen'!$D$3:$AD$3,FALSE)),IF($C$33="Szenario 2",INDEX('2a) Preisannahmen'!$D$13:$AD$19,MATCH('2b) Allg. Inputs'!$B35,'2a) Preisannahmen'!$B$13:$B$19,FALSE),MATCH('2b) Allg. Inputs'!I$34,'2a) Preisannahmen'!$D$12:$AD$12,FALSE)),IF($C$33="Szenario 3",INDEX('2a) Preisannahmen'!$D$22:$AD$28,MATCH('2b) Allg. Inputs'!$B35,'2a) Preisannahmen'!$B$22:$B$28,FALSE),MATCH('2b) Allg. Inputs'!I$34,'2a) Preisannahmen'!$D$21:$AD$21,FALSE)),""))),"") | J35: =_xlfn.IFNA(IF($C$33="Szenario 1",INDEX('2a) Preisannahmen'!$D$4:$AD$10,MATCH('2b) Allg. Inputs'!$B35,'2a) Preisannahmen'!$B$4:$B$10,FALSE),MATCH('2b) Allg. Inputs'!J$34,'2a) Preisannahmen'!$D$3:$AD$3,FALSE)),IF($C$33="Szenario 2",INDEX('2a) Preisannahmen'!$D$13:$AD$19,MATCH('2b) Allg. Inputs'!$B35,'2a) Preisannahmen'!$B$13:$B$19,FALSE),MATCH('2b) Allg. Inputs'!J$34,'2a) Preisannahmen'!$D$12:$AD$12,FALSE)),IF($C$33="Szenario 3",INDEX('2a) Preisannahmen'!$D$22:$AD$28,MATCH('2b) Allg. Inputs'!$B35,'2a) Preisannahmen'!$B$22:$B$28,FALSE),MATCH('2b) Allg. Inputs'!J$34,'2a) Preisannahmen'!$D$21:$AD$21,FALSE)),""))),"") | K35: =_xlfn.IFNA(IF($C$33="Szenario 1",INDEX('2a) Preisannahmen'!$D$4:$AD$10,MATCH('2b) Allg. Inputs'!$B35,'2a) Preisannahmen'!$B$4:$B$10,FALSE),MATCH('2b) Allg. Inputs'!K$34,'2a) Preisannahmen'!$D$3:$AD$3,FALSE)),IF($C$33="Szenario 2",INDEX('2a) Preisannahmen'!$D$13:$AD$19,MATCH('2b) Allg. Inputs'!$B35,'2a) Preisannahmen'!$B$13:$B$19,FALSE),MATCH('2b) Allg. Inputs'!K$34,'2a) Preisannahmen'!$D$12:$AD$12,FALSE)),IF($C$33="Szenario 3",INDEX('2a) Preisannahmen'!$D$22:$AD$28,MATCH('2b) Allg. Inputs'!$B35,'2a) Preisannahmen'!$B$22:$B$28,FALSE),MATCH('2b) Allg. Inputs'!K$34,'2a) Preisannahmen'!$D$21:$AD$21,FALSE)),""))),"") | L35: =_xlfn.IFNA(IF($C$33="Szenario 1",INDEX('2a) Preisannahmen'!$D$4:$AD$10,MATCH('2b) Allg. Inputs'!$B35,'2a) Preisannahmen'!$B$4:$B$10,FALSE),MATCH('2b) Allg. Inputs'!L$34,'2a) Preisannahmen'!$D$3:$AD$3,FALSE)),IF($C$33="Szenario 2",INDEX('2a) Preisannahmen'!$D$13:$AD$19,MATCH('2b) Allg. Inputs'!$B35,'2a) Preisannahmen'!$B$13:$B$19,FALSE),MATCH('2b) Allg. Inputs'!L$34,'2a) Preisannahmen'!$D$12:$AD$12,FALSE)),IF($C$33="Szenario 3",INDEX('2a) Preisannahmen'!$D$22:$AD$28,MATCH('2b) Allg. Inputs'!$B35,'2a) Preisannahmen'!$B$22:$B$28,FALSE),MATCH('2b) Allg. Inputs'!L$34,'2a) Preisannahmen'!$D$21:$AD$21,FALSE)),""))),"") | ... T35: =_xlfn.IFNA(IF($C$33="Szenario 1",INDEX('2a) Preisannahmen'!$D$4:$AD$10,MATCH('2b) Allg. Inputs'!$B35,'2a) Preisannahmen'!$B$4:$B$10,FALSE),MATCH('2b) Allg. Inputs'!T$34,'2a) Preisannahmen'!$D$3:$AD$3,FALSE)),IF($C$33="Szenario 2",INDEX('2a) Preisannahmen'!$D$13:$AD$19,MATCH('2b) Allg. Inputs'!$B35,'2a) Preisannahmen'!$B$13:$B$19,FALSE),MATCH('2b) Allg. Inputs'!T$34,'2a) Preisannahmen'!$D$12:$AD$12,FALSE)),IF($C$33="Szenario 3",INDEX('2a) Preisannahmen'!$D$22:$AD$28,MATCH('2b) Allg. Inputs'!$B35,'2a) Preisannahmen'!$B$22:$B$28,FALSE),MATCH('2b) Allg. Inputs'!T$34,'2a) Preisannahmen'!$D$21:$AD$21,FALSE)),""))),"")
B36: Erneuerbarer Wasserstoff | C36: mit Berücksichtigung eines 5 % Bonus (nach Nummer 7.2(e) FRL CCfD). | D36: EUR/MWh | E36: =_xlfn.IFNA(IF($C$33="Szenario 1",INDEX('2a) Preisannahmen'!$D$4:$AD$10,MATCH('2b) Allg. Inputs'!$B36,'2a) Preisannahmen'!$B$4:$B$10,FALSE),MATCH('2b) Allg. Inputs'!E$34,'2a) Preisannahmen'!$D$3:$AD$3,FALSE)),IF($C$33="Szenario 2",INDEX('2a) Preisannahmen'!$D$13:$AD$19,MATCH('2b) Allg. Inputs'!$B36,'2a) Preisannahmen'!$B$13:$B$19,FALSE),MATCH('2b) Allg. Inputs'!E$34,'2a) Preisannahmen'!$D$12:$AD$12,FALSE)),IF($C$33="Szenario 3",INDEX('2a) Preisannahmen'!$D$22:$AD$28,MATCH('2b) Allg. Inputs'!$B36,'2a) Preisannahmen'!$B$22:$B$28,FALSE),MATCH('2b) Allg. Inputs'!E$34,'2a) Preisannahmen'!$D$21:$AD$21,FALSE)),"")))*1.05,"") | F36: =_xlfn.IFNA(IF($C$33="Szenario 1",INDEX('2a) Preisannahmen'!$D$4:$AD$10,MATCH('2b) Allg. Inputs'!$B36,'2a) Preisannahmen'!$B$4:$B$10,FALSE),MATCH('2b) Allg. Inputs'!F$34,'2a) Preisannahmen'!$D$3:$AD$3,FALSE)),IF($C$33="Szenario 2",INDEX('2a) Preisannahmen'!$D$13:$AD$19,MATCH('2b) Allg. Inputs'!$B36,'2a) Preisannahmen'!$B$13:$B$19,FALSE),MATCH('2b) Allg. Inputs'!F$34,'2a) Preisannahmen'!$D$12:$AD$12,FALSE)),IF($C$33="Szenario 3",INDEX('2a) Preisannahmen'!$D$22:$AD$28,MATCH('2b) Allg. Inputs'!$B36,'2a) Preisannahmen'!$B$22:$B$28,FALSE),MATCH('2b) Allg. Inputs'!F$34,'2a) Preisannahmen'!$D$21:$AD$21,FALSE)),"")))*1.05,"") | G36: =_xlfn.IFNA(IF($C$33="Szenario 1",INDEX('2a) Preisannahmen'!$D$4:$AD$10,MATCH('2b) Allg. Inputs'!$B36,'2a) Preisannahmen'!$B$4:$B$10,FALSE),MATCH('2b) Allg. Inputs'!G$34,'2a) Preisannahmen'!$D$3:$AD$3,FALSE)),IF($C$33="Szenario 2",INDEX('2a) Preisannahmen'!$D$13:$AD$19,MATCH('2b) Allg. Inputs'!$B36,'2a) Preisannahmen'!$B$13:$B$19,FALSE),MATCH('2b) Allg. Inputs'!G$34,'2a) Preisannahmen'!$D$12:$AD$12,FALSE)),IF($C$33="Szenario 3",INDEX('2a) Preisannahmen'!$D$22:$AD$28,MATCH('2b) Allg. Inputs'!$B36,'2a) Preisannahmen'!$B$22:$B$28,FALSE),MATCH('2b) Allg. Inputs'!G$34,'2a) Preisannahmen'!$D$21:$AD$21,FALSE)),"")))*1.05,"") | H36: =_xlfn.IFNA(IF($C$33="Szenario 1",INDEX('2a) Preisannahmen'!$D$4:$AD$10,MATCH('2b) Allg. Inputs'!$B36,'2a) Preisannahmen'!$B$4:$B$10,FALSE),MATCH('2b) Allg. Inputs'!H$34,'2a) Preisannahmen'!$D$3:$AD$3,FALSE)),IF($C$33="Szenario 2",INDEX('2a) Preisannahmen'!$D$13:$AD$19,MATCH('2b) Allg. Inputs'!$B36,'2a) Preisannahmen'!$B$13:$B$19,FALSE),MATCH('2b) Allg. Inputs'!H$34,'2a) Preisannahmen'!$D$12:$AD$12,FALSE)),IF($C$33="Szenario 3",INDEX('2a) Preisannahmen'!$D$22:$AD$28,MATCH('2b) Allg. Inputs'!$B36,'2a) Preisannahmen'!$B$22:$B$28,FALSE),MATCH('2b) Allg. Inputs'!H$34,'2a) Preisannahmen'!$D$21:$AD$21,FALSE)),"")))*1.05,"") | I36: =_xlfn.IFNA(IF($C$33="Szenario 1",INDEX('2a) Preisannahmen'!$D$4:$AD$10,MATCH('2b) Allg. Inputs'!$B36,'2a) Preisannahmen'!$B$4:$B$10,FALSE),MATCH('2b) Allg. Inputs'!I$34,'2a) Preisannahmen'!$D$3:$AD$3,FALSE)),IF($C$33="Szenario 2",INDEX('2a) Preisannahmen'!$D$13:$AD$19,MATCH('2b) Allg. Inputs'!$B36,'2a) Preisannahmen'!$B$13:$B$19,FALSE),MATCH('2b) Allg. Inputs'!I$34,'2a) Preisannahmen'!$D$12:$AD$12,FALSE)),IF($C$33="Szenario 3",INDEX('2a) Preisannahmen'!$D$22:$AD$28,MATCH('2b) Allg. Inputs'!$B36,'2a) Preisannahmen'!$B$22:$B$28,FALSE),MATCH('2b) Allg. Inputs'!I$34,'2a) Preisannahmen'!$D$21:$AD$21,FALSE)),"")))*1.05,"") | J36: =_xlfn.IFNA(IF($C$33="Szenario 1",INDEX('2a) Preisannahmen'!$D$4:$AD$10,MATCH('2b) Allg. Inputs'!$B36,'2a) Preisannahmen'!$B$4:$B$10,FALSE),MATCH('2b) Allg. Inputs'!J$34,'2a) Preisannahmen'!$D$3:$AD$3,FALSE)),IF($C$33="Szenario 2",INDEX('2a) Preisannahmen'!$D$13:$AD$19,MATCH('2b) Allg. Inputs'!$B36,'2a) Preisannahmen'!$B$13:$B$19,FALSE),MATCH('2b) Allg. Inputs'!J$34,'2a) Preisannahmen'!$D$12:$AD$12,FALSE)),IF($C$33="Szenario 3",INDEX('2a) Preisannahmen'!$D$22:$AD$28,MATCH('2b) Allg. Inputs'!$B36,'2a) Preisannahmen'!$B$22:$B$28,FALSE),MATCH('2b) Allg. Inputs'!J$34,'2a) Preisannahmen'!$D$21:$AD$21,FALSE)),"")))*1.05,"") | K36: =_xlfn.IFNA(IF($C$33="Szenario 1",INDEX('2a) Preisannahmen'!$D$4:$AD$10,MATCH('2b) Allg. Inputs'!$B36,'2a) Preisannahmen'!$B$4:$B$10,FALSE),MATCH('2b) Allg. Inputs'!K$34,'2a) Preisannahmen'!$D$3:$AD$3,FALSE)),IF($C$33="Szenario 2",INDEX('2a) Preisannahmen'!$D$13:$AD$19,MATCH('2b) Allg. Inputs'!$B36,'2a) Preisannahmen'!$B$13:$B$19,FALSE),MATCH('2b) Allg. Inputs'!K$34,'2a) Preisannahmen'!$D$12:$AD$12,FALSE)),IF($C$33="Szenario 3",INDEX('2a) Preisannahmen'!$D$22:$AD$28,MATCH('2b) Allg. Inputs'!$B36,'2a) Preisannahmen'!$B$22:$B$28,FALSE),MATCH('2b) Allg. Inputs'!K$34,'2a) Preisannahmen'!$D$21:$AD$21,FALSE)),"")))*1.05,"") | L36: =_xlfn.IFNA(IF($C$33="Szenario 1",INDEX('2a) Preisannahmen'!$D$4:$AD$10,MATCH('2b) Allg. Inputs'!$B36,'2a) Preisannahmen'!$B$4:$B$10,FALSE),MATCH('2b) Allg. Inputs'!L$34,'2a) Preisannahmen'!$D$3:$AD$3,FALSE)),IF($C$33="Szenario 2",INDEX('2a) Preisannahmen'!$D$13:$AD$19,MATCH('2b) Allg. Inputs'!$B36,'2a) Preisannahmen'!$B$13:$B$19,FALSE),MATCH('2b) Allg. Inputs'!L$34,'2a) Preisannahmen'!$D$12:$AD$12,FALSE)),IF($C$33="Szenario 3",INDEX('2a) Preisannahmen'!$D$22:$AD$28,MATCH('2b) Allg. Inputs'!$B36,'2a) Preisannahmen'!$B$22:$B$28,FALSE),MATCH('2b) Allg. Inputs'!L$34,'2a) Preisannahmen'!$D$21:$AD$21,FALSE)),"")))*1.05,"") | ... T36: =_xlfn.IFNA(IF($C$33="Szenario 1",INDEX('2a) Preisannahmen'!$D$4:$AD$10,MATCH('2b) Allg. Inputs'!$B36,'2a) Preisannahmen'!$B$4:$B$10,FALSE),MATCH('2b) Allg. Inputs'!T$34,'2a) Preisannahmen'!$D$3:$AD$3,FALSE)),IF($C$33="Szenario 2",INDEX('2a) Preisannahmen'!$D$13:$AD$19,MATCH('2b) Allg. Inputs'!$B36,'2a) Preisannahmen'!$B$13:$B$19,FALSE),MATCH('2b) Allg. Inputs'!T$34,'2a) Preisannahmen'!$D$12:$AD$12,FALSE)),IF($C$33="Szenario 3",INDEX('2a) Preisannahmen'!$D$22:$AD$28,MATCH('2b) Allg. Inputs'!$B36,'2a) Preisannahmen'!$B$22:$B$28,FALSE),MATCH('2b) Allg. Inputs'!T$34,'2a) Preisannahmen'!$D$21:$AD$21,FALSE)),"")))*1.05,"")
B37: CO2-armer Wasserstoff | D37: EUR/MWh | E37: =_xlfn.IFNA(IF($C$33="Szenario 1",INDEX('2a) Preisannahmen'!$D$4:$AD$10,MATCH('2b) Allg. Inputs'!$B37,'2a) Preisannahmen'!$B$4:$B$10,FALSE),MATCH('2b) Allg. Inputs'!E$34,'2a) Preisannahmen'!$D$3:$AD$3,FALSE)),IF($C$33="Szenario 2",INDEX('2a) Preisannahmen'!$D$13:$AD$19,MATCH('2b) Allg. Inputs'!$B37,'2a) Preisannahmen'!$B$13:$B$19,FALSE),MATCH('2b) Allg. Inputs'!E$34,'2a) Preisannahmen'!$D$12:$AD$12,FALSE)),IF($C$33="Szenario 3",INDEX('2a) Preisannahmen'!$D$22:$AD$28,MATCH('2b) Allg. Inputs'!$B37,'2a) Preisannahmen'!$B$22:$B$28,FALSE),MATCH('2b) Allg. Inputs'!E$34,'2a) Preisannahmen'!$D$21:$AD$21,FALSE)),""))),"") | F37: =_xlfn.IFNA(IF($C$33="Szenario 1",INDEX('2a) Preisannahmen'!$D$4:$AD$10,MATCH('2b) Allg. Inputs'!$B37,'2a) Preisannahmen'!$B$4:$B$10,FALSE),MATCH('2b) Allg. Inputs'!F$34,'2a) Preisannahmen'!$D$3:$AD$3,FALSE)),IF($C$33="Szenario 2",INDEX('2a) Preisannahmen'!$D$13:$AD$19,MATCH('2b) Allg. Inputs'!$B37,'2a) Preisannahmen'!$B$13:$B$19,FALSE),MATCH('2b) Allg. Inputs'!F$34,'2a) Preisannahmen'!$D$12:$AD$12,FALSE)),IF($C$33="Szenario 3",INDEX('2a) Preisannahmen'!$D$22:$AD$28,MATCH('2b) Allg. Inputs'!$B37,'2a) Preisannahmen'!$B$22:$B$28,FALSE),MATCH('2b) Allg. Inputs'!F$34,'2a) Preisannahmen'!$D$21:$AD$21,FALSE)),""))),"") | G37: =_xlfn.IFNA(IF($C$33="Szenario 1",INDEX('2a) Preisannahmen'!$D$4:$AD$10,MATCH('2b) Allg. Inputs'!$B37,'2a) Preisannahmen'!$B$4:$B$10,FALSE),MATCH('2b) Allg. Inputs'!G$34,'2a) Preisannahmen'!$D$3:$AD$3,FALSE)),IF($C$33="Szenario 2",INDEX('2a) Preisannahmen'!$D$13:$AD$19,MATCH('2b) Allg. Inputs'!$B37,'2a) Preisannahmen'!$B$13:$B$19,FALSE),MATCH('2b) Allg. Inputs'!G$34,'2a) Preisannahmen'!$D$12:$AD$12,FALSE)),IF($C$33="Szenario 3",INDEX('2a) Preisannahmen'!$D$22:$AD$28,MATCH('2b) Allg. Inputs'!$B37,'2a) Preisannahmen'!$B$22:$B$28,FALSE),MATCH('2b) Allg. Inputs'!G$34,'2a) Preisannahmen'!$D$21:$AD$21,FALSE)),""))),"") | H37: =_xlfn.IFNA(IF($C$33="Szenario 1",INDEX('2a) Preisannahmen'!$D$4:$AD$10,MATCH('2b) Allg. Inputs'!$B37,'2a) Preisannahmen'!$B$4:$B$10,FALSE),MATCH('2b) Allg. Inputs'!H$34,'2a) Preisannahmen'!$D$3:$AD$3,FALSE)),IF($C$33="Szenario 2",INDEX('2a) Preisannahmen'!$D$13:$AD$19,MATCH('2b) Allg. Inputs'!$B37,'2a) Preisannahmen'!$B$13:$B$19,FALSE),MATCH('2b) Allg. Inputs'!H$34,'2a) Preisannahmen'!$D$12:$AD$12,FALSE)),IF($C$33="Szenario 3",INDEX('2a) Preisannahmen'!$D$22:$AD$28,MATCH('2b) Allg. Inputs'!$B37,'2a) Preisannahmen'!$B$22:$B$28,FALSE),MATCH('2b) Allg. Inputs'!H$34,'2a) Preisannahmen'!$D$21:$AD$21,FALSE)),""))),"") | I37: =_xlfn.IFNA(IF($C$33="Szenario 1",INDEX('2a) Preisannahmen'!$D$4:$AD$10,MATCH('2b) Allg. Inputs'!$B37,'2a) Preisannahmen'!$B$4:$B$10,FALSE),MATCH('2b) Allg. Inputs'!I$34,'2a) Preisannahmen'!$D$3:$AD$3,FALSE)),IF($C$33="Szenario 2",INDEX('2a) Preisannahmen'!$D$13:$AD$19,MATCH('2b) Allg. Inputs'!$B37,'2a) Preisannahmen'!$B$13:$B$19,FALSE),MATCH('2b) Allg. Inputs'!I$34,'2a) Preisannahmen'!$D$12:$AD$12,FALSE)),IF($C$33="Szenario 3",INDEX('2a) Preisannahmen'!$D$22:$AD$28,MATCH('2b) Allg. Inputs'!$B37,'2a) Preisannahmen'!$B$22:$B$28,FALSE),MATCH('2b) Allg. Inputs'!I$34,'2a) Preisannahmen'!$D$21:$AD$21,FALSE)),""))),"") | J37: =_xlfn.IFNA(IF($C$33="Szenario 1",INDEX('2a) Preisannahmen'!$D$4:$AD$10,MATCH('2b) Allg. Inputs'!$B37,'2a) Preisannahmen'!$B$4:$B$10,FALSE),MATCH('2b) Allg. Inputs'!J$34,'2a) Preisannahmen'!$D$3:$AD$3,FALSE)),IF($C$33="Szenario 2",INDEX('2a) Preisannahmen'!$D$13:$AD$19,MATCH('2b) Allg. Inputs'!$B37,'2a) Preisannahmen'!$B$13:$B$19,FALSE),MATCH('2b) Allg. Inputs'!J$34,'2a) Preisannahmen'!$D$12:$AD$12,FALSE)),IF($C$33="Szenario 3",INDEX('2a) Preisannahmen'!$D$22:$AD$28,MATCH('2b) Allg. Inputs'!$B37,'2a) Preisannahmen'!$B$22:$B$28,FALSE),MATCH('2b) Allg. Inputs'!J$34,'2a) Preisannahmen'!$D$21:$AD$21,FALSE)),""))),"") | K37: =_xlfn.IFNA(IF($C$33="Szenario 1",INDEX('2a) Preisannahmen'!$D$4:$AD$10,MATCH('2b) Allg. Inputs'!$B37,'2a) Preisannahmen'!$B$4:$B$10,FALSE),MATCH('2b) Allg. Inputs'!K$34,'2a) Preisannahmen'!$D$3:$AD$3,FALSE)),IF($C$33="Szenario 2",INDEX('2a) Preisannahmen'!$D$13:$AD$19,MATCH('2b) Allg. Inputs'!$B37,'2a) Preisannahmen'!$B$13:$B$19,FALSE),MATCH('2b) Allg. Inputs'!K$34,'2a) Preisannahmen'!$D$12:$AD$12,FALSE)),IF($C$33="Szenario 3",INDEX('2a) Preisannahmen'!$D$22:$AD$28,MATCH('2b) Allg. Inputs'!$B37,'2a) Preisannahmen'!$B$22:$B$28,FALSE),MATCH('2b) Allg. Inputs'!K$34,'2a) Preisannahmen'!$D$21:$AD$21,FALSE)),""))),"") | L37: =_xlfn.IFNA(IF($C$33="Szenario 1",INDEX('2a) Preisannahmen'!$D$4:$AD$10,MATCH('2b) Allg. Inputs'!$B37,'2a) Preisannahmen'!$B$4:$B$10,FALSE),MATCH('2b) Allg. Inputs'!L$34,'2a) Preisannahmen'!$D$3:$AD$3,FALSE)),IF($C$33="Szenario 2",INDEX('2a) Preisannahmen'!$D$13:$AD$19,MATCH('2b) Allg. Inputs'!$B37,'2a) Preisannahmen'!$B$13:$B$19,FALSE),MATCH('2b) Allg. Inputs'!L$34,'2a) Preisannahmen'!$D$12:$AD$12,FALSE)),IF($C$33="Szenario 3",INDEX('2a) Preisannahmen'!$D$22:$AD$28,MATCH('2b) Allg. Inputs'!$B37,'2a) Preisannahmen'!$B$22:$B$28,FALSE),MATCH('2b) Allg. Inputs'!L$34,'2a) Preisannahmen'!$D$21:$AD$21,FALSE)),""))),"") | ... T37: =_xlfn.IFNA(IF($C$33="Szenario 1",INDEX('2a) Preisannahmen'!$D$4:$AD$10,MATCH('2b) Allg. Inputs'!$B37,'2a) Preisannahmen'!$B$4:$B$10,FALSE),MATCH('2b) Allg. Inputs'!T$34,'2a) Preisannahmen'!$D$3:$AD$3,FALSE)),IF($C$33="Szenario 2",INDEX('2a) Preisannahmen'!$D$13:$AD$19,MATCH('2b) Allg. Inputs'!$B37,'2a) Preisannahmen'!$B$13:$B$19,FALSE),MATCH('2b) Allg. Inputs'!T$34,'2a) Preisannahmen'!$D$12:$AD$12,FALSE)),IF($C$33="Szenario 3",INDEX('2a) Preisannahmen'!$D$22:$AD$28,MATCH('2b) Allg. Inputs'!$B37,'2a) Preisannahmen'!$B$22:$B$28,FALSE),MATCH('2b) Allg. Inputs'!T$34,'2a) Preisannahmen'!$D$21:$AD$21,FALSE)),""))),"")
B38: Erdgas | D38: EUR/MWh | E38: =_xlfn.IFNA(IF($C$33="Szenario 1",INDEX('2a) Preisannahmen'!$D$4:$AD$10,MATCH('2b) Allg. Inputs'!$B38,'2a) Preisannahmen'!$B$4:$B$10,FALSE),MATCH('2b) Allg. Inputs'!E$34,'2a) Preisannahmen'!$D$3:$AD$3,FALSE)),IF($C$33="Szenario 2",INDEX('2a) Preisannahmen'!$D$13:$AD$19,MATCH('2b) Allg. Inputs'!$B38,'2a) Preisannahmen'!$B$13:$B$19,FALSE),MATCH('2b) Allg. Inputs'!E$34,'2a) Preisannahmen'!$D$12:$AD$12,FALSE)),IF($C$33="Szenario 3",INDEX('2a) Preisannahmen'!$D$22:$AD$28,MATCH('2b) Allg. Inputs'!$B38,'2a) Preisannahmen'!$B$22:$B$28,FALSE),MATCH('2b) Allg. Inputs'!E$34,'2a) Preisannahmen'!$D$21:$AD$21,FALSE)),""))),"") | F38: =_xlfn.IFNA(IF($C$33="Szenario 1",INDEX('2a) Preisannahmen'!$D$4:$AD$10,MATCH('2b) Allg. Inputs'!$B38,'2a) Preisannahmen'!$B$4:$B$10,FALSE),MATCH('2b) Allg. Inputs'!F$34,'2a) Preisannahmen'!$D$3:$AD$3,FALSE)),IF($C$33="Szenario 2",INDEX('2a) Preisannahmen'!$D$13:$AD$19,MATCH('2b) Allg. Inputs'!$B38,'2a) Preisannahmen'!$B$13:$B$19,FALSE),MATCH('2b) Allg. Inputs'!F$34,'2a) Preisannahmen'!$D$12:$AD$12,FALSE)),IF($C$33="Szenario 3",INDEX('2a) Preisannahmen'!$D$22:$AD$28,MATCH('2b) Allg. Inputs'!$B38,'2a) Preisannahmen'!$B$22:$B$28,FALSE),MATCH('2b) Allg. Inputs'!F$34,'2a) Preisannahmen'!$D$21:$AD$21,FALSE)),""))),"") | G38: =_xlfn.IFNA(IF($C$33="Szenario 1",INDEX('2a) Preisannahmen'!$D$4:$AD$10,MATCH('2b) Allg. Inputs'!$B38,'2a) Preisannahmen'!$B$4:$B$10,FALSE),MATCH('2b) Allg. Inputs'!G$34,'2a) Preisannahmen'!$D$3:$AD$3,FALSE)),IF($C$33="Szenario 2",INDEX('2a) Preisannahmen'!$D$13:$AD$19,MATCH('2b) Allg. Inputs'!$B38,'2a) Preisannahmen'!$B$13:$B$19,FALSE),MATCH('2b) Allg. Inputs'!G$34,'2a) Preisannahmen'!$D$12:$AD$12,FALSE)),IF($C$33="Szenario 3",INDEX('2a) Preisannahmen'!$D$22:$AD$28,MATCH('2b) Allg. Inputs'!$B38,'2a) Preisannahmen'!$B$22:$B$28,FALSE),MATCH('2b) Allg. Inputs'!G$34,'2a) Preisannahmen'!$D$21:$AD$21,FALSE)),""))),"") | H38: =_xlfn.IFNA(IF($C$33="Szenario 1",INDEX('2a) Preisannahmen'!$D$4:$AD$10,MATCH('2b) Allg. Inputs'!$B38,'2a) Preisannahmen'!$B$4:$B$10,FALSE),MATCH('2b) Allg. Inputs'!H$34,'2a) Preisannahmen'!$D$3:$AD$3,FALSE)),IF($C$33="Szenario 2",INDEX('2a) Preisannahmen'!$D$13:$AD$19,MATCH('2b) Allg. Inputs'!$B38,'2a) Preisannahmen'!$B$13:$B$19,FALSE),MATCH('2b) Allg. Inputs'!H$34,'2a) Preisannahmen'!$D$12:$AD$12,FALSE)),IF($C$33="Szenario 3",INDEX('2a) Preisannahmen'!$D$22:$AD$28,MATCH('2b) Allg. Inputs'!$B38,'2a) Preisannahmen'!$B$22:$B$28,FALSE),MATCH('2b) Allg. Inputs'!H$34,'2a) Preisannahmen'!$D$21:$AD$21,FALSE)),""))),"") | I38: =_xlfn.IFNA(IF($C$33="Szenario 1",INDEX('2a) Preisannahmen'!$D$4:$AD$10,MATCH('2b) Allg. Inputs'!$B38,'2a) Preisannahmen'!$B$4:$B$10,FALSE),MATCH('2b) Allg. Inputs'!I$34,'2a) Preisannahmen'!$D$3:$AD$3,FALSE)),IF($C$33="Szenario 2",INDEX('2a) Preisannahmen'!$D$13:$AD$19,MATCH('2b) Allg. Inputs'!$B38,'2a) Preisannahmen'!$B$13:$B$19,FALSE),MATCH('2b) Allg. Inputs'!I$34,'2a) Preisannahmen'!$D$12:$AD$12,FALSE)),IF($C$33="Szenario 3",INDEX('2a) Preisannahmen'!$D$22:$AD$28,MATCH('2b) Allg. Inputs'!$B38,'2a) Preisannahmen'!$B$22:$B$28,FALSE),MATCH('2b) Allg. Inputs'!I$34,'2a) Preisannahmen'!$D$21:$AD$21,FALSE)),""))),"") | J38: =_xlfn.IFNA(IF($C$33="Szenario 1",INDEX('2a) Preisannahmen'!$D$4:$AD$10,MATCH('2b) Allg. Inputs'!$B38,'2a) Preisannahmen'!$B$4:$B$10,FALSE),MATCH('2b) Allg. Inputs'!J$34,'2a) Preisannahmen'!$D$3:$AD$3,FALSE)),IF($C$33="Szenario 2",INDEX('2a) Preisannahmen'!$D$13:$AD$19,MATCH('2b) Allg. Inputs'!$B38,'2a) Preisannahmen'!$B$13:$B$19,FALSE),MATCH('2b) Allg. Inputs'!J$34,'2a) Preisannahmen'!$D$12:$AD$12,FALSE)),IF($C$33="Szenario 3",INDEX('2a) Preisannahmen'!$D$22:$AD$28,MATCH('2b) Allg. Inputs'!$B38,'2a) Preisannahmen'!$B$22:$B$28,FALSE),MATCH('2b) Allg. Inputs'!J$34,'2a) Preisannahmen'!$D$21:$AD$21,FALSE)),""))),"") | K38: =_xlfn.IFNA(IF($C$33="Szenario 1",INDEX('2a) Preisannahmen'!$D$4:$AD$10,MATCH('2b) Allg. Inputs'!$B38,'2a) Preisannahmen'!$B$4:$B$10,FALSE),MATCH('2b) Allg. Inputs'!K$34,'2a) Preisannahmen'!$D$3:$AD$3,FALSE)),IF($C$33="Szenario 2",INDEX('2a) Preisannahmen'!$D$13:$AD$19,MATCH('2b) Allg. Inputs'!$B38,'2a) Preisannahmen'!$B$13:$B$19,FALSE),MATCH('2b) Allg. Inputs'!K$34,'2a) Preisannahmen'!$D$12:$AD$12,FALSE)),IF($C$33="Szenario 3",INDEX('2a) Preisannahmen'!$D$22:$AD$28,MATCH('2b) Allg. Inputs'!$B38,'2a) Preisannahmen'!$B$22:$B$28,FALSE),MATCH('2b) Allg. Inputs'!K$34,'2a) Preisannahmen'!$D$21:$AD$21,FALSE)),""))),"") | L38: =_xlfn.IFNA(IF($C$33="Szenario 1",INDEX('2a) Preisannahmen'!$D$4:$AD$10,MATCH('2b) Allg. Inputs'!$B38,'2a) Preisannahmen'!$B$4:$B$10,FALSE),MATCH('2b) Allg. Inputs'!L$34,'2a) Preisannahmen'!$D$3:$AD$3,FALSE)),IF($C$33="Szenario 2",INDEX('2a) Preisannahmen'!$D$13:$AD$19,MATCH('2b) Allg. Inputs'!$B38,'2a) Preisannahmen'!$B$13:$B$19,FALSE),MATCH('2b) Allg. Inputs'!L$34,'2a) Preisannahmen'!$D$12:$AD$12,FALSE)),IF($C$33="Szenario 3",INDEX('2a) Preisannahmen'!$D$22:$AD$28,MATCH('2b) Allg. Inputs'!$B38,'2a) Preisannahmen'!$B$22:$B$28,FALSE),MATCH('2b) Allg. Inputs'!L$34,'2a) Preisannahmen'!$D$21:$AD$21,FALSE)),""))),"") | ... T38: =_xlfn.IFNA(IF($C$33="Szenario 1",INDEX('2a) Preisannahmen'!$D$4:$AD$10,MATCH('2b) Allg. Inputs'!$B38,'2a) Preisannahmen'!$B$4:$B$10,FALSE),MATCH('2b) Allg. Inputs'!T$34,'2a) Preisannahmen'!$D$3:$AD$3,FALSE)),IF($C$33="Szenario 2",INDEX('2a) Preisannahmen'!$D$13:$AD$19,MATCH('2b) Allg. Inputs'!$B38,'2a) Preisannahmen'!$B$13:$B$19,FALSE),MATCH('2b) Allg. Inputs'!T$34,'2a) Preisannahmen'!$D$12:$AD$12,FALSE)),IF($C$33="Szenario 3",INDEX('2a) Preisannahmen'!$D$22:$AD$28,MATCH('2b) Allg. Inputs'!$B38,'2a) Preisannahmen'!$B$22:$B$28,FALSE),MATCH('2b) Allg. Inputs'!T$34,'2a) Preisannahmen'!$D$21:$AD$21,FALSE)),""))),"")
B39: Kokskohle | D39: EUR/MWh | E39: =_xlfn.IFNA(IF($C$33="Szenario 1",INDEX('2a) Preisannahmen'!$D$4:$AD$10,MATCH('2b) Allg. Inputs'!$B39,'2a) Preisannahmen'!$B$4:$B$10,FALSE),MATCH('2b) Allg. Inputs'!E$34,'2a) Preisannahmen'!$D$3:$AD$3,FALSE)),IF($C$33="Szenario 2",INDEX('2a) Preisannahmen'!$D$13:$AD$19,MATCH('2b) Allg. Inputs'!$B39,'2a) Preisannahmen'!$B$13:$B$19,FALSE),MATCH('2b) Allg. Inputs'!E$34,'2a) Preisannahmen'!$D$12:$AD$12,FALSE)),IF($C$33="Szenario 3",INDEX('2a) Preisannahmen'!$D$22:$AD$28,MATCH('2b) Allg. Inputs'!$B39,'2a) Preisannahmen'!$B$22:$B$28,FALSE),MATCH('2b) Allg. Inputs'!E$34,'2a) Preisannahmen'!$D$21:$AD$21,FALSE)),""))),"") | F39: =_xlfn.IFNA(IF($C$33="Szenario 1",INDEX('2a) Preisannahmen'!$D$4:$AD$10,MATCH('2b) Allg. Inputs'!$B39,'2a) Preisannahmen'!$B$4:$B$10,FALSE),MATCH('2b) Allg. Inputs'!F$34,'2a) Preisannahmen'!$D$3:$AD$3,FALSE)),IF($C$33="Szenario 2",INDEX('2a) Preisannahmen'!$D$13:$AD$19,MATCH('2b) Allg. Inputs'!$B39,'2a) Preisannahmen'!$B$13:$B$19,FALSE),MATCH('2b) Allg. Inputs'!F$34,'2a) Preisannahmen'!$D$12:$AD$12,FALSE)),IF($C$33="Szenario 3",INDEX('2a) Preisannahmen'!$D$22:$AD$28,MATCH('2b) Allg. Inputs'!$B39,'2a) Preisannahmen'!$B$22:$B$28,FALSE),MATCH('2b) Allg. Inputs'!F$34,'2a) Preisannahmen'!$D$21:$AD$21,FALSE)),""))),"") | G39: =_xlfn.IFNA(IF($C$33="Szenario 1",INDEX('2a) Preisannahmen'!$D$4:$AD$10,MATCH('2b) Allg. Inputs'!$B39,'2a) Preisannahmen'!$B$4:$B$10,FALSE),MATCH('2b) Allg. Inputs'!G$34,'2a) Preisannahmen'!$D$3:$AD$3,FALSE)),IF($C$33="Szenario 2",INDEX('2a) Preisannahmen'!$D$13:$AD$19,MATCH('2b) Allg. Inputs'!$B39,'2a) Preisannahmen'!$B$13:$B$19,FALSE),MATCH('2b) Allg. Inputs'!G$34,'2a) Preisannahmen'!$D$12:$AD$12,FALSE)),IF($C$33="Szenario 3",INDEX('2a) Preisannahmen'!$D$22:$AD$28,MATCH('2b) Allg. Inputs'!$B39,'2a) Preisannahmen'!$B$22:$B$28,FALSE),MATCH('2b) Allg. Inputs'!G$34,'2a) Preisannahmen'!$D$21:$AD$21,FALSE)),""))),"") | H39: =_xlfn.IFNA(IF($C$33="Szenario 1",INDEX('2a) Preisannahmen'!$D$4:$AD$10,MATCH('2b) Allg. Inputs'!$B39,'2a) Preisannahmen'!$B$4:$B$10,FALSE),MATCH('2b) Allg. Inputs'!H$34,'2a) Preisannahmen'!$D$3:$AD$3,FALSE)),IF($C$33="Szenario 2",INDEX('2a) Preisannahmen'!$D$13:$AD$19,MATCH('2b) Allg. Inputs'!$B39,'2a) Preisannahmen'!$B$13:$B$19,FALSE),MATCH('2b) Allg. Inputs'!H$34,'2a) Preisannahmen'!$D$12:$AD$12,FALSE)),IF($C$33="Szenario 3",INDEX('2a) Preisannahmen'!$D$22:$AD$28,MATCH('2b) Allg. Inputs'!$B39,'2a) Preisannahmen'!$B$22:$B$28,FALSE),MATCH('2b) Allg. Inputs'!H$34,'2a) Preisannahmen'!$D$21:$AD$21,FALSE)),""))),"") | I39: =_xlfn.IFNA(IF($C$33="Szenario 1",INDEX('2a) Preisannahmen'!$D$4:$AD$10,MATCH('2b) Allg. Inputs'!$B39,'2a) Preisannahmen'!$B$4:$B$10,FALSE),MATCH('2b) Allg. Inputs'!I$34,'2a) Preisannahmen'!$D$3:$AD$3,FALSE)),IF($C$33="Szenario 2",INDEX('2a) Preisannahmen'!$D$13:$AD$19,MATCH('2b) Allg. Inputs'!$B39,'2a) Preisannahmen'!$B$13:$B$19,FALSE),MATCH('2b) Allg. Inputs'!I$34,'2a) Preisannahmen'!$D$12:$AD$12,FALSE)),IF($C$33="Szenario 3",INDEX('2a) Preisannahmen'!$D$22:$AD$28,MATCH('2b) Allg. Inputs'!$B39,'2a) Preisannahmen'!$B$22:$B$28,FALSE),MATCH('2b) Allg. Inputs'!I$34,'2a) Preisannahmen'!$D$21:$AD$21,FALSE)),""))),"") | J39: =_xlfn.IFNA(IF($C$33="Szenario 1",INDEX('2a) Preisannahmen'!$D$4:$AD$10,MATCH('2b) Allg. Inputs'!$B39,'2a) Preisannahmen'!$B$4:$B$10,FALSE),MATCH('2b) Allg. Inputs'!J$34,'2a) Preisannahmen'!$D$3:$AD$3,FALSE)),IF($C$33="Szenario 2",INDEX('2a) Preisannahmen'!$D$13:$AD$19,MATCH('2b) Allg. Inputs'!$B39,'2a) Preisannahmen'!$B$13:$B$19,FALSE),MATCH('2b) Allg. Inputs'!J$34,'2a) Preisannahmen'!$D$12:$AD$12,FALSE)),IF($C$33="Szenario 3",INDEX('2a) Preisannahmen'!$D$22:$AD$28,MATCH('2b) Allg. Inputs'!$B39,'2a) Preisannahmen'!$B$22:$B$28,FALSE),MATCH('2b) Allg. Inputs'!J$34,'2a) Preisannahmen'!$D$21:$AD$21,FALSE)),""))),"") | K39: =_xlfn.IFNA(IF($C$33="Szenario 1",INDEX('2a) Preisannahmen'!$D$4:$AD$10,MATCH('2b) Allg. Inputs'!$B39,'2a) Preisannahmen'!$B$4:$B$10,FALSE),MATCH('2b) Allg. Inputs'!K$34,'2a) Preisannahmen'!$D$3:$AD$3,FALSE)),IF($C$33="Szenario 2",INDEX('2a) Preisannahmen'!$D$13:$AD$19,MATCH('2b) Allg. Inputs'!$B39,'2a) Preisannahmen'!$B$13:$B$19,FALSE),MATCH('2b) Allg. Inputs'!K$34,'2a) Preisannahmen'!$D$12:$AD$12,FALSE)),IF($C$33="Szenario 3",INDEX('2a) Preisannahmen'!$D$22:$AD$28,MATCH('2b) Allg. Inputs'!$B39,'2a) Preisannahmen'!$B$22:$B$28,FALSE),MATCH('2b) Allg. Inputs'!K$34,'2a) Preisannahmen'!$D$21:$AD$21,FALSE)),""))),"") | L39: =_xlfn.IFNA(IF($C$33="Szenario 1",INDEX('2a) Preisannahmen'!$D$4:$AD$10,MATCH('2b) Allg. Inputs'!$B39,'2a) Preisannahmen'!$B$4:$B$10,FALSE),MATCH('2b) Allg. Inputs'!L$34,'2a) Preisannahmen'!$D$3:$AD$3,FALSE)),IF($C$33="Szenario 2",INDEX('2a) Preisannahmen'!$D$13:$AD$19,MATCH('2b) Allg. Inputs'!$B39,'2a) Preisannahmen'!$B$13:$B$19,FALSE),MATCH('2b) Allg. Inputs'!L$34,'2a) Preisannahmen'!$D$12:$AD$12,FALSE)),IF($C$33="Szenario 3",INDEX('2a) Preisannahmen'!$D$22:$AD$28,MATCH('2b) Allg. Inputs'!$B39,'2a) Preisannahmen'!$B$22:$B$28,FALSE),MATCH('2b) Allg. Inputs'!L$34,'2a) Preisannahmen'!$D$21:$AD$21,FALSE)),""))),"") | ... T39: =_xlfn.IFNA(IF($C$33="Szenario 1",INDEX('2a) Preisannahmen'!$D$4:$AD$10,MATCH('2b) Allg. Inputs'!$B39,'2a) Preisannahmen'!$B$4:$B$10,FALSE),MATCH('2b) Allg. Inputs'!T$34,'2a) Preisannahmen'!$D$3:$AD$3,FALSE)),IF($C$33="Szenario 2",INDEX('2a) Preisannahmen'!$D$13:$AD$19,MATCH('2b) Allg. Inputs'!$B39,'2a) Preisannahmen'!$B$13:$B$19,FALSE),MATCH('2b) Allg. Inputs'!T$34,'2a) Preisannahmen'!$D$12:$AD$12,FALSE)),IF($C$33="Szenario 3",INDEX('2a) Preisannahmen'!$D$22:$AD$28,MATCH('2b) Allg. Inputs'!$B39,'2a) Preisannahmen'!$B$22:$B$28,FALSE),MATCH('2b) Allg. Inputs'!T$34,'2a) Preisannahmen'!$D$21:$AD$21,FALSE)),""))),"")
B40: Kesselkohle | D40: EUR/MWh | E40: =_xlfn.IFNA(IF($C$33="Szenario 1",INDEX('2a) Preisannahmen'!$D$4:$AD$10,MATCH('2b) Allg. Inputs'!$B40,'2a) Preisannahmen'!$B$4:$B$10,FALSE),MATCH('2b) Allg. Inputs'!E$34,'2a) Preisannahmen'!$D$3:$AD$3,FALSE)),IF($C$33="Szenario 2",INDEX('2a) Preisannahmen'!$D$13:$AD$19,MATCH('2b) Allg. Inputs'!$B40,'2a) Preisannahmen'!$B$13:$B$19,FALSE),MATCH('2b) Allg. Inputs'!E$34,'2a) Preisannahmen'!$D$12:$AD$12,FALSE)),IF($C$33="Szenario 3",INDEX('2a) Preisannahmen'!$D$22:$AD$28,MATCH('2b) Allg. Inputs'!$B40,'2a) Preisannahmen'!$B$22:$B$28,FALSE),MATCH('2b) Allg. Inputs'!E$34,'2a) Preisannahmen'!$D$21:$AD$21,FALSE)),""))),"") | F40: =_xlfn.IFNA(IF($C$33="Szenario 1",INDEX('2a) Preisannahmen'!$D$4:$AD$10,MATCH('2b) Allg. Inputs'!$B40,'2a) Preisannahmen'!$B$4:$B$10,FALSE),MATCH('2b) Allg. Inputs'!F$34,'2a) Preisannahmen'!$D$3:$AD$3,FALSE)),IF($C$33="Szenario 2",INDEX('2a) Preisannahmen'!$D$13:$AD$19,MATCH('2b) Allg. Inputs'!$B40,'2a) Preisannahmen'!$B$13:$B$19,FALSE),MATCH('2b) Allg. Inputs'!F$34,'2a) Preisannahmen'!$D$12:$AD$12,FALSE)),IF($C$33="Szenario 3",INDEX('2a) Preisannahmen'!$D$22:$AD$28,MATCH('2b) Allg. Inputs'!$B40,'2a) Preisannahmen'!$B$22:$B$28,FALSE),MATCH('2b) Allg. Inputs'!F$34,'2a) Preisannahmen'!$D$21:$AD$21,FALSE)),""))),"") | G40: =_xlfn.IFNA(IF($C$33="Szenario 1",INDEX('2a) Preisannahmen'!$D$4:$AD$10,MATCH('2b) Allg. Inputs'!$B40,'2a) Preisannahmen'!$B$4:$B$10,FALSE),MATCH('2b) Allg. Inputs'!G$34,'2a) Preisannahmen'!$D$3:$AD$3,FALSE)),IF($C$33="Szenario 2",INDEX('2a) Preisannahmen'!$D$13:$AD$19,MATCH('2b) Allg. Inputs'!$B40,'2a) Preisannahmen'!$B$13:$B$19,FALSE),MATCH('2b) Allg. Inputs'!G$34,'2a) Preisannahmen'!$D$12:$AD$12,FALSE)),IF($C$33="Szenario 3",INDEX('2a) Preisannahmen'!$D$22:$AD$28,MATCH('2b) Allg. Inputs'!$B40,'2a) Preisannahmen'!$B$22:$B$28,FALSE),MATCH('2b) Allg. Inputs'!G$34,'2a) Preisannahmen'!$D$21:$AD$21,FALSE)),""))),"") | H40: =_xlfn.IFNA(IF($C$33="Szenario 1",INDEX('2a) Preisannahmen'!$D$4:$AD$10,MATCH('2b) Allg. Inputs'!$B40,'2a) Preisannahmen'!$B$4:$B$10,FALSE),MATCH('2b) Allg. Inputs'!H$34,'2a) Preisannahmen'!$D$3:$AD$3,FALSE)),IF($C$33="Szenario 2",INDEX('2a) Preisannahmen'!$D$13:$AD$19,MATCH('2b) Allg. Inputs'!$B40,'2a) Preisannahmen'!$B$13:$B$19,FALSE),MATCH('2b) Allg. Inputs'!H$34,'2a) Preisannahmen'!$D$12:$AD$12,FALSE)),IF($C$33="Szenario 3",INDEX('2a) Preisannahmen'!$D$22:$AD$28,MATCH('2b) Allg. Inputs'!$B40,'2a) Preisannahmen'!$B$22:$B$28,FALSE),MATCH('2b) Allg. Inputs'!H$34,'2a) Preisannahmen'!$D$21:$AD$21,FALSE)),""))),"") | I40: =_xlfn.IFNA(IF($C$33="Szenario 1",INDEX('2a) Preisannahmen'!$D$4:$AD$10,MATCH('2b) Allg. Inputs'!$B40,'2a) Preisannahmen'!$B$4:$B$10,FALSE),MATCH('2b) Allg. Inputs'!I$34,'2a) Preisannahmen'!$D$3:$AD$3,FALSE)),IF($C$33="Szenario 2",INDEX('2a) Preisannahmen'!$D$13:$AD$19,MATCH('2b) Allg. Inputs'!$B40,'2a) Preisannahmen'!$B$13:$B$19,FALSE),MATCH('2b) Allg. Inputs'!I$34,'2a) Preisannahmen'!$D$12:$AD$12,FALSE)),IF($C$33="Szenario 3",INDEX('2a) Preisannahmen'!$D$22:$AD$28,MATCH('2b) Allg. Inputs'!$B40,'2a) Preisannahmen'!$B$22:$B$28,FALSE),MATCH('2b) Allg. Inputs'!I$34,'2a) Preisannahmen'!$D$21:$AD$21,FALSE)),""))),"") | J40: =_xlfn.IFNA(IF($C$33="Szenario 1",INDEX('2a) Preisannahmen'!$D$4:$AD$10,MATCH('2b) Allg. Inputs'!$B40,'2a) Preisannahmen'!$B$4:$B$10,FALSE),MATCH('2b) Allg. Inputs'!J$34,'2a) Preisannahmen'!$D$3:$AD$3,FALSE)),IF($C$33="Szenario 2",INDEX('2a) Preisannahmen'!$D$13:$AD$19,MATCH('2b) Allg. Inputs'!$B40,'2a) Preisannahmen'!$B$13:$B$19,FALSE),MATCH('2b) Allg. Inputs'!J$34,'2a) Preisannahmen'!$D$12:$AD$12,FALSE)),IF($C$33="Szenario 3",INDEX('2a) Preisannahmen'!$D$22:$AD$28,MATCH('2b) Allg. Inputs'!$B40,'2a) Preisannahmen'!$B$22:$B$28,FALSE),MATCH('2b) Allg. Inputs'!J$34,'2a) Preisannahmen'!$D$21:$AD$21,FALSE)),""))),"") | K40: =_xlfn.IFNA(IF($C$33="Szenario 1",INDEX('2a) Preisannahmen'!$D$4:$AD$10,MATCH('2b) Allg. Inputs'!$B40,'2a) Preisannahmen'!$B$4:$B$10,FALSE),MATCH('2b) Allg. Inputs'!K$34,'2a) Preisannahmen'!$D$3:$AD$3,FALSE)),IF($C$33="Szenario 2",INDEX('2a) Preisannahmen'!$D$13:$AD$19,MATCH('2b) Allg. Inputs'!$B40,'2a) Preisannahmen'!$B$13:$B$19,FALSE),MATCH('2b) Allg. Inputs'!K$34,'2a) Preisannahmen'!$D$12:$AD$12,FALSE)),IF($C$33="Szenario 3",INDEX('2a) Preisannahmen'!$D$22:$AD$28,MATCH('2b) Allg. Inputs'!$B40,'2a) Preisannahmen'!$B$22:$B$28,FALSE),MATCH('2b) Allg. Inputs'!K$34,'2a) Preisannahmen'!$D$21:$AD$21,FALSE)),""))),"") | L40: =_xlfn.IFNA(IF($C$33="Szenario 1",INDEX('2a) Preisannahmen'!$D$4:$AD$10,MATCH('2b) Allg. Inputs'!$B40,'2a) Preisannahmen'!$B$4:$B$10,FALSE),MATCH('2b) Allg. Inputs'!L$34,'2a) Preisannahmen'!$D$3:$AD$3,FALSE)),IF($C$33="Szenario 2",INDEX('2a) Preisannahmen'!$D$13:$AD$19,MATCH('2b) Allg. Inputs'!$B40,'2a) Preisannahmen'!$B$13:$B$19,FALSE),MATCH('2b) Allg. Inputs'!L$34,'2a) Preisannahmen'!$D$12:$AD$12,FALSE)),IF($C$33="Szenario 3",INDEX('2a) Preisannahmen'!$D$22:$AD$28,MATCH('2b) Allg. Inputs'!$B40,'2a) Preisannahmen'!$B$22:$B$28,FALSE),MATCH('2b) Allg. Inputs'!L$34,'2a) Preisannahmen'!$D$21:$AD$21,FALSE)),""))),"") | ... T40: =_xlfn.IFNA(IF($C$33="Szenario 1",INDEX('2a) Preisannahmen'!$D$4:$AD$10,MATCH('2b) Allg. Inputs'!$B40,'2a) Preisannahmen'!$B$4:$B$10,FALSE),MATCH('2b) Allg. Inputs'!T$34,'2a) Preisannahmen'!$D$3:$AD$3,FALSE)),IF($C$33="Szenario 2",INDEX('2a) Preisannahmen'!$D$13:$AD$19,MATCH('2b) Allg. Inputs'!$B40,'2a) Preisannahmen'!$B$13:$B$19,FALSE),MATCH('2b) Allg. Inputs'!T$34,'2a) Preisannahmen'!$D$12:$AD$12,FALSE)),IF($C$33="Szenario 3",INDEX('2a) Preisannahmen'!$D$22:$AD$28,MATCH('2b) Allg. Inputs'!$B40,'2a) Preisannahmen'!$B$22:$B$28,FALSE),MATCH('2b) Allg. Inputs'!T$34,'2a) Preisannahmen'!$D$21:$AD$21,FALSE)),""))),"")
