Workbook
Name BaseList: _xlfn._xlws.FILTER('3b) Referenzsysteme'!$B$6:$B$57, '3b) Referenzsysteme'!$B$6:$B$57<>"")
Name ChartAB: OFFSET(INDIRECT('1) Gesamtübersicht'!$E$128),,,,'1) Gesamtübersicht'!$F$110)
Name ChartAuszahlung: OFFSET(INDIRECT('1) Gesamtübersicht'!$E$116),,,,'1) Gesamtübersicht'!$F$110)
Name ChartBV: OFFSET(INDIRECT('1) Gesamtübersicht'!$E$122),,,,'1) Gesamtübersicht'!$F$110)
Name ChartDV: OFFSET(INDIRECT('1) Gesamtübersicht'!$E$110),,,,'1) Gesamtübersicht'!$F$110)
Name ChartEff: OFFSET(INDIRECT('1) Gesamtübersicht'!$E$125),,,,'1) Gesamtübersicht'!$F$110)
Name ChartÜber: OFFSET(INDIRECT('1) Gesamtübersicht'!$E$119),,,,'1) Gesamtübersicht'!$F$110)
Name ChartYears: OFFSET(INDIRECT('1) Gesamtübersicht'!$E$113),,,,'1) Gesamtübersicht'!$F$110)

Sheet Inhaltsverzeichnis
C5: Tabellenblatt/Abschnitt | D5: Inhalt
C7: 1) Gesamtübersicht | D7: Zusammenfassung der wichtigsten Angaben und basierend auf den Eingaben ein Überblick über die berechneten maximalen Fördersummen, die zu erwartenden Auszahlungen sowie die Erfüllung der Mindestanforderungen gemäß Nummer 4.16 der Förderrichtlinie CO2-Differenzverträge (FRL CCfD) und die Erfüllung der Auszahlungsbedingungen.
C8: 2a) Preisannahmen | D8: Angabe von Annahmen zu indexierten Preisen (bis zu drei Szenarien).
C9: 2b) Allg. Inputs | D9: Angabe der allgemeinen Daten des Gebots sowie anderweitiger für das Vorhaben bewilligter Förderungen gemäß Nummer 7.5(c) FRL CCfD. Zudem sind die Annahmen über Energieträgerpreise, CO2-Preise und kostenlose Zuteilungen im ETS hier einzutragen.
C10: 2c) Elektrolyseurförderung | D10: Angaben zur Elektrolyseanlage, falls im Vorhaben Wasserstoff verwendet wird, der durch Elektrolyseanlagen eines verbundenen Unternehmens produziert wird.
C11: 2d) Planwerte (Anlage) | D11: Angabe des/der Referenzsystem(e) und zugrundeliegender vorhabenspezifischer, geplanter Verbrauchsparameter sowie Produktionsmengen.
C12: 2e) Realisierte Werte (Anlage) | D12: Angabe realisierter Verbrauchsparameter sowie Produktionsmengen (bei Abweichung von geplanten Verbrauchsparametern).
C13: 3a) CCfD Parameter | D13: Übersicht der durch die Bewilligungsbehörde festgelegten Parameter des CCfD-Programms.
C14: 3b) Referenzsysteme | D14: Übersicht der Referenzsysteme und der jeweiligen Verbrauchsparameter.
C15: 4a) Berechnungen zu Planwerten | D15: Allgemeine Berechnung zur Bestimmung der maximalen Fördersumme und der zu erwartenden Auszahlungen basierend auf geplanten Verbrauchsparametern.
C16: 4b) Berechnungen zu realisierten Werten | D16: Berechnung zur Bestimmung der zu erwartenden Auszahlungen basierend auf realisierten Verbrauchsparametern (bei Abweichung von geplanten Verbrauchsparametern).
C17: 4c) Berechnung_MFS | D17: Berechnung der maximalen Fördersummen.
... C19: 5) Eingabeprüfung | D19: Eingabeprüfung für besonders relevante Inputdaten.

Sheet Read Me
C6: Zweck | D6: Die vorliegende Erklärhilfe dient der Berechnung der zu erwartenden jährlichen Auszahlungsbeträge eines Vorhabens im Rahmen des Gebotsverfahrens 2026 der CO2-Differenzverträge gemäß FRL vom 04. Mai 2026. Unternehmen können hier die zu erwartenden Auszahlungen unter Eingabe ihrer Energie- und CO2-Preisannahmen entnehmen. Zudem dient die Erklärhilfe der Berechnung der jährlichen maximalen Fördersummen. Außerdem können Sie mit dieser Erklärhilfe verschiedene Annahmen zum geplanten operativen Beginn sowie deren Einfluss auf die Höhe der jährlichen maximalen Fördersummen sowie der zu erwartenden Auszahlungen bewerten. Die Erklärhilfe stellt kein verbindliches Dokument im Rahmen des CO2-Differenzvertrags dar, sondern ist lediglich als Hilfestellung für die Antragsteller des Gebotsverfahrens 2026 zu sehen.
C8: Gliederung | D8: Das Tabellenblatt 1) Gesamtübersicht zeigt die zu erwartenden Auszahlungen und maximale gesamte Fördersumme sowie die Einhaltung der Mindestanforderungen nach Nummer 4.16 FRL CCfD und die Erfüllung von Auszahlungsbedingungen. Der zeitliche Verlauf der Aus- bzw. Überschusszahlungen ist zudem grafisch dargestellt. Außerdem wird für besonders relevante Inputdaten geprüft, ob eine Eingabe (in aktiven Jahren) erfolgt ist. Im Abschnitt (Tabellengruppe) Inputs sind die Angaben des Vorhabens einzutragen. Dies umfasst insbesondere Produktionsmengen, Emissionen, Energieverbräuche und anderweitige Förderungen. Die Vorhabensdaten sind jeweils in absoluten Werten anzugeben. Im Abschnitt (Tabellengruppe) CCfD Parameter sind die durch die Bewilligungsbehörde festgelegten Programmparameter dargestellt. Der Abschnitt (Tabellengruppe) Berechnungen zeigt die Berechnungen, die der zu erwartenden Auszahlung und der maximalen Fördersumme des Vorhabens zugrundeliegen.
C10: Verwendungshinweis | D10: Grundsätzlich sind Felder zur Eingabe farblich markiert: Grün bezeichnet die von dem Zuwendungsempfänger zu machenden Angaben. Hellgrau bezeichnet die Angaben des Zuwendungsempfängers, welche für weitere Berechnungen aus den Angaben übernommen wurden. Orange hinterlegte Felder sind Angaben der Bewilligungsbehörde. In der vorliegenden Erklärhilfe hat der Zuwendungsempfänger lediglich die Tabellenblätter im Abschnitt Inputs auszufüllen. Bitte beachten Sie, dass sich die Farbe der Felder teilweise dynamisch anpasst, z. B. bei Auswahl eines vorgelagerten Referenzsystems. Im Tabellenblatt 2a) Preisannahmen werden Annahmen zu indexierten Preisen für die kommenden Jahre eingetragen. Sie können Annahmen für drei verschiedene Preisszenarien eingeben und das jeweilige Szenario in Tabellenblatt 2b) Allg. Inputs auswählen. Im Tabellenblatt 2b) Allg. Inputs werden allgemeine Informationen des Vorhabens, einschließlich bewilligter anderweitiger Förderung und kostenloser Zuteilungen von Emissionsberechtigungen des EU-ETS, abgefragt. Zudem wird hier das anzuwendende Preisszenario ausgewählt. Falls in Ihrem Vorhaben Wasserstoff eingesetzt wird, der durch Elektrolyseanlagen eines verbundenen Unternehmens produziert wird, füllen Sie bitte das Tabellenblatt 2c) Elektrolyseurförderung aus. Ansonsten ist dieses Tabellenblatt nicht auszufüllen. Im Tabellenblatt 2d) Planwerte (Anlage) ist das jeweilige Referenzsystem aus einer Dropdown-Liste auszuwählen. Es gibt die Möglichkeit, mehrere Referenzsysteme auszuwählen, welche gewichtet in die Berechnungen einfließen. Bei der Wahl eines vorgelagerten Referenzsystems (Wasserstoff, Synthesegas, Wärmebereitstellung und Brennstoffeinsatz) müssen zusätzlich die Produktemissionen, hergestellten Industrieprodukte und jeweiligen Produktionsmengen angegeben werden. Die Produktemissionen der vorgelagerten Referenzsysteme wurden den Antragstellern mit Veröffentlichung des Förderaufrufs CCfD 2026 gesondert mitgeteilt. Die Abfrage von erneuerbarem und CO2-armem Wasserstoff erfolgt getrennt. In Anhang 1 des Förderaufrufs CCfD 2026 ist die jeweilige Mengeneinheit aufgeführt, mit der die Produktmenge anzugeben ist (z. B. für Kalk in Tonnen Kalk). Falls erwartet wird, dass realisierte Verbrauchsparameter von den geplanten Verbrauchsparametern abweichen werden, ist zusätzlich zum Tabellenblatt 2d) Planwerte (Anlage) das Tabellenblatt 2e) Realisierte Werte (Anlage) auszufüllen. Die Eingabe abweichender realisierter Verbrauchsparameter wird durch den Schalter in Zelle "C6" des Tabellenblatts 2e) Realisierte Werte (Anlage) freigeschaltet. Zu beachten ist ebenfalls, dass die Auszahlungsbeträge im Rahmen des CCfDs grundsätzlich nachschüssig gewährt werden (mit Ausnahme von Abschlagszahlungen).
C12: Disclaimer | D12: Bitte beachten Sie, dass es sich bei dieser Erklärhilfe um ein rechtlich unverbindliches Tool handelt. Maßgeblich für diese Erklärhilfe sind die Förderrichtlinie CO2-Differenzverträge (FRL CCfD) in der für das Gebotsverfahren 2026 geltenden Fassung vom 04. Mai 2026 und der Förderaufruf zum Gebotsverfahren CO2-Differenzverträge 2026 vom 05. Mai 2026.
C14: Kontakt | D14: fragen@co2-differenzvertraege.info
C16: Version | D16: Erklärhilfe zur Abschätzung der jährlichen Förderhöhe (05. Mai 2026)

Sheet 1) Gesamtübersicht
B2: Gesamtübersicht
B3: Dieses Tabellenblatt gibt einen Überblick über die wichtigsten Angaben und Ergebnisse der nachfolgenden Berechnungen.
B5: Eingabeprüfung von Schlüsselparametern
B6: Kategorie | C6: Prüfung
B7: Bekanntgabe Zuwendungsbescheid | C7: =IF(ISBLANK('2b) Allg. Inputs'!C6),"Nicht befüllt","OK") -> Nicht befüllt
B8: Geplanter operativer Beginn | C8: ='5) Eingabeprüfung'!C8 -> Nicht befüllt
B9: Basis-Vertragspreis | C9: ='5) Eingabeprüfung'!C9 -> Nicht befüllt
B10: Höhe der Teilförderung | C10: =IF('2b) Allg. Inputs'!C10="Nein","OK",IF(ISBLANK('2b) Allg. Inputs'!C11),"Nicht befüllt","OK")) -> OK
B11: Preisannahmen | C11: ='5) Eingabeprüfung'!C11 -> Nicht befüllt
B12: Angabe Referenzsystem 1 | C12: ='5) Eingabeprüfung'!C12 -> Nicht befüllt
B13: Geplante Produktionsmenge | C13: ='5) Eingabeprüfung'!C13 -> Nicht befüllt
B14: Geplante Emissionen Vorhaben | C14: ='5) Eingabeprüfung'!C14 -> Nicht befüllt
B15: Ggf. realisierte Produktionsmenge | C15: ='5) Eingabeprüfung'!C15 -> -
B16: Ggf. realisierte Emissionen Vorhaben | C16: ='5) Eingabeprüfung'!C16 -> -
B18: Eingabeprüfung: Planwerte vs. realisierte Werte
B19: Nutzung abweichender Eingaben von realisierten Werten im Vergleich zu den Planwerten | C19: ='2e) Realisierte Werte (Anlage)'!$C$6 -> Nein
B21: Allgemeine Angaben & Mindestanforderungen (bezogen auf Planwerte)
B22: Kategorie | C22: Einheit
B23: Geplanter operativer Beginn | C23: - | D23: =IF(ISBLANK('2b) Allg. Inputs'!C8),"",'2b) Allg. Inputs'!C8)
B24: Basis-Vertragspreis | C24: EUR/t CO2-Äq. | D24: =IF(ISBLANK('2b) Allg. Inputs'!C9),"",'2b) Allg. Inputs'!C9)
B25: Maximale gesamte Fördersumme | C25: EUR | D25: =IFERROR('4c) Berechnungen_MFS'!E95,"")
B26: Maximale gesamte Fördersumme von mind. 15 Mio. EUR | C26: - | D26: =IFERROR(IF('4c) Berechnungen_MFS'!E95>=15000000,"Erreicht","Nicht erreicht"),"")
B27: Maximale gesamte Fördersumme nicht größer als 2,5 Mrd. EUR | C27: - | D27: =IFERROR(IF('4c) Berechnungen_MFS'!E95>2500000000,"Nicht erreicht","Erreicht"),"")
B28: Erreichte geplante Treibhausgasemissionsminderung von 50 % ab dem 4. vollständigen Kalenderjahr | C28: - | D28: =IFERROR(IF('4c) Berechnungen_MFS'!E99="Nein",IF(MIN('4a) Berechnungen zu Planwerten'!H12:S12)>=50%,"Erreicht","Nicht erreicht"),IF(AND(MIN('4a) Berechnungen zu Planwerten'!I12:R12)>=50%, (('4a) Berechnungen zu Planwerten'!S11 + '4a) Berechnungen zu Planwerten'!T11)/('4a) Berechnungen zu Planwerten'!S83 + '4a) Berechnungen zu Planwerten'!T83))>=50%, ('4a) Berechnungen zu Planwerten'!U12)>=50%),"Erreicht","Nicht erreicht")),"-") -> Nicht erreicht
B29: Erreichte geplante Treibhausgasemissionsminderung von 85 % in den letzten 12 Monaten der Vertragslaufzeit | C29: - | D29: =IFERROR(IF('4c) Berechnungen_MFS'!E99="Nein",IF('4a) Berechnungen zu Planwerten'!S12>=0.85,"Erreicht","Nicht erreicht"),IF(SUM('4a) Berechnungen zu Planwerten'!T11:U11)/SUM('4a) Berechnungen zu Planwerten'!T83:U83)>=0.85,"Erreicht","Nicht erreicht")),"-") -> Nicht erreicht
B30: Mindestgröße des Referenzsystems erreicht (5 kt CO2-Äq.) | C30: - | D30: =IF(SUM( '4c) Berechnungen_MFS'!E40:T40)/15>=5000,"Erreicht","Nicht erreicht") -> Nicht erreicht
N31: Anmerkung: Grafik wird ab dem ersten Jahr, in dem eine Emissionsminderung erreicht wird (geplant oder realisiert), angezeigt.
B32: Auszahlungsbedingungen
B33: Kategorie | C33: Einheit | D33: Gesamte Laufzeit | E33: =YEAR('2b) Allg. Inputs'!C8) -> 1900 | F33: =E41+1 -> 1901 | G33: =F41+1 -> 1902 | H33: =G41+1 -> 1903 | I33: =H41+1 -> 1904 | J33: =I41+1 -> 1905 | K33: =J41+1 -> 1906 | L33: =K41+1 -> 1907 | M33: =L41+1 -> 1908 | ... S33: =R41+1 -> 1914 | T33: =IF('4c) Berechnungen_MFS'!E99="Nein","",S33+1)
B34: Summe der in einem und dem vorangegangenen Kalenderjahr realisierten absoluten Treibhausgasemissionsminderung unterschreitet die geplante absolute Treibhausgasemissionsminderung nicht um mehr als 30 %. | C34: - | D34: =IF(AND(COUNTIF(E34:T34,"Nicht erfüllt")=0,COUNTIF(E34:T34,"Erfüllt")=0),"",IF(COUNTIF(E34:T34,"Nicht erfüllt")>0,"Nicht erfüllt","Erfüllt")) | E34: =IFERROR('4d) Berechnungen_Auszahlung'!E265,"") -> - | F34: =IFERROR('4d) Berechnungen_Auszahlung'!F265,"") | G34: =IFERROR('4d) Berechnungen_Auszahlung'!G265,"") | H34: =IFERROR('4d) Berechnungen_Auszahlung'!H265,"") | I34: =IFERROR('4d) Berechnungen_Auszahlung'!I265,"") | J34: =IFERROR('4d) Berechnungen_Auszahlung'!J265,"") | K34: =IFERROR('4d) Berechnungen_Auszahlung'!K265,"") | L34: =IFERROR('4d) Berechnungen_Auszahlung'!L265,"") | ... T34: =IFERROR('4d) Berechnungen_Auszahlung'!T265,"")
B35: Realisierte Treibhausgasemissionsminderung von 50 % ab dem 4. vollständigen Kalenderjahr (Mindestanforderung). | C35: - | D35: =IF(AND(COUNTIF(E35:T35,"Nicht erfüllt")=0,COUNTIF(E35:T35,"Erfüllt")=0),"",IF(COUNTIF(E35:T35,"Nicht erfüllt")>0,"Nicht erfüllt","Erfüllt")) -> Nicht erfüllt | E35: =IFERROR('4d) Berechnungen_Auszahlung'!E269,"") -> - | F35: =IFERROR('4d) Berechnungen_Auszahlung'!F269,"") -> - | G35: =IFERROR('4d) Berechnungen_Auszahlung'!G269,"") -> - | H35: =IFERROR('4d) Berechnungen_Auszahlung'!H269,"") -> Nicht erfüllt | I35: =IFERROR('4d) Berechnungen_Auszahlung'!I269,"") -> Nicht erfüllt | J35: =IFERROR('4d) Berechnungen_Auszahlung'!J269,"") -> Nicht erfüllt | K35: =IFERROR('4d) Berechnungen_Auszahlung'!K269,"") -> Nicht erfüllt | L35: =IFERROR('4d) Berechnungen_Auszahlung'!L269,"") -> Nicht erfüllt | ... T35: =IFERROR('4d) Berechnungen_Auszahlung'!T269,"")
B36: Realisierte Treibhausgasemissionsminderung von 85 % in den letzten 12 Monaten der Vertragslaufzeit (Mindestanforderung). | C36: - | D36: =IF(AND(COUNTIF(E36,"Nicht erfüllt")=0,COUNTIF(E36,"Erfüllt")=0),"",IF(COUNTIF(E36,"Nicht erfüllt")>0,"Nicht erfüllt","Erfüllt")) -> Nicht erfüllt | E36: =IFERROR(IF('4c) Berechnungen_MFS'!$E$99="Nein",'4d) Berechnungen_Auszahlung'!$S$274,'4d) Berechnungen_Auszahlung'!$T$274),"") -> Nicht erfüllt
B37: Der operative Beginn des geförderten Vorhabens erfolgt spätestens 48 Monate nach Bekanntgabe des Förderbescheids. Dies kann bei Zustimmung der Bewilligungsbehörde auf 60 Monate verlängert werden. | C37: - | D37: =IF(AND(COUNTIF(E37:T37,"Nicht erfüllt")=0,COUNTIF(E37:T37,"Erfüllt")=0),"",IF(COUNTIF(E37:T37,"Nicht erfüllt")>0,"Nicht erfüllt","Erfüllt")) -> Erfüllt | E37: =IFERROR('4d) Berechnungen_Auszahlung'!E277,"") -> Erfüllt
B38: Die realisierten relativen Einsätze weichen nicht um mehr als fünf Prozentpunkte von den geplanten relativen Einsätzen eines oder mehrerer Energieträger ab (indikativ). | C38: - | D38: =IF(AND(COUNTIF(E38:T38,"Nicht erfüllt")=0,COUNTIF(E38:T38,"Erfüllt")=0),"",IF(COUNTIF(E38:T38,"Nicht erfüllt")>0,"Nicht erfüllt","Erfüllt")) | E38: =IFERROR('4d) Berechnungen_Auszahlung'!E434,"") | F38: =IFERROR('4d) Berechnungen_Auszahlung'!F434,"") | G38: =IFERROR('4d) Berechnungen_Auszahlung'!G434,"") | H38: =IFERROR('4d) Berechnungen_Auszahlung'!H434,"") | I38: =IFERROR('4d) Berechnungen_Auszahlung'!I434,"") | J38: =IFERROR('4d) Berechnungen_Auszahlung'!J434,"") | K38: =IFERROR('4d) Berechnungen_Auszahlung'!K434,"") | L38: =IFERROR('4d) Berechnungen_Auszahlung'!L434,"") | ... T38: =IFERROR('4d) Berechnungen_Auszahlung'!T434,"")
D39: =IF(AND(COUNTIF(E39:T39,"Nicht erfüllt")=0,COUNTIF(E39:T39,"Erfüllt")=0),"",IF(COUNTIF(E39:T39,"Nicht erfüllt")>0,"Nicht erfüllt","Erfüllt"))
B40: Maximale jährliche Fördersumme und zu erwartende Auszahlung
B41: Kategorie | C41: Einheit | D41: Gesamte Laufzeit | E41: =YEAR('2b) Allg. Inputs'!C8) -> 1900 | F41: =E41+1 -> 1901 | G41: =F41+1 -> 1902 | H41: =G41+1 -> 1903 | I41: =H41+1 -> 1904 | J41: =I41+1 -> 1905 | K41: =J41+1 -> 1906 | L41: =K41+1 -> 1907 | M41: =L41+1 -> 1908 | ... S41: =R41+1 -> 1914 | T41: =IF('4c) Berechnungen_MFS'!E99="Nein","",S41+1)
B42: Maximale jährliche Fördersumme | C42: EUR/Jahr | D42: =IF(SUM(E42:T42)=0,"",SUM(E42:T42)) | E42: =IF('4c) Berechnungen_MFS'!E45=TRUE,IFERROR('4c) Berechnungen_MFS'!E$94,""),"") | F42: =IF('4c) Berechnungen_MFS'!F45=TRUE,IFERROR('4c) Berechnungen_MFS'!F$94,""),"") | G42: =IF('4c) Berechnungen_MFS'!G45=TRUE,IFERROR('4c) Berechnungen_MFS'!G$94,""),"") | H42: =IF('4c) Berechnungen_MFS'!H45=TRUE,IFERROR('4c) Berechnungen_MFS'!H$94,""),"") | I42: =IF('4c) Berechnungen_MFS'!I45=TRUE,IFERROR('4c) Berechnungen_MFS'!I$94,""),"") | J42: =IF('4c) Berechnungen_MFS'!J45=TRUE,IFERROR('4c) Berechnungen_MFS'!J$94,""),"") | K42: =IF('4c) Berechnungen_MFS'!K45=TRUE,IFERROR('4c) Berechnungen_MFS'!K$94,""),"") | L42: =IF('4c) Berechnungen_MFS'!L45=TRUE,IFERROR('4c) Berechnungen_MFS'!L$94,""),"") | ... T42: =IF('4c) Berechnungen_MFS'!T45=TRUE,IFERROR('4c) Berechnungen_MFS'!T$94,""),"")
B43: Absolute Treibhausgasemissionsminderung | C43: t CO2-Äq./Jahr | D43: =IF(SUM(E43:T43)=0,"",SUM(E43:T43)) | E43: =IF('4c) Berechnungen_MFS'!E45=TRUE,IFERROR('4d) Berechnungen_Auszahlung'!E144,""),"") | F43: =IF('4c) Berechnungen_MFS'!F45=TRUE,IFERROR('4d) Berechnungen_Auszahlung'!F144,""),"") | G43: =IF('4c) Berechnungen_MFS'!G45=TRUE,IFERROR('4d) Berechnungen_Auszahlung'!G144,""),"") | H43: =IF('4c) Berechnungen_MFS'!H45=TRUE,IFERROR('4d) Berechnungen_Auszahlung'!H144,""),"") | I43: =IF('4c) Berechnungen_MFS'!I45=TRUE,IFERROR('4d) Berechnungen_Auszahlung'!I144,""),"") | J43: =IF('4c) Berechnungen_MFS'!J45=TRUE,IFERROR('4d) Berechnungen_Auszahlung'!J144,""),"") | K43: =IF('4c) Berechnungen_MFS'!K45=TRUE,IFERROR('4d) Berechnungen_Auszahlung'!K144,""),"") | L43: =IF('4c) Berechnungen_MFS'!L45=TRUE,IFERROR('4d) Berechnungen_Auszahlung'!L144,""),"") | ... T43: =IF('4c) Berechnungen_MFS'!T45=TRUE,IFERROR('4d) Berechnungen_Auszahlung'!T144,""),"")
B44: Realisierte Treibhausgasemissionsminderung überschreitet nicht 130 % der geplanten Treibhausgasemissionsminderung. | C44: - | D44: =IF(AND(COUNTIF(E44:T44,"Nein")=0,COUNTIF(E44:T44,"Ja")=0),"",IF(COUNTIF(E44:T44,"Nein")>0,"Nein","Ja")) | E44: =IFERROR(IF('4d) Berechnungen_Auszahlung'!E7=TRUE,IF('4d) Berechnungen_Auszahlung'!E95<0,"-",IF('4d) Berechnungen_Auszahlung'!E144>1.3*'4d) Berechnungen_Auszahlung'!E95,"Nein", "Ja")),""),"") | F44: =IFERROR(IF('4d) Berechnungen_Auszahlung'!F7=TRUE,IF('4d) Berechnungen_Auszahlung'!F95<0,"-",IF('4d) Berechnungen_Auszahlung'!F144>1.3*'4d) Berechnungen_Auszahlung'!F95,"Nein", "Ja")),""),"") | G44: =IFERROR(IF('4d) Berechnungen_Auszahlung'!G7=TRUE,IF('4d) Berechnungen_Auszahlung'!G95<0,"-",IF('4d) Berechnungen_Auszahlung'!G144>1.3*'4d) Berechnungen_Auszahlung'!G95,"Nein", "Ja")),""),"") | H44: =IFERROR(IF('4d) Berechnungen_Auszahlung'!H7=TRUE,IF('4d) Berechnungen_Auszahlung'!H95<0,"-",IF('4d) Berechnungen_Auszahlung'!H144>1.3*'4d) Berechnungen_Auszahlung'!H95,"Nein", "Ja")),""),"") | I44: =IFERROR(IF('4d) Berechnungen_Auszahlung'!I7=TRUE,IF('4d) Berechnungen_Auszahlung'!I95<0,"-",IF('4d) Berechnungen_Auszahlung'!I144>1.3*'4d) Berechnungen_Auszahlung'!I95,"Nein", "Ja")),""),"") | J44: =IFERROR(IF('4d) Berechnungen_Auszahlung'!J7=TRUE,IF('4d) Berechnungen_Auszahlung'!J95<0,"-",IF('4d) Berechnungen_Auszahlung'!J144>1.3*'4d) Berechnungen_Auszahlung'!J95,"Nein", "Ja")),""),"") | K44: =IFERROR(IF('4d) Berechnungen_Auszahlung'!K7=TRUE,IF('4d) Berechnungen_Auszahlung'!K95<0,"-",IF('4d) Berechnungen_Auszahlung'!K144>1.3*'4d) Berechnungen_Auszahlung'!K95,"Nein", "Ja")),""),"") | L44: =IFERROR(IF('4d) Berechnungen_Auszahlung'!L7=TRUE,IF('4d) Berechnungen_Auszahlung'!L95<0,"-",IF('4d) Berechnungen_Auszahlung'!L144>1.3*'4d) Berechnungen_Auszahlung'!L95,"Nein", "Ja")),""),"") | ... T44: =IFERROR(IF('4d) Berechnungen_Auszahlung'!T7=TRUE,IF('4d) Berechnungen_Auszahlung'!T95<0,"-",IF('4d) Berechnungen_Auszahlung'!T144>1.3*'4d) Berechnungen_Auszahlung'!T95,"Nein", "Ja")),""),"")
B45: Auszahlung innerhalb der jährlichen maximalen Fördersumme | C45: - | D45: =IF(AND(COUNTIF(E45:T45,"Nein")=0,COUNTIF(E45:T45,"Ja")=0),"",IF(COUNTIF(E45:T45,"Nein")>0,"Nein","Ja")) | E45: =IF('4d) Berechnungen_Auszahlung'!E7=TRUE,IFERROR('4d) Berechnungen_Auszahlung'!E449,""),"") | F45: =IF('4d) Berechnungen_Auszahlung'!F7=TRUE,IFERROR('4d) Berechnungen_Auszahlung'!F449,""),"") | G45: =IF('4d) Berechnungen_Auszahlung'!G7=TRUE,IFERROR('4d) Berechnungen_Auszahlung'!G449,""),"") | H45: =IF('4d) Berechnungen_Auszahlung'!H7=TRUE,IFERROR('4d) Berechnungen_Auszahlung'!H449,""),"") | I45: =IF('4d) Berechnungen_Auszahlung'!I7=TRUE,IFERROR('4d) Berechnungen_Auszahlung'!I449,""),"") | J45: =IF('4d) Berechnungen_Auszahlung'!J7=TRUE,IFERROR('4d) Berechnungen_Auszahlung'!J449,""),"") | K45: =IF('4d) Berechnungen_Auszahlung'!K7=TRUE,IFERROR('4d) Berechnungen_Auszahlung'!K449,""),"") | L45: =IF('4d) Berechnungen_Auszahlung'!L7=TRUE,IFERROR('4d) Berechnungen_Auszahlung'!L449,""),"") | ... T45: =IF('4d) Berechnungen_Auszahlung'!T7=TRUE,IFERROR('4d) Berechnungen_Auszahlung'!T449,""),"")
B46: Zu erwartende Auszahlung | C46: EUR/Jahr | D46: =IF(SUM(E46:T46)=0,"",SUM(E46:T46)) | E46: =IF('4d) Berechnungen_Auszahlung'!E7=TRUE,IFERROR('4d) Berechnungen_Auszahlung'!E450,""),"") | F46: =IF('4d) Berechnungen_Auszahlung'!F7=TRUE,IFERROR('4d) Berechnungen_Auszahlung'!F450,""),"") | G46: =IF('4d) Berechnungen_Auszahlung'!G7=TRUE,IFERROR('4d) Berechnungen_Auszahlung'!G450,""),"") | H46: =IF('4d) Berechnungen_Auszahlung'!H7=TRUE,IFERROR('4d) Berechnungen_Auszahlung'!H450,""),"") | I46: =IF('4d) Berechnungen_Auszahlung'!I7=TRUE,IFERROR('4d) Berechnungen_Auszahlung'!I450,""),"") | J46: =IF('4d) Berechnungen_Auszahlung'!J7=TRUE,IFERROR('4d) Berechnungen_Auszahlung'!J450,""),"") | K46: =IF('4d) Berechnungen_Auszahlung'!K7=TRUE,IFERROR('4d) Berechnungen_Auszahlung'!K450,""),"") | L46: =IF('4d) Berechnungen_Auszahlung'!L7=TRUE,IFERROR('4d) Berechnungen_Auszahlung'!L450,""),"") | ... T46: =IF('4d) Berechnungen_Auszahlung'!T7=TRUE,IFERROR('4d) Berechnungen_Auszahlung'!T450,""),"")
B78: Für Grafik
B80: Kategorie | C80: Einheit
B81: Jahr mit Produktion
B82: Jahr | E82: =YEAR('2b) Allg. Inputs'!C8) -> 1900 | F82: =E82+1 -> 1901 | G82: =F82+1 -> 1902 | H82: =G82+1 -> 1903 | I82: =H82+1 -> 1904 | J82: =I82+1 -> 1905 | K82: =J82+1 -> 1906 | L82: =K82+1 -> 1907 | M82: =L82+1 -> 1908 | ... T82: =S82+1 -> 1915
B83: Basis-Vertragspreis | C83: EUR/Jahr | E83: =$D$24 | F83: =$D$24 | G83: =$D$24 | H83: =$D$24 | I83: =$D$24 | J83: =$D$24 | K83: =$D$24 | L83: =$D$24 | ... T83: =$D$24
B84: delta_k | C84: EUR/tCO2 | E84: ='4d) Berechnungen_Auszahlung'!E442 -> - | F84: ='4d) Berechnungen_Auszahlung'!F442 -> - | G84: ='4d) Berechnungen_Auszahlung'!G442 -> - | H84: ='4d) Berechnungen_Auszahlung'!H442 -> - | I84: ='4d) Berechnungen_Auszahlung'!I442 -> - | J84: ='4d) Berechnungen_Auszahlung'!J442 -> - | K84: ='4d) Berechnungen_Auszahlung'!K442 -> - | L84: ='4d) Berechnungen_Auszahlung'!L442 -> - | ... T84: ='4d) Berechnungen_Auszahlung'!T442 -> -
B85: Dynamisierter Vertragspreis | C85: EUR/tCO2 | E85: =E83+E84 -> #VALUE! | F85: =F83+F84 -> #VALUE! | G85: =G83+G84 -> #VALUE! | H85: =H83+H84 -> #VALUE! | I85: =I83+I84 -> #VALUE! | J85: =J83+J84 -> #VALUE! | K85: =K83+K84 -> #VALUE! | L85: =L83+L84 -> #VALUE! | ... T85: =T83+T84 -> #VALUE!
B86: Dynamisierter Vertragspreis abzügl. anderweitiger Förderung | C86: EUR/tCO2 | E86: =E85-'4d) Berechnungen_Auszahlung'!E446/'4d) Berechnungen_Auszahlung'!E444 -> #VALUE! | F86: =F85-'4d) Berechnungen_Auszahlung'!F446/'4d) Berechnungen_Auszahlung'!F444 -> #VALUE! | G86: =G85-'4d) Berechnungen_Auszahlung'!G446/'4d) Berechnungen_Auszahlung'!G444 -> #VALUE! | H86: =H85-'4d) Berechnungen_Auszahlung'!H446/'4d) Berechnungen_Auszahlung'!H444 -> #VALUE! | I86: =I85-'4d) Berechnungen_Auszahlung'!I446/'4d) Berechnungen_Auszahlung'!I444 -> #VALUE! | J86: =J85-'4d) Berechnungen_Auszahlung'!J446/'4d) Berechnungen_Auszahlung'!J444 -> #VALUE! | K86: =K85-'4d) Berechnungen_Auszahlung'!K446/'4d) Berechnungen_Auszahlung'!K444 -> #VALUE! | L86: =L85-'4d) Berechnungen_Auszahlung'!L446/'4d) Berechnungen_Auszahlung'!L444 -> #VALUE! | ... T86: =T85-'4d) Berechnungen_Auszahlung'!T446/'4d) Berechnungen_Auszahlung'!T444 -> #VALUE!
B87: Effektiver CO2-Preis | C87: EUR/tCO2 | E87: ='4d) Berechnungen_Auszahlung'!E443 -> 0 | F87: ='4d) Berechnungen_Auszahlung'!F443 -> 0 | G87: ='4d) Berechnungen_Auszahlung'!G443 -> 0 | H87: ='4d) Berechnungen_Auszahlung'!H443 -> 0 | I87: ='4d) Berechnungen_Auszahlung'!I443 -> 0 | J87: ='4d) Berechnungen_Auszahlung'!J443 -> 0 | K87: ='4d) Berechnungen_Auszahlung'!K443 -> 0 | L87: ='4d) Berechnungen_Auszahlung'!L443 -> 0 | ... T87: ='4d) Berechnungen_Auszahlung'!T443 -> 0
B88: Überschusszahlung | C88: EUR/tCO2 | E88: =IF(OR(HLOOKUP(E82,'4d) Berechnungen_Auszahlung'!$E$94:$T$95,2)<=0,HLOOKUP(E82,'4d) Berechnungen_Auszahlung'!$E$440:$T$444,5)<=0),0,MAX(E87-E85,0)) -> #DIV/0! | F88: =IF(OR(HLOOKUP(F82,'4d) Berechnungen_Auszahlung'!$E$94:$T$95,2)<=0,HLOOKUP(F82,'4d) Berechnungen_Auszahlung'!$E$440:$T$444,5)<=0),0,MAX(F87-F85,0)) -> #DIV/0! | G88: =IF(OR(HLOOKUP(G82,'4d) Berechnungen_Auszahlung'!$E$94:$T$95,2)<=0,HLOOKUP(G82,'4d) Berechnungen_Auszahlung'!$E$440:$T$444,5)<=0),0,MAX(G87-G85,0)) -> #DIV/0! | H88: =IF(OR(HLOOKUP(H82,'4d) Berechnungen_Auszahlung'!$E$94:$T$95,2)<=0,HLOOKUP(H82,'4d) Berechnungen_Auszahlung'!$E$440:$T$444,5)<=0),0,MAX(H87-H85,0)) -> #DIV/0! | I88: =IF(OR(HLOOKUP(I82,'4d) Berechnungen_Auszahlung'!$E$94:$T$95,2)<=0,HLOOKUP(I82,'4d) Berechnungen_Auszahlung'!$E$440:$T$444,5)<=0),0,MAX(I87-I85,0)) -> #DIV/0! | J88: =IF(OR(HLOOKUP(J82,'4d) Berechnungen_Auszahlung'!$E$94:$T$95,2)<=0,HLOOKUP(J82,'4d) Berechnungen_Auszahlung'!$E$440:$T$444,5)<=0),0,MAX(J87-J85,0)) -> #DIV/0! | K88: =IF(OR(HLOOKUP(K82,'4d) Berechnungen_Auszahlung'!$E$94:$T$95,2)<=0,HLOOKUP(K82,'4d) Berechnungen_Auszahlung'!$E$440:$T$444,5)<=0),0,MAX(K87-K85,0)) -> #DIV/0! | L88: =IF(OR(HLOOKUP(L82,'4d) Berechnungen_Auszahlung'!$E$94:$T$95,2)<=0,HLOOKUP(L82,'4d) Berechnungen_Auszahlung'!$E$440:$T$444,5)<=0),0,MAX(L87-L85,0)) -> #DIV/0! | ... T88: =IF(OR(HLOOKUP(T82,'4d) Berechnungen_Auszahlung'!$E$94:$T$95,2)<=0,HLOOKUP(T82,'4d) Berechnungen_Auszahlung'!$E$440:$T$444,5)<=0),0,MAX(T87-T85,0)) -> 0
B89: Auszahlung | C89: EUR/tCO2 | E89: =IF(OR(HLOOKUP(E82,'4d) Berechnungen_Auszahlung'!$E$94:$T$95,2)<=0,HLOOKUP(E82,'4d) Berechnungen_Auszahlung'!$E$440:$T$444,5)<=0),0,MAX(E85-E87,0)) -> #DIV/0! | F89: =IF(OR(HLOOKUP(F82,'4d) Berechnungen_Auszahlung'!$E$94:$T$95,2)<=0,HLOOKUP(F82,'4d) Berechnungen_Auszahlung'!$E$440:$T$444,5)<=0),0,MAX(F85-F87,0)) -> #DIV/0! | G89: =IF(OR(HLOOKUP(G82,'4d) Berechnungen_Auszahlung'!$E$94:$T$95,2)<=0,HLOOKUP(G82,'4d) Berechnungen_Auszahlung'!$E$440:$T$444,5)<=0),0,MAX(G85-G87,0)) -> #DIV/0! | H89: =IF(OR(HLOOKUP(H82,'4d) Berechnungen_Auszahlung'!$E$94:$T$95,2)<=0,HLOOKUP(H82,'4d) Berechnungen_Auszahlung'!$E$440:$T$444,5)<=0),0,MAX(H85-H87,0)) -> #DIV/0! | I89: =IF(OR(HLOOKUP(I82,'4d) Berechnungen_Auszahlung'!$E$94:$T$95,2)<=0,HLOOKUP(I82,'4d) Berechnungen_Auszahlung'!$E$440:$T$444,5)<=0),0,MAX(I85-I87,0)) -> #DIV/0! | J89: =IF(OR(HLOOKUP(J82,'4d) Berechnungen_Auszahlung'!$E$94:$T$95,2)<=0,HLOOKUP(J82,'4d) Berechnungen_Auszahlung'!$E$440:$T$444,5)<=0),0,MAX(J85-J87,0)) -> #DIV/0! | K89: =IF(OR(HLOOKUP(K82,'4d) Berechnungen_Auszahlung'!$E$94:$T$95,2)<=0,HLOOKUP(K82,'4d) Berechnungen_Auszahlung'!$E$440:$T$444,5)<=0),0,MAX(K85-K87,0)) -> #DIV/0! | L89: =IF(OR(HLOOKUP(L82,'4d) Berechnungen_Auszahlung'!$E$94:$T$95,2)<=0,HLOOKUP(L82,'4d) Berechnungen_Auszahlung'!$E$440:$T$444,5)<=0),0,MAX(L85-L87,0)) -> #DIV/0! | ... T89: =IF(OR(HLOOKUP(T82,'4d) Berechnungen_Auszahlung'!$E$94:$T$95,2)<=0,HLOOKUP(T82,'4d) Berechnungen_Auszahlung'!$E$440:$T$444,5)<=0),0,MAX(T85-T87,0)) -> 0
B90: Maximale jährliche Fördersumme | C90: EUR/tCO2 | E90: ='4c) Berechnungen_MFS'!E94/'4d) Berechnungen_Auszahlung'!E444 -> #N/A | F90: ='4c) Berechnungen_MFS'!F94/'4d) Berechnungen_Auszahlung'!F444 -> #N/A | G90: ='4c) Berechnungen_MFS'!G94/'4d) Berechnungen_Auszahlung'!G444 -> #N/A | H90: ='4c) Berechnungen_MFS'!H94/'4d) Berechnungen_Auszahlung'!H444 -> #N/A | I90: ='4c) Berechnungen_MFS'!I94/'4d) Berechnungen_Auszahlung'!I444 -> #N/A | J90: ='4c) Berechnungen_MFS'!J94/'4d) Berechnungen_Auszahlung'!J444 -> #N/A | K90: ='4c) Berechnungen_MFS'!K94/'4d) Berechnungen_Auszahlung'!K444 -> #N/A | L90: ='4c) Berechnungen_MFS'!L94/'4d) Berechnungen_Auszahlung'!L444 -> #N/A | ... T90: ='4c) Berechnungen_MFS'!T94/'4d) Berechnungen_Auszahlung'!T444 -> #DIV/0!
E94: =HLOOKUP('1) Gesamtübersicht'!E96,'4c) Berechnungen_MFS'!$E$44:$T$45,2) -> TRUE | F94: =HLOOKUP('1) Gesamtübersicht'!F96,'4c) Berechnungen_MFS'!$E$44:$T$45,2) -> TRUE | G94: =HLOOKUP('1) Gesamtübersicht'!G96,'4c) Berechnungen_MFS'!$E$44:$T$45,2) -> TRUE | H94: =HLOOKUP('1) Gesamtübersicht'!H96,'4c) Berechnungen_MFS'!$E$44:$T$45,2) -> TRUE | I94: =HLOOKUP('1) Gesamtübersicht'!I96,'4c) Berechnungen_MFS'!$E$44:$T$45,2) -> TRUE | J94: =HLOOKUP('1) Gesamtübersicht'!J96,'4c) Berechnungen_MFS'!$E$44:$T$45,2) -> TRUE | K94: =HLOOKUP('1) Gesamtübersicht'!K96,'4c) Berechnungen_MFS'!$E$44:$T$45,2) -> TRUE | L94: =HLOOKUP('1) Gesamtübersicht'!L96,'4c) Berechnungen_MFS'!$E$44:$T$45,2) -> TRUE | ... T94: =HLOOKUP('1) Gesamtübersicht'!T96,'4c) Berechnungen_MFS'!$E$44:$T$45,2) -> FALSE
E95: =IF(OR('2b) Allg. Inputs'!$C$8="",'2d) Planwerte (Anlage)'!$E$17="",'2d) Planwerte (Anlage)'!$E$119="",'2d) Planwerte (Anlage)'!$C$11="- nicht ausgewählt -",AND('2e) Realisierte Werte (Anlage)'!$C$6="Ja",'2e) Realisierte Werte (Anlage)'!$E$17="")),TRUE,IFERROR(IF(OR(HLOOKUP(E82,'4d) Berechnungen_Auszahlung'!$B$94:$U$95,2)<=0,HLOOKUP(E82,'4d) Berechnungen_Auszahlung'!$B$440:$U$444,5)<=0),FALSE,TRUE),FALSE)) -> TRUE | F95: =IF(OR('2b) Allg. Inputs'!$C$8="",'2d) Planwerte (Anlage)'!$E$17="",'2d) Planwerte (Anlage)'!$E$119="",'2d) Planwerte (Anlage)'!$C$11="- nicht ausgewählt -",AND('2e) Realisierte Werte (Anlage)'!$C$6="Ja",'2e) Realisierte Werte (Anlage)'!$E$17="")),TRUE,IFERROR(IF(OR(HLOOKUP(F82,'4d) Berechnungen_Auszahlung'!$B$94:$U$95,2)<=0,HLOOKUP(F82,'4d) Berechnungen_Auszahlung'!$B$440:$U$444,5)<=0),FALSE,TRUE),FALSE)) -> TRUE | G95: =IF(OR('2b) Allg. Inputs'!$C$8="",'2d) Planwerte (Anlage)'!$E$17="",'2d) Planwerte (Anlage)'!$E$119="",'2d) Planwerte (Anlage)'!$C$11="- nicht ausgewählt -",AND('2e) Realisierte Werte (Anlage)'!$C$6="Ja",'2e) Realisierte Werte (Anlage)'!$E$17="")),TRUE,IFERROR(IF(OR(HLOOKUP(G82,'4d) Berechnungen_Auszahlung'!$B$94:$U$95,2)<=0,HLOOKUP(G82,'4d) Berechnungen_Auszahlung'!$B$440:$U$444,5)<=0),FALSE,TRUE),FALSE)) -> TRUE | H95: =IF(OR('2b) Allg. Inputs'!$C$8="",'2d) Planwerte (Anlage)'!$E$17="",'2d) Planwerte (Anlage)'!$E$119="",'2d) Planwerte (Anlage)'!$C$11="- nicht ausgewählt -",AND('2e) Realisierte Werte (Anlage)'!$C$6="Ja",'2e) Realisierte Werte (Anlage)'!$E$17="")),TRUE,IFERROR(IF(OR(HLOOKUP(H82,'4d) Berechnungen_Auszahlung'!$B$94:$U$95,2)<=0,HLOOKUP(H82,'4d) Berechnungen_Auszahlung'!$B$440:$U$444,5)<=0),FALSE,TRUE),FALSE)) -> TRUE | I95: =IF(OR('2b) Allg. Inputs'!$C$8="",'2d) Planwerte (Anlage)'!$E$17="",'2d) Planwerte (Anlage)'!$E$119="",'2d) Planwerte (Anlage)'!$C$11="- nicht ausgewählt -",AND('2e) Realisierte Werte (Anlage)'!$C$6="Ja",'2e) Realisierte Werte (Anlage)'!$E$17="")),TRUE,IFERROR(IF(OR(HLOOKUP(I82,'4d) Berechnungen_Auszahlung'!$B$94:$U$95,2)<=0,HLOOKUP(I82,'4d) Berechnungen_Auszahlung'!$B$440:$U$444,5)<=0),FALSE,TRUE),FALSE)) -> TRUE | J95: =IF(OR('2b) Allg. Inputs'!$C$8="",'2d) Planwerte (Anlage)'!$E$17="",'2d) Planwerte (Anlage)'!$E$119="",'2d) Planwerte (Anlage)'!$C$11="- nicht ausgewählt -",AND('2e) Realisierte Werte (Anlage)'!$C$6="Ja",'2e) Realisierte Werte (Anlage)'!$E$17="")),TRUE,IFERROR(IF(OR(HLOOKUP(J82,'4d) Berechnungen_Auszahlung'!$B$94:$U$95,2)<=0,HLOOKUP(J82,'4d) Berechnungen_Auszahlung'!$B$440:$U$444,5)<=0),FALSE,TRUE),FALSE)) -> TRUE | K95: =IF(OR('2b) Allg. Inputs'!$C$8="",'2d) Planwerte (Anlage)'!$E$17="",'2d) Planwerte (Anlage)'!$E$119="",'2d) Planwerte (Anlage)'!$C$11="- nicht ausgewählt -",AND('2e) Realisierte Werte (Anlage)'!$C$6="Ja",'2e) Realisierte Werte (Anlage)'!$E$17="")),TRUE,IFERROR(IF(OR(HLOOKUP(K82,'4d) Berechnungen_Auszahlung'!$B$94:$U$95,2)<=0,HLOOKUP(K82,'4d) Berechnungen_Auszahlung'!$B$440:$U$444,5)<=0),FALSE,TRUE),FALSE)) -> TRUE | L95: =IF(OR('2b) Allg. Inputs'!$C$8="",'2d) Planwerte (Anlage)'!$E$17="",'2d) Planwerte (Anlage)'!$E$119="",'2d) Planwerte (Anlage)'!$C$11="- nicht ausgewählt -",AND('2e) Realisierte Werte (Anlage)'!$C$6="Ja",'2e) Realisierte Werte (Anlage)'!$E$17="")),TRUE,IFERROR(IF(OR(HLOOKUP(L82,'4d) Berechnungen_Auszahlung'!$B$94:$U$95,2)<=0,HLOOKUP(L82,'4d) Berechnungen_Auszahlung'!$B$440:$U$444,5)<=0),FALSE,TRUE),FALSE)) -> TRUE | ... T95: =IF(OR('2b) Allg. Inputs'!$C$8="",'2d) Planwerte (Anlage)'!$E$17="",'2d) Planwerte (Anlage)'!$E$119="",'2d) Planwerte (Anlage)'!$C$11="- nicht ausgewählt -",AND('2e) Realisierte Werte (Anlage)'!$C$6="Ja",'2e) Realisierte Werte (Anlage)'!$E$17="")),TRUE,IFERROR(IF(OR(HLOOKUP(T82,'4d) Berechnungen_Auszahlung'!$B$94:$U$95,2)<=0,HLOOKUP(T82,'4d) Berechnungen_Auszahlung'!$B$440:$U$444,5)<=0),FALSE,TRUE),FALSE)) -> TRUE
E96: =E82 -> 1900 | F96: =F82 -> 1901 | G96: =G82 -> 1902 | H96: =H82 -> 1903 | I96: =I82 -> 1904 | J96: =J82 -> 1905 | K96: =K82 -> 1906 | L96: =L82 -> 1907 | ... T96: =T82 -> 1915
B97: Min A-B | E97: =MIN(E101,E102) -> #N/A | F97: =MIN(F101,F102) -> #N/A | G97: =MIN(G101,G102) -> #N/A | H97: =MIN(H101,H102) -> #N/A | I97: =MIN(I101,I102) -> #N/A | J97: =MIN(J101,J102) -> #N/A | K97: =MIN(K101,K102) -> #N/A | L97: =MIN(L101,L102) -> #N/A | ... T97: =MIN(T101,T102) -> #N/A
B98: Auszahlung | E98: =IFERROR(INDEX($E$83:$T$89,MATCH($B98,$B$83:$B$89,0),MATCH(E$96,$E$82:$T$82,0)),NA()) -> #N/A | F98: =IFERROR(INDEX($E$83:$T$89,MATCH($B98,$B$83:$B$89,0),MATCH(F$96,$E$82:$T$82,0)),NA()) -> #N/A | G98: =IFERROR(INDEX($E$83:$T$89,MATCH($B98,$B$83:$B$89,0),MATCH(G$96,$E$82:$T$82,0)),NA()) -> #N/A | H98: =IFERROR(INDEX($E$83:$T$89,MATCH($B98,$B$83:$B$89,0),MATCH(H$96,$E$82:$T$82,0)),NA()) -> #N/A | I98: =IFERROR(INDEX($E$83:$T$89,MATCH($B98,$B$83:$B$89,0),MATCH(I$96,$E$82:$T$82,0)),NA()) -> #N/A | J98: =IFERROR(INDEX($E$83:$T$89,MATCH($B98,$B$83:$B$89,0),MATCH(J$96,$E$82:$T$82,0)),NA()) -> #N/A | K98: =IFERROR(INDEX($E$83:$T$89,MATCH($B98,$B$83:$B$89,0),MATCH(K$96,$E$82:$T$82,0)),NA()) -> #N/A | L98: =IFERROR(INDEX($E$83:$T$89,MATCH($B98,$B$83:$B$89,0),MATCH(L$96,$E$82:$T$82,0)),NA()) -> #N/A | ... T98: =IFERROR(INDEX($E$83:$T$89,MATCH($B98,$B$83:$B$89,0),MATCH(T$96,$E$82:$T$82,0)),NA()) -> 0
B99: Überschusszahlung | E99: =IFERROR(INDEX($E$83:$T$89,MATCH($B99,$B$83:$B$89,0),MATCH(E$96,$E$82:$T$82,0)),NA()) -> #N/A | F99: =IFERROR(INDEX($E$83:$T$89,MATCH($B99,$B$83:$B$89,0),MATCH(F$96,$E$82:$T$82,0)),NA()) -> #N/A | G99: =IFERROR(INDEX($E$83:$T$89,MATCH($B99,$B$83:$B$89,0),MATCH(G$96,$E$82:$T$82,0)),NA()) -> #N/A | H99: =IFERROR(INDEX($E$83:$T$89,MATCH($B99,$B$83:$B$89,0),MATCH(H$96,$E$82:$T$82,0)),NA()) -> #N/A | I99: =IFERROR(INDEX($E$83:$T$89,MATCH($B99,$B$83:$B$89,0),MATCH(I$96,$E$82:$T$82,0)),NA()) -> #N/A | J99: =IFERROR(INDEX($E$83:$T$89,MATCH($B99,$B$83:$B$89,0),MATCH(J$96,$E$82:$T$82,0)),NA()) -> #N/A | K99: =IFERROR(INDEX($E$83:$T$89,MATCH($B99,$B$83:$B$89,0),MATCH(K$96,$E$82:$T$82,0)),NA()) -> #N/A | L99: =IFERROR(INDEX($E$83:$T$89,MATCH($B99,$B$83:$B$89,0),MATCH(L$96,$E$82:$T$82,0)),NA()) -> #N/A | ... T99: =IFERROR(INDEX($E$83:$T$89,MATCH($B99,$B$83:$B$89,0),MATCH(T$96,$E$82:$T$82,0)),NA()) -> 0
B100: Basis-Vertragspreis | E100: =INDEX($E$83:$T$89,MATCH($B100,$B$83:$B$89,0),MATCH(E$96,$E$82:$T$82,0)) | F100: =INDEX($E$83:$T$89,MATCH($B100,$B$83:$B$89,0),MATCH(F$96,$E$82:$T$82,0)) | G100: =INDEX($E$83:$T$89,MATCH($B100,$B$83:$B$89,0),MATCH(G$96,$E$82:$T$82,0)) | H100: =INDEX($E$83:$T$89,MATCH($B100,$B$83:$B$89,0),MATCH(H$96,$E$82:$T$82,0)) | I100: =INDEX($E$83:$T$89,MATCH($B100,$B$83:$B$89,0),MATCH(I$96,$E$82:$T$82,0)) | J100: =INDEX($E$83:$T$89,MATCH($B100,$B$83:$B$89,0),MATCH(J$96,$E$82:$T$82,0)) | K100: =INDEX($E$83:$T$89,MATCH($B100,$B$83:$B$89,0),MATCH(K$96,$E$82:$T$82,0)) | L100: =INDEX($E$83:$T$89,MATCH($B100,$B$83:$B$89,0),MATCH(L$96,$E$82:$T$82,0)) | ... T100: =INDEX($E$83:$T$89,MATCH($B100,$B$83:$B$89,0),MATCH(T$96,$E$82:$T$82,0))
B101: Dynamisierter Vertragspreis | E101: =IFERROR(INDEX($E$83:$T$89,MATCH($B101,$B$83:$B$89,0),MATCH(E$96,$E$82:$T$82,0)),NA()) -> #N/A | F101: =IFERROR(INDEX($E$83:$T$89,MATCH($B101,$B$83:$B$89,0),MATCH(F$96,$E$82:$T$82,0)),NA()) -> #N/A | G101: =IFERROR(INDEX($E$83:$T$89,MATCH($B101,$B$83:$B$89,0),MATCH(G$96,$E$82:$T$82,0)),NA()) -> #N/A | H101: =IFERROR(INDEX($E$83:$T$89,MATCH($B101,$B$83:$B$89,0),MATCH(H$96,$E$82:$T$82,0)),NA()) -> #N/A | I101: =IFERROR(INDEX($E$83:$T$89,MATCH($B101,$B$83:$B$89,0),MATCH(I$96,$E$82:$T$82,0)),NA()) -> #N/A | J101: =IFERROR(INDEX($E$83:$T$89,MATCH($B101,$B$83:$B$89,0),MATCH(J$96,$E$82:$T$82,0)),NA()) -> #N/A | K101: =IFERROR(INDEX($E$83:$T$89,MATCH($B101,$B$83:$B$89,0),MATCH(K$96,$E$82:$T$82,0)),NA()) -> #N/A | L101: =IFERROR(INDEX($E$83:$T$89,MATCH($B101,$B$83:$B$89,0),MATCH(L$96,$E$82:$T$82,0)),NA()) -> #N/A | ... T101: =IFERROR(INDEX($E$83:$T$89,MATCH($B101,$B$83:$B$89,0),MATCH(T$96,$E$82:$T$82,0)),NA()) -> #N/A
B102: Effektiver CO2-Preis | E102: =INDEX($E$83:$T$89,MATCH($B102,$B$83:$B$89,0),MATCH(E$96,$E$82:$T$82,0)) -> 0 | F102: =INDEX($E$83:$T$89,MATCH($B102,$B$83:$B$89,0),MATCH(F$96,$E$82:$T$82,0)) -> 0 | G102: =INDEX($E$83:$T$89,MATCH($B102,$B$83:$B$89,0),MATCH(G$96,$E$82:$T$82,0)) -> 0 | H102: =INDEX($E$83:$T$89,MATCH($B102,$B$83:$B$89,0),MATCH(H$96,$E$82:$T$82,0)) -> 0 | I102: =INDEX($E$83:$T$89,MATCH($B102,$B$83:$B$89,0),MATCH(I$96,$E$82:$T$82,0)) -> 0 | J102: =INDEX($E$83:$T$89,MATCH($B102,$B$83:$B$89,0),MATCH(J$96,$E$82:$T$82,0)) -> 0 | K102: =INDEX($E$83:$T$89,MATCH($B102,$B$83:$B$89,0),MATCH(K$96,$E$82:$T$82,0)) -> 0 | L102: =INDEX($E$83:$T$89,MATCH($B102,$B$83:$B$89,0),MATCH(L$96,$E$82:$T$82,0)) -> 0 | ... T102: =INDEX($E$83:$T$89,MATCH($B102,$B$83:$B$89,0),MATCH(T$96,$E$82:$T$82,0)) -> 0
B103: Dynamisierter Vertragspreis abzügl. anderweitiger Förderung | E103: =IFERROR(INDEX($E$83:$T$89,MATCH($B103,$B$83:$B$89,0),MATCH(E$96,$E$82:$T$82,0)),NA()) -> #N/A | F103: =IFERROR(INDEX($E$83:$T$89,MATCH($B103,$B$83:$B$89,0),MATCH(F$96,$E$82:$T$82,0)),NA()) -> #N/A | G103: =IFERROR(INDEX($E$83:$T$89,MATCH($B103,$B$83:$B$89,0),MATCH(G$96,$E$82:$T$82,0)),NA()) -> #N/A | H103: =IFERROR(INDEX($E$83:$T$89,MATCH($B103,$B$83:$B$89,0),MATCH(H$96,$E$82:$T$82,0)),NA()) -> #N/A | I103: =IFERROR(INDEX($E$83:$T$89,MATCH($B103,$B$83:$B$89,0),MATCH(I$96,$E$82:$T$82,0)),NA()) -> #N/A | J103: =IFERROR(INDEX($E$83:$T$89,MATCH($B103,$B$83:$B$89,0),MATCH(J$96,$E$82:$T$82,0)),NA()) -> #N/A | K103: =IFERROR(INDEX($E$83:$T$89,MATCH($B103,$B$83:$B$89,0),MATCH(K$96,$E$82:$T$82,0)),NA()) -> #N/A | L103: =IFERROR(INDEX($E$83:$T$89,MATCH($B103,$B$83:$B$89,0),MATCH(L$96,$E$82:$T$82,0)),NA()) -> #N/A | ... T103: =IFERROR(INDEX($E$83:$T$89,MATCH($B103,$B$83:$B$89,0),MATCH(T$96,$E$82:$T$82,0)),NA()) -> #N/A
B104: Maximale jährliche Fördersumme | E104: =IFERROR(INDEX($E$83:$T$90,MATCH($B104,$B$83:$B$90,0),MATCH(E$96,$E$82:$T$82,0)),NA()) -> #N/A | F104: =IFERROR(INDEX($E$83:$T$90,MATCH($B104,$B$83:$B$90,0),MATCH(F$96,$E$82:$T$82,0)),NA()) -> #N/A | G104: =IFERROR(INDEX($E$83:$T$90,MATCH($B104,$B$83:$B$90,0),MATCH(G$96,$E$82:$T$82,0)),NA()) -> #N/A | H104: =IFERROR(INDEX($E$83:$T$90,MATCH($B104,$B$83:$B$90,0),MATCH(H$96,$E$82:$T$82,0)),NA()) -> #N/A | I104: =IFERROR(INDEX($E$83:$T$90,MATCH($B104,$B$83:$B$90,0),MATCH(I$96,$E$82:$T$82,0)),NA()) -> #N/A | J104: =IFERROR(INDEX($E$83:$T$90,MATCH($B104,$B$83:$B$90,0),MATCH(J$96,$E$82:$T$82,0)),NA()) -> #N/A | K104: =IFERROR(INDEX($E$83:$T$90,MATCH($B104,$B$83:$B$90,0),MATCH(K$96,$E$82:$T$82,0)),NA()) -> #N/A | L104: =IFERROR(INDEX($E$83:$T$90,MATCH($B104,$B$83:$B$90,0),MATCH(L$96,$E$82:$T$82,0)),NA()) -> #N/A | ... T104: =IFERROR(INDEX($E$83:$T$90,MATCH($B104,$B$83:$B$90,0),MATCH(T$96,$E$82:$T$82,0)),NA()) -> #N/A
C109: '1) Gesamtübersicht'!E99 | E109: Helper Start DV | F109: Helper Länge
E110: =_xlfn.IFNA( "'" & "1) Gesamtübersicht'!" & ADDRESS(101, MATCH(TRUE, '1) Gesamtübersicht'!E95:S95, 0)+4, 4), "'1) Gesamtübersicht'!E90" ) -> '1) Gesamtübersicht'!E101 | F110: =IF('1) Gesamtübersicht'!$T$94,IF('1) Gesamtübersicht'!$E$95,16,IF('1) Gesamtübersicht'!$F$95,15,IF('1) Gesamtübersicht'!$G$95,14,IF('1) Gesamtübersicht'!$H$95,13,IF('1) Gesamtübersicht'!$I$95,12,IF('1) Gesamtübersicht'!$J$95,11,IF('1) Gesamtübersicht'!$K$95,10,IF('1) Gesamtübersicht'!$L$95,9,IF('1) Gesamtübersicht'!$M$95,8,IF('1) Gesamtübersicht'!$N$95,7,IF('1) Gesamtübersicht'!$O$95,6,IF('1) Gesamtübersicht'!$P$95,5,IF('1) Gesamtübersicht'!$Q$95,4,IF('1) Gesamtübersicht'!$R$95,3,IF('1) Gesamtübersicht'!$S$95,2,1))))))))))))))),IF('1) Gesamtübersicht'!$E$95,15,IF('1) Gesamtübersicht'!$F$95,14,IF('1) Gesamtübersicht'!$G$95,13,IF('1) Gesamtübersicht'!$H$95,12,IF('1) Gesamtübersicht'!$I$95,11,IF('1) Gesamtübersicht'!$J$95,10,IF('1) Gesamtübersicht'!$K$95,9,IF('1) Gesamtübersicht'!$L$95,8,IF('1) Gesamtübersicht'!$M$95,7,IF('1) Gesamtübersicht'!$N$95,6,IF('1) Gesamtübersicht'!$O$95,5,IF('1) Gesamtübersicht'!$P$95,4,IF('1) Gesamtübersicht'!$Q$95,3,IF('1) Gesamtübersicht'!$R$95,2,IF('1) Gesamtübersicht'!$S$95,1,15)))))))))))))))) -> 15 | H110: 0 as a solution?
E112: Helpercolumn start Year
E113: =_xlfn.IFNA( "'" & "1) Gesamtübersicht'!" & ADDRESS(82, MATCH(TRUE, '1) Gesamtübersicht'!E95:S95, 0)+4, 4), "'1) Gesamtübersicht'!E90" ) -> '1) Gesamtübersicht'!E82
E115: Helpercolumn start Auszahlung
E116: =_xlfn.IFNA( "'" & "1) Gesamtübersicht'!" & ADDRESS(98, MATCH(TRUE, '1) Gesamtübersicht'!E95:S95, 0)+4, 4), "'1) Gesamtübersicht'!E90" ) -> '1) Gesamtübersicht'!E98
E118: Helpercolumn Start Überschusszahlung
E119: =_xlfn.IFNA( "'" & "1) Gesamtübersicht'!" & ADDRESS(99, MATCH(TRUE, '1) Gesamtübersicht'!E95:S95, 0)+4, 4), "'1) Gesamtübersicht'!E90" ) -> '1) Gesamtübersicht'!E99
E121: Helpercolumn Start BV
E122: =_xlfn.IFNA( "'" & "1) Gesamtübersicht'!" & ADDRESS(100, MATCH(TRUE, '1) Gesamtübersicht'!E95:S95, 0)+4, 4), "'1) Gesamtübersicht'!E90" ) -> '1) Gesamtübersicht'!E100
E124: Helpercolumn Start CO2-Preis
E125: =_xlfn.IFNA( "'" & "1) Gesamtübersicht'!" & ADDRESS(102, MATCH(TRUE, '1) Gesamtübersicht'!E95:S95, 0)+4, 4), "'1) Gesamtübersicht'!E90" ) -> '1) Gesamtübersicht'!E102
E127: Helpercolumn Start AB
E128: =_xlfn.IFNA( "'" & "1) Gesamtübersicht'!" & ADDRESS(97, MATCH(TRUE, '1) Gesamtübersicht'!E95:S95, 0)+4, 4), "'1) Gesamtübersicht'!E90" ) -> '1) Gesamtübersicht'!E97

Sheet INPUTS >>

Sheet 2a) Preisannahmen
B1: Preisannahmen
B2: In diesem Tabellenblatt sind Annahmen zu den indexierten Preisen einzugeben. Diese indexierten Preise werden den Berechnungen der zu erwartenden jährlichen Auszahlungsbeträge zugrunde gelegt. Es können Annahmen für drei verschiedene Preisszenarien eingegeben und das jeweilige Szenario in Tabellenblatt 2b) ausgewählt werden.
B3: Szenario 1 | C3: Einheit | D3: 2026 | E3: 2027 | F3: 2028 | G3: 2029 | H3: 2030 | I3: 2031 | J3: 2032 | K3: 2033 | L3: 2034 | M3: 2035 | N3: 2036 | O3: 2037 | P3: 2038 | Q3: 2039 | R3: 2040 | S3: 2041 | T3: 2042 | U3: 2043 | V3: 2044 | W3: 2045 | X3: 2046 | Y3: 2047 | Z3: 2048 | AA3: 2049 | AB3: 2050 | AC3: 2051 | AD3: 2052
B4: Strom | C4: EUR/MWh
B5: Erneuerbarer Wasserstoff | C5: EUR/MWh
B6: CO2-armer Wasserstoff | C6: EUR/MWh
B7: Erdgas | C7: EUR/MWh
B8: Kokskohle | C8: EUR/MWh
B9: Kesselkohle | C9: EUR/MWh
B10: CO2-Preis im EU-ETS | C10: EUR/t CO2-Äq.
B12: Szenario 2 | C12: Einheit | D12: 2026 | E12: 2027 | F12: 2028 | G12: 2029 | H12: 2030 | I12: 2031 | J12: 2032 | K12: 2033 | L12: 2034 | M12: 2035 | N12: 2036 | O12: 2037 | P12: 2038 | Q12: 2039 | R12: 2040 | S12: 2041 | T12: 2042 | U12: 2043 | V12: 2044 | W12: 2045 | X12: 2046 | Y12: 2047 | Z12: 2048 | AA12: 2049 | AB12: 2050 | AC12: 2051 | AD12: 2052
B13: Strom | C13: EUR/MWh
B14: Erneuerbarer Wasserstoff | C14: EUR/MWh
B15: CO2-armer Wasserstoff | C15: EUR/MWh
B16: Erdgas | C16: EUR/MWh
B17: Kokskohle | C17: EUR/MWh
B18: Kesselkohle | C18: EUR/MWh
B19: CO2-Preis im EU-ETS | C19: EUR/t CO2-Äq.
B21: Szenario 3 | C21: Einheit | D21: 2026 | E21: 2027 | F21: 2028 | G21: 2029 | H21: 2030 | I21: 2031 | J21: 2032 | K21: 2033 | L21: 2034 | M21: 2035 | N21: 2036 | O21: 2037 | P21: 2038 | Q21: 2039 | R21: 2040 | S21: 2041 | T21: 2042 | U21: 2043 | V21: 2044 | W21: 2045 | X21: 2046 | Y21: 2047 | Z21: 2048 | AA21: 2049 | AB21: 2050 | AC21: 2051 | AD21: 2052
B22: Strom | C22: EUR/MWh
B23: Erneuerbarer Wasserstoff | C23: EUR/MWh
B24: CO2-armer Wasserstoff | C24: EUR/MWh
B25: Erdgas | C25: EUR/MWh
B26: Kokskohle | C26: EUR/MWh
B27: Kesselkohle | C27: EUR/MWh
B28: CO2-Preis im EU-ETS | C28: EUR/t CO2-Äq.
B30: Namen der Szenarien:
B31: =B3 -> Szenario 1
B32: =B12 -> Szenario 2
B33: =B21 -> Szenario 3

Sheet 2b) Allg. Inputs
B2: Allgemeine Angaben
B3: In diesem Tabellenblatt sind die allgemeinen Informationen des Vorhabens, einschließlich bewilligter anderweitiger Förderung anzugeben. Zudem wird das anzuwendende Preisszenario ausgewählt (indexierte Preise, die für die Berechnung der Auszahlung zugrunde gelegt werden).
B5: Modellstart | C5: 2026
B6: Erwartete Bekanntgabe des Zuwendungsbescheids (TT/MM/JJJJ)
B7: Bei Zustimmung der Bewilligungsbehörde für eine Fristverlängerung des operativen Beginns, bitte hier die genaue Monatsanzahl eintragen
B8: Geplanter operativer Beginn (TT/MM/JJJJ)
B9: Basis-Vertragspreis (EUR/t CO2-Äq.)
B10: Beanspruchung einer Teilförderung nach Nummer 4.20 FRL CCfD | C10: Nein
B11: Zu fördernder Produktionsmengenanteil des Vorhabens in Prozent nach Nummer 4.20 FRL CCfD (%)
B13: Anderweitige Förderung, die nach der Antragstellung bewilligt oder erhöht wurde
C14: Wann fließen diese anderweitigen Förderungen (EUR)?
B15: Name der Förderung | C15: Kommentar | D15: Einheit | E15: =C5 -> 2026 | F15: =E15+1 -> 2027 | G15: =F15+1 -> 2028 | H15: =G15+1 -> 2029 | I15: =H15+1 -> 2030 | J15: =I15+1 -> 2031 | K15: =J15+1 -> 2032 | L15: =K15+1 -> 2033 | M15: =L15+1 -> 2034 | ... T15: =S15+1 -> 2041 | U15: =IF(T15>=IF('4c) Berechnungen_MFS'!$E$99="Nein",YEAR($C$8)+14,YEAR($C$8)+15),"",T15+1) | V15: =IF(U15>=IF('4c) Berechnungen_MFS'!$E$99="Nein",YEAR($C$8)+14,YEAR($C$8)+15),"",U15+1) | W15: =IF(V15>=IF('4c) Berechnungen_MFS'!$E$99="Nein",YEAR($C$8)+14,YEAR($C$8)+15),"",V15+1) | X15: =IF(W15>=IF('4c) Berechnungen_MFS'!$E$99="Nein",YEAR($C$8)+14,YEAR($C$8)+15),"",W15+1) | Y15: =IF(X15>=IF('4c) Berechnungen_MFS'!$E$99="Nein",YEAR($C$8)+14,YEAR($C$8)+15),"",X15+1) | Z15: =IF(Y15>=IF('4c) Berechnungen_MFS'!$E$99="Nein",YEAR($C$8)+14,YEAR($C$8)+15),"",Y15+1) | AA15: =IF(Z15>=IF('4c) Berechnungen_MFS'!$E$99="Nein",YEAR($C$8)+14,YEAR($C$8)+15),"",Z15+1) | AB15: =IF(AA15>=IF('4c) Berechnungen_MFS'!$E$99="Nein",YEAR($C$8)+14,YEAR($C$8)+15),"",AA15+1) | ... AE15: =IF(AD15>=IF('4c) Berechnungen_MFS'!$E$99="Nein",YEAR($C$8)+14,YEAR($C$8)+15),"",AD15+1)
D16: EUR
D17: EUR
D18: EUR
D19: EUR
D20: EUR
D21: EUR
B23: Angaben zum Wasserstoffbezug
B24: Wird der Wasserstoff durch eine Elektrolyseanlage eines verbundenen Unternehmen bezogen? | C24: Nein | F24: =IF(C24="Ja","Bitte füllen Sie zusätzlich Tabellenblatt 2c) zu Elektrolyseurförderung aus.","Bitte füllen Sie Tabellenblatt 2c) nicht aus.") -> Bitte füllen Sie Tabellenblatt 2c) nicht aus.
B26: Kostenlose Zuteilungen
C27: Welche Höhe kostenloser Zuteilungen im Vorhaben sowie im Referenzsystem wird angenommen?
C28: Kommentar | D28: Einheit | E28: =YEAR('2b) Allg. Inputs'!$C$8) -> 1900 | F28: =E28+1 -> 1901 | G28: =F28+1 -> 1902 | H28: =G28+1 -> 1903 | I28: =H28+1 -> 1904 | J28: =I28+1 -> 1905 | K28: =J28+1 -> 1906 | L28: =K28+1 -> 1907 | M28: =L28+1 -> 1908 | ... S28: =R28+1 -> 1914 | T28: =IF('4c) Berechnungen_MFS'!E99="Nein","",S28+1)
B29: Kostenlose Zuteilungen Referenzsystem | D29: t CO2-Äq./ME Produkt
B30: Kostenlose Zuteilungen Vorhaben | D30: t CO2-Äq./ME Produkt
B32: Preisannahmen
B33: Welche indexierten Preise werden angenommen? | C33: Szenario 1
C34: Kommentar | D34: Einheit | E34: =YEAR('2b) Allg. Inputs'!$C$8) -> 1900 | F34: =E34+1 -> 1901 | G34: =F34+1 -> 1902 | H34: =G34+1 -> 1903 | I34: =H34+1 -> 1904 | J34: =I34+1 -> 1905 | K34: =J34+1 -> 1906 | L34: =K34+1 -> 1907 | M34: =L34+1 -> 1908 | ... S34: =R34+1 -> 1914 | T34: =IF('4c) Berechnungen_MFS'!E99="Nein","",S34+1)
B35: Strom | D35: EUR/MWh | E35: =_xlfn.IFNA(IF($C$33="Szenario 1",INDEX('2a) Preisannahmen'!$D$4:$AD$10,MATCH('2b) Allg. Inputs'!$B35,'2a) Preisannahmen'!$B$4:$B$10,FALSE),MATCH('2b) Allg. Inputs'!E$34,'2a) Preisannahmen'!$D$3:$AD$3,FALSE)),IF($C$33="Szenario 2",INDEX('2a) Preisannahmen'!$D$13:$AD$19,MATCH('2b) Allg. Inputs'!$B35,'2a) Preisannahmen'!$B$13:$B$19,FALSE),MATCH('2b) Allg. Inputs'!E$34,'2a) Preisannahmen'!$D$12:$AD$12,FALSE)),IF($C$33="Szenario 3",INDEX('2a) Preisannahmen'!$D$22:$AD$28,MATCH('2b) Allg. Inputs'!$B35,'2a) Preisannahmen'!$B$22:$B$28,FALSE),MATCH('2b) Allg. Inputs'!E$34,'2a) Preisannahmen'!$D$21:$AD$21,FALSE)),""))),"") | F35: =_xlfn.IFNA(IF($C$33="Szenario 1",INDEX('2a) Preisannahmen'!$D$4:$AD$10,MATCH('2b) Allg. Inputs'!$B35,'2a) Preisannahmen'!$B$4:$B$10,FALSE),MATCH('2b) Allg. Inputs'!F$34,'2a) Preisannahmen'!$D$3:$AD$3,FALSE)),IF($C$33="Szenario 2",INDEX('2a) Preisannahmen'!$D$13:$AD$19,MATCH('2b) Allg. Inputs'!$B35,'2a) Preisannahmen'!$B$13:$B$19,FALSE),MATCH('2b) Allg. Inputs'!F$34,'2a) Preisannahmen'!$D$12:$AD$12,FALSE)),IF($C$33="Szenario 3",INDEX('2a) Preisannahmen'!$D$22:$AD$28,MATCH('2b) Allg. Inputs'!$B35,'2a) Preisannahmen'!$B$22:$B$28,FALSE),MATCH('2b) Allg. Inputs'!F$34,'2a) Preisannahmen'!$D$21:$AD$21,FALSE)),""))),"") | G35: =_xlfn.IFNA(IF($C$33="Szenario 1",INDEX('2a) Preisannahmen'!$D$4:$AD$10,MATCH('2b) Allg. Inputs'!$B35,'2a) Preisannahmen'!$B$4:$B$10,FALSE),MATCH('2b) Allg. Inputs'!G$34,'2a) Preisannahmen'!$D$3:$AD$3,FALSE)),IF($C$33="Szenario 2",INDEX('2a) Preisannahmen'!$D$13:$AD$19,MATCH('2b) Allg. Inputs'!$B35,'2a) Preisannahmen'!$B$13:$B$19,FALSE),MATCH('2b) Allg. Inputs'!G$34,'2a) Preisannahmen'!$D$12:$AD$12,FALSE)),IF($C$33="Szenario 3",INDEX('2a) Preisannahmen'!$D$22:$AD$28,MATCH('2b) Allg. Inputs'!$B35,'2a) Preisannahmen'!$B$22:$B$28,FALSE),MATCH('2b) Allg. Inputs'!G$34,'2a) Preisannahmen'!$D$21:$AD$21,FALSE)),""))),"") | H35: =_xlfn.IFNA(IF($C$33="Szenario 1",INDEX('2a) Preisannahmen'!$D$4:$AD$10,MATCH('2b) Allg. Inputs'!$B35,'2a) Preisannahmen'!$B$4:$B$10,FALSE),MATCH('2b) Allg. Inputs'!H$34,'2a) Preisannahmen'!$D$3:$AD$3,FALSE)),IF($C$33="Szenario 2",INDEX('2a) Preisannahmen'!$D$13:$AD$19,MATCH('2b) Allg. Inputs'!$B35,'2a) Preisannahmen'!$B$13:$B$19,FALSE),MATCH('2b) Allg. Inputs'!H$34,'2a) Preisannahmen'!$D$12:$AD$12,FALSE)),IF($C$33="Szenario 3",INDEX('2a) Preisannahmen'!$D$22:$AD$28,MATCH('2b) Allg. Inputs'!$B35,'2a) Preisannahmen'!$B$22:$B$28,FALSE),MATCH('2b) Allg. Inputs'!H$34,'2a) Preisannahmen'!$D$21:$AD$21,FALSE)),""))),"") | I35: =_xlfn.IFNA(IF($C$33="Szenario 1",INDEX('2a) Preisannahmen'!$D$4:$AD$10,MATCH('2b) Allg. Inputs'!$B35,'2a) Preisannahmen'!$B$4:$B$10,FALSE),MATCH('2b) Allg. Inputs'!I$34,'2a) Preisannahmen'!$D$3:$AD$3,FALSE)),IF($C$33="Szenario 2",INDEX('2a) Preisannahmen'!$D$13:$AD$19,MATCH('2b) Allg. Inputs'!$B35,'2a) Preisannahmen'!$B$13:$B$19,FALSE),MATCH('2b) Allg. Inputs'!I$34,'2a) Preisannahmen'!$D$12:$AD$12,FALSE)),IF($C$33="Szenario 3",INDEX('2a) Preisannahmen'!$D$22:$AD$28,MATCH('2b) Allg. Inputs'!$B35,'2a) Preisannahmen'!$B$22:$B$28,FALSE),MATCH('2b) Allg. Inputs'!I$34,'2a) Preisannahmen'!$D$21:$AD$21,FALSE)),""))),"") | J35: =_xlfn.IFNA(IF($C$33="Szenario 1",INDEX('2a) Preisannahmen'!$D$4:$AD$10,MATCH('2b) Allg. Inputs'!$B35,'2a) Preisannahmen'!$B$4:$B$10,FALSE),MATCH('2b) Allg. Inputs'!J$34,'2a) Preisannahmen'!$D$3:$AD$3,FALSE)),IF($C$33="Szenario 2",INDEX('2a) Preisannahmen'!$D$13:$AD$19,MATCH('2b) Allg. Inputs'!$B35,'2a) Preisannahmen'!$B$13:$B$19,FALSE),MATCH('2b) Allg. Inputs'!J$34,'2a) Preisannahmen'!$D$12:$AD$12,FALSE)),IF($C$33="Szenario 3",INDEX('2a) Preisannahmen'!$D$22:$AD$28,MATCH('2b) Allg. Inputs'!$B35,'2a) Preisannahmen'!$B$22:$B$28,FALSE),MATCH('2b) Allg. Inputs'!J$34,'2a) Preisannahmen'!$D$21:$AD$21,FALSE)),""))),"") | K35: =_xlfn.IFNA(IF($C$33="Szenario 1",INDEX('2a) Preisannahmen'!$D$4:$AD$10,MATCH('2b) Allg. Inputs'!$B35,'2a) Preisannahmen'!$B$4:$B$10,FALSE),MATCH('2b) Allg. Inputs'!K$34,'2a) Preisannahmen'!$D$3:$AD$3,FALSE)),IF($C$33="Szenario 2",INDEX('2a) Preisannahmen'!$D$13:$AD$19,MATCH('2b) Allg. Inputs'!$B35,'2a) Preisannahmen'!$B$13:$B$19,FALSE),MATCH('2b) Allg. Inputs'!K$34,'2a) Preisannahmen'!$D$12:$AD$12,FALSE)),IF($C$33="Szenario 3",INDEX('2a) Preisannahmen'!$D$22:$AD$28,MATCH('2b) Allg. Inputs'!$B35,'2a) Preisannahmen'!$B$22:$B$28,FALSE),MATCH('2b) Allg. Inputs'!K$34,'2a) Preisannahmen'!$D$21:$AD$21,FALSE)),""))),"") | L35: =_xlfn.IFNA(IF($C$33="Szenario 1",INDEX('2a) Preisannahmen'!$D$4:$AD$10,MATCH('2b) Allg. Inputs'!$B35,'2a) Preisannahmen'!$B$4:$B$10,FALSE),MATCH('2b) Allg. Inputs'!L$34,'2a) Preisannahmen'!$D$3:$AD$3,FALSE)),IF($C$33="Szenario 2",INDEX('2a) Preisannahmen'!$D$13:$AD$19,MATCH('2b) Allg. Inputs'!$B35,'2a) Preisannahmen'!$B$13:$B$19,FALSE),MATCH('2b) Allg. Inputs'!L$34,'2a) Preisannahmen'!$D$12:$AD$12,FALSE)),IF($C$33="Szenario 3",INDEX('2a) Preisannahmen'!$D$22:$AD$28,MATCH('2b) Allg. Inputs'!$B35,'2a) Preisannahmen'!$B$22:$B$28,FALSE),MATCH('2b) Allg. Inputs'!L$34,'2a) Preisannahmen'!$D$21:$AD$21,FALSE)),""))),"") | ... T35: =_xlfn.IFNA(IF($C$33="Szenario 1",INDEX('2a) Preisannahmen'!$D$4:$AD$10,MATCH('2b) Allg. Inputs'!$B35,'2a) Preisannahmen'!$B$4:$B$10,FALSE),MATCH('2b) Allg. Inputs'!T$34,'2a) Preisannahmen'!$D$3:$AD$3,FALSE)),IF($C$33="Szenario 2",INDEX('2a) Preisannahmen'!$D$13:$AD$19,MATCH('2b) Allg. Inputs'!$B35,'2a) Preisannahmen'!$B$13:$B$19,FALSE),MATCH('2b) Allg. Inputs'!T$34,'2a) Preisannahmen'!$D$12:$AD$12,FALSE)),IF($C$33="Szenario 3",INDEX('2a) Preisannahmen'!$D$22:$AD$28,MATCH('2b) Allg. Inputs'!$B35,'2a) Preisannahmen'!$B$22:$B$28,FALSE),MATCH('2b) Allg. Inputs'!T$34,'2a) Preisannahmen'!$D$21:$AD$21,FALSE)),""))),"")
B36: Erneuerbarer Wasserstoff | C36: mit Berücksichtigung eines 5 % Bonus (nach Nummer 7.2(e) FRL CCfD). | D36: EUR/MWh | E36: =_xlfn.IFNA(IF($C$33="Szenario 1",INDEX('2a) Preisannahmen'!$D$4:$AD$10,MATCH('2b) Allg. Inputs'!$B36,'2a) Preisannahmen'!$B$4:$B$10,FALSE),MATCH('2b) Allg. Inputs'!E$34,'2a) Preisannahmen'!$D$3:$AD$3,FALSE)),IF($C$33="Szenario 2",INDEX('2a) Preisannahmen'!$D$13:$AD$19,MATCH('2b) Allg. Inputs'!$B36,'2a) Preisannahmen'!$B$13:$B$19,FALSE),MATCH('2b) Allg. Inputs'!E$34,'2a) Preisannahmen'!$D$12:$AD$12,FALSE)),IF($C$33="Szenario 3",INDEX('2a) Preisannahmen'!$D$22:$AD$28,MATCH('2b) Allg. Inputs'!$B36,'2a) Preisannahmen'!$B$22:$B$28,FALSE),MATCH('2b) Allg. Inputs'!E$34,'2a) Preisannahmen'!$D$21:$AD$21,FALSE)),"")))*1.05,"") | F36: =_xlfn.IFNA(IF($C$33="Szenario 1",INDEX('2a) Preisannahmen'!$D$4:$AD$10,MATCH('2b) Allg. Inputs'!$B36,'2a) Preisannahmen'!$B$4:$B$10,FALSE),MATCH('2b) Allg. Inputs'!F$34,'2a) Preisannahmen'!$D$3:$AD$3,FALSE)),IF($C$33="Szenario 2",INDEX('2a) Preisannahmen'!$D$13:$AD$19,MATCH('2b) Allg. Inputs'!$B36,'2a) Preisannahmen'!$B$13:$B$19,FALSE),MATCH('2b) Allg. Inputs'!F$34,'2a) Preisannahmen'!$D$12:$AD$12,FALSE)),IF($C$33="Szenario 3",INDEX('2a) Preisannahmen'!$D$22:$AD$28,MATCH('2b) Allg. Inputs'!$B36,'2a) Preisannahmen'!$B$22:$B$28,FALSE),MATCH('2b) Allg. Inputs'!F$34,'2a) Preisannahmen'!$D$21:$AD$21,FALSE)),"")))*1.05,"") | G36: =_xlfn.IFNA(IF($C$33="Szenario 1",INDEX('2a) Preisannahmen'!$D$4:$AD$10,MATCH('2b) Allg. Inputs'!$B36,'2a) Preisannahmen'!$B$4:$B$10,FALSE),MATCH('2b) Allg. Inputs'!G$34,'2a) Preisannahmen'!$D$3:$AD$3,FALSE)),IF($C$33="Szenario 2",INDEX('2a) Preisannahmen'!$D$13:$AD$19,MATCH('2b) Allg. Inputs'!$B36,'2a) Preisannahmen'!$B$13:$B$19,FALSE),MATCH('2b) Allg. Inputs'!G$34,'2a) Preisannahmen'!$D$12:$AD$12,FALSE)),IF($C$33="Szenario 3",INDEX('2a) Preisannahmen'!$D$22:$AD$28,MATCH('2b) Allg. Inputs'!$B36,'2a) Preisannahmen'!$B$22:$B$28,FALSE),MATCH('2b) Allg. Inputs'!G$34,'2a) Preisannahmen'!$D$21:$AD$21,FALSE)),"")))*1.05,"") | H36: =_xlfn.IFNA(IF($C$33="Szenario 1",INDEX('2a) Preisannahmen'!$D$4:$AD$10,MATCH('2b) Allg. Inputs'!$B36,'2a) Preisannahmen'!$B$4:$B$10,FALSE),MATCH('2b) Allg. Inputs'!H$34,'2a) Preisannahmen'!$D$3:$AD$3,FALSE)),IF($C$33="Szenario 2",INDEX('2a) Preisannahmen'!$D$13:$AD$19,MATCH('2b) Allg. Inputs'!$B36,'2a) Preisannahmen'!$B$13:$B$19,FALSE),MATCH('2b) Allg. Inputs'!H$34,'2a) Preisannahmen'!$D$12:$AD$12,FALSE)),IF($C$33="Szenario 3",INDEX('2a) Preisannahmen'!$D$22:$AD$28,MATCH('2b) Allg. Inputs'!$B36,'2a) Preisannahmen'!$B$22:$B$28,FALSE),MATCH('2b) Allg. Inputs'!H$34,'2a) Preisannahmen'!$D$21:$AD$21,FALSE)),"")))*1.05,"") | I36: =_xlfn.IFNA(IF($C$33="Szenario 1",INDEX('2a) Preisannahmen'!$D$4:$AD$10,MATCH('2b) Allg. Inputs'!$B36,'2a) Preisannahmen'!$B$4:$B$10,FALSE),MATCH('2b) Allg. Inputs'!I$34,'2a) Preisannahmen'!$D$3:$AD$3,FALSE)),IF($C$33="Szenario 2",INDEX('2a) Preisannahmen'!$D$13:$AD$19,MATCH('2b) Allg. Inputs'!$B36,'2a) Preisannahmen'!$B$13:$B$19,FALSE),MATCH('2b) Allg. Inputs'!I$34,'2a) Preisannahmen'!$D$12:$AD$12,FALSE)),IF($C$33="Szenario 3",INDEX('2a) Preisannahmen'!$D$22:$AD$28,MATCH('2b) Allg. Inputs'!$B36,'2a) Preisannahmen'!$B$22:$B$28,FALSE),MATCH('2b) Allg. Inputs'!I$34,'2a) Preisannahmen'!$D$21:$AD$21,FALSE)),"")))*1.05,"") | J36: =_xlfn.IFNA(IF($C$33="Szenario 1",INDEX('2a) Preisannahmen'!$D$4:$AD$10,MATCH('2b) Allg. Inputs'!$B36,'2a) Preisannahmen'!$B$4:$B$10,FALSE),MATCH('2b) Allg. Inputs'!J$34,'2a) Preisannahmen'!$D$3:$AD$3,FALSE)),IF($C$33="Szenario 2",INDEX('2a) Preisannahmen'!$D$13:$AD$19,MATCH('2b) Allg. Inputs'!$B36,'2a) Preisannahmen'!$B$13:$B$19,FALSE),MATCH('2b) Allg. Inputs'!J$34,'2a) Preisannahmen'!$D$12:$AD$12,FALSE)),IF($C$33="Szenario 3",INDEX('2a) Preisannahmen'!$D$22:$AD$28,MATCH('2b) Allg. Inputs'!$B36,'2a) Preisannahmen'!$B$22:$B$28,FALSE),MATCH('2b) Allg. Inputs'!J$34,'2a) Preisannahmen'!$D$21:$AD$21,FALSE)),"")))*1.05,"") | K36: =_xlfn.IFNA(IF($C$33="Szenario 1",INDEX('2a) Preisannahmen'!$D$4:$AD$10,MATCH('2b) Allg. Inputs'!$B36,'2a) Preisannahmen'!$B$4:$B$10,FALSE),MATCH('2b) Allg. Inputs'!K$34,'2a) Preisannahmen'!$D$3:$AD$3,FALSE)),IF($C$33="Szenario 2",INDEX('2a) Preisannahmen'!$D$13:$AD$19,MATCH('2b) Allg. Inputs'!$B36,'2a) Preisannahmen'!$B$13:$B$19,FALSE),MATCH('2b) Allg. Inputs'!K$34,'2a) Preisannahmen'!$D$12:$AD$12,FALSE)),IF($C$33="Szenario 3",INDEX('2a) Preisannahmen'!$D$22:$AD$28,MATCH('2b) Allg. Inputs'!$B36,'2a) Preisannahmen'!$B$22:$B$28,FALSE),MATCH('2b) Allg. Inputs'!K$34,'2a) Preisannahmen'!$D$21:$AD$21,FALSE)),"")))*1.05,"") | L36: =_xlfn.IFNA(IF($C$33="Szenario 1",INDEX('2a) Preisannahmen'!$D$4:$AD$10,MATCH('2b) Allg. Inputs'!$B36,'2a) Preisannahmen'!$B$4:$B$10,FALSE),MATCH('2b) Allg. Inputs'!L$34,'2a) Preisannahmen'!$D$3:$AD$3,FALSE)),IF($C$33="Szenario 2",INDEX('2a) Preisannahmen'!$D$13:$AD$19,MATCH('2b) Allg. Inputs'!$B36,'2a) Preisannahmen'!$B$13:$B$19,FALSE),MATCH('2b) Allg. Inputs'!L$34,'2a) Preisannahmen'!$D$12:$AD$12,FALSE)),IF($C$33="Szenario 3",INDEX('2a) Preisannahmen'!$D$22:$AD$28,MATCH('2b) Allg. Inputs'!$B36,'2a) Preisannahmen'!$B$22:$B$28,FALSE),MATCH('2b) Allg. Inputs'!L$34,'2a) Preisannahmen'!$D$21:$AD$21,FALSE)),"")))*1.05,"") | ... T36: =_xlfn.IFNA(IF($C$33="Szenario 1",INDEX('2a) Preisannahmen'!$D$4:$AD$10,MATCH('2b) Allg. Inputs'!$B36,'2a) Preisannahmen'!$B$4:$B$10,FALSE),MATCH('2b) Allg. Inputs'!T$34,'2a) Preisannahmen'!$D$3:$AD$3,FALSE)),IF($C$33="Szenario 2",INDEX('2a) Preisannahmen'!$D$13:$AD$19,MATCH('2b) Allg. Inputs'!$B36,'2a) Preisannahmen'!$B$13:$B$19,FALSE),MATCH('2b) Allg. Inputs'!T$34,'2a) Preisannahmen'!$D$12:$AD$12,FALSE)),IF($C$33="Szenario 3",INDEX('2a) Preisannahmen'!$D$22:$AD$28,MATCH('2b) Allg. Inputs'!$B36,'2a) Preisannahmen'!$B$22:$B$28,FALSE),MATCH('2b) Allg. Inputs'!T$34,'2a) Preisannahmen'!$D$21:$AD$21,FALSE)),"")))*1.05,"")
B37: CO2-armer Wasserstoff | D37: EUR/MWh | E37: =_xlfn.IFNA(IF($C$33="Szenario 1",INDEX('2a) Preisannahmen'!$D$4:$AD$10,MATCH('2b) Allg. Inputs'!$B37,'2a) Preisannahmen'!$B$4:$B$10,FALSE),MATCH('2b) Allg. Inputs'!E$34,'2a) Preisannahmen'!$D$3:$AD$3,FALSE)),IF($C$33="Szenario 2",INDEX('2a) Preisannahmen'!$D$13:$AD$19,MATCH('2b) Allg. Inputs'!$B37,'2a) Preisannahmen'!$B$13:$B$19,FALSE),MATCH('2b) Allg. Inputs'!E$34,'2a) Preisannahmen'!$D$12:$AD$12,FALSE)),IF($C$33="Szenario 3",INDEX('2a) Preisannahmen'!$D$22:$AD$28,MATCH('2b) Allg. Inputs'!$B37,'2a) Preisannahmen'!$B$22:$B$28,FALSE),MATCH('2b) Allg. Inputs'!E$34,'2a) Preisannahmen'!$D$21:$AD$21,FALSE)),""))),"") | F37: =_xlfn.IFNA(IF($C$33="Szenario 1",INDEX('2a) Preisannahmen'!$D$4:$AD$10,MATCH('2b) Allg. Inputs'!$B37,'2a) Preisannahmen'!$B$4:$B$10,FALSE),MATCH('2b) Allg. Inputs'!F$34,'2a) Preisannahmen'!$D$3:$AD$3,FALSE)),IF($C$33="Szenario 2",INDEX('2a) Preisannahmen'!$D$13:$AD$19,MATCH('2b) Allg. Inputs'!$B37,'2a) Preisannahmen'!$B$13:$B$19,FALSE),MATCH('2b) Allg. Inputs'!F$34,'2a) Preisannahmen'!$D$12:$AD$12,FALSE)),IF($C$33="Szenario 3",INDEX('2a) Preisannahmen'!$D$22:$AD$28,MATCH('2b) Allg. Inputs'!$B37,'2a) Preisannahmen'!$B$22:$B$28,FALSE),MATCH('2b) Allg. Inputs'!F$34,'2a) Preisannahmen'!$D$21:$AD$21,FALSE)),""))),"") | G37: =_xlfn.IFNA(IF($C$33="Szenario 1",INDEX('2a) Preisannahmen'!$D$4:$AD$10,MATCH('2b) Allg. Inputs'!$B37,'2a) Preisannahmen'!$B$4:$B$10,FALSE),MATCH('2b) Allg. Inputs'!G$34,'2a) Preisannahmen'!$D$3:$AD$3,FALSE)),IF($C$33="Szenario 2",INDEX('2a) Preisannahmen'!$D$13:$AD$19,MATCH('2b) Allg. Inputs'!$B37,'2a) Preisannahmen'!$B$13:$B$19,FALSE),MATCH('2b) Allg. Inputs'!G$34,'2a) Preisannahmen'!$D$12:$AD$12,FALSE)),IF($C$33="Szenario 3",INDEX('2a) Preisannahmen'!$D$22:$AD$28,MATCH('2b) Allg. Inputs'!$B37,'2a) Preisannahmen'!$B$22:$B$28,FALSE),MATCH('2b) Allg. Inputs'!G$34,'2a) Preisannahmen'!$D$21:$AD$21,FALSE)),""))),"") | H37: =_xlfn.IFNA(IF($C$33="Szenario 1",INDEX('2a) Preisannahmen'!$D$4:$AD$10,MATCH('2b) Allg. Inputs'!$B37,'2a) Preisannahmen'!$B$4:$B$10,FALSE),MATCH('2b) Allg. Inputs'!H$34,'2a) Preisannahmen'!$D$3:$AD$3,FALSE)),IF($C$33="Szenario 2",INDEX('2a) Preisannahmen'!$D$13:$AD$19,MATCH('2b) Allg. Inputs'!$B37,'2a) Preisannahmen'!$B$13:$B$19,FALSE),MATCH('2b) Allg. Inputs'!H$34,'2a) Preisannahmen'!$D$12:$AD$12,FALSE)),IF($C$33="Szenario 3",INDEX('2a) Preisannahmen'!$D$22:$AD$28,MATCH('2b) Allg. Inputs'!$B37,'2a) Preisannahmen'!$B$22:$B$28,FALSE),MATCH('2b) Allg. Inputs'!H$34,'2a) Preisannahmen'!$D$21:$AD$21,FALSE)),""))),"") | I37: =_xlfn.IFNA(IF($C$33="Szenario 1",INDEX('2a) Preisannahmen'!$D$4:$AD$10,MATCH('2b) Allg. Inputs'!$B37,'2a) Preisannahmen'!$B$4:$B$10,FALSE),MATCH('2b) Allg. Inputs'!I$34,'2a) Preisannahmen'!$D$3:$AD$3,FALSE)),IF($C$33="Szenario 2",INDEX('2a) Preisannahmen'!$D$13:$AD$19,MATCH('2b) Allg. Inputs'!$B37,'2a) Preisannahmen'!$B$13:$B$19,FALSE),MATCH('2b) Allg. Inputs'!I$34,'2a) Preisannahmen'!$D$12:$AD$12,FALSE)),IF($C$33="Szenario 3",INDEX('2a) Preisannahmen'!$D$22:$AD$28,MATCH('2b) Allg. Inputs'!$B37,'2a) Preisannahmen'!$B$22:$B$28,FALSE),MATCH('2b) Allg. Inputs'!I$34,'2a) Preisannahmen'!$D$21:$AD$21,FALSE)),""))),"") | J37: =_xlfn.IFNA(IF($C$33="Szenario 1",INDEX('2a) Preisannahmen'!$D$4:$AD$10,MATCH('2b) Allg. Inputs'!$B37,'2a) Preisannahmen'!$B$4:$B$10,FALSE),MATCH('2b) Allg. Inputs'!J$34,'2a) Preisannahmen'!$D$3:$AD$3,FALSE)),IF($C$33="Szenario 2",INDEX('2a) Preisannahmen'!$D$13:$AD$19,MATCH('2b) Allg. Inputs'!$B37,'2a) Preisannahmen'!$B$13:$B$19,FALSE),MATCH('2b) Allg. Inputs'!J$34,'2a) Preisannahmen'!$D$12:$AD$12,FALSE)),IF($C$33="Szenario 3",INDEX('2a) Preisannahmen'!$D$22:$AD$28,MATCH('2b) Allg. Inputs'!$B37,'2a) Preisannahmen'!$B$22:$B$28,FALSE),MATCH('2b) Allg. Inputs'!J$34,'2a) Preisannahmen'!$D$21:$AD$21,FALSE)),""))),"") | K37: =_xlfn.IFNA(IF($C$33="Szenario 1",INDEX('2a) Preisannahmen'!$D$4:$AD$10,MATCH('2b) Allg. Inputs'!$B37,'2a) Preisannahmen'!$B$4:$B$10,FALSE),MATCH('2b) Allg. Inputs'!K$34,'2a) Preisannahmen'!$D$3:$AD$3,FALSE)),IF($C$33="Szenario 2",INDEX('2a) Preisannahmen'!$D$13:$AD$19,MATCH('2b) Allg. Inputs'!$B37,'2a) Preisannahmen'!$B$13:$B$19,FALSE),MATCH('2b) Allg. Inputs'!K$34,'2a) Preisannahmen'!$D$12:$AD$12,FALSE)),IF($C$33="Szenario 3",INDEX('2a) Preisannahmen'!$D$22:$AD$28,MATCH('2b) Allg. Inputs'!$B37,'2a) Preisannahmen'!$B$22:$B$28,FALSE),MATCH('2b) Allg. Inputs'!K$34,'2a) Preisannahmen'!$D$21:$AD$21,FALSE)),""))),"") | L37: =_xlfn.IFNA(IF($C$33="Szenario 1",INDEX('2a) Preisannahmen'!$D$4:$AD$10,MATCH('2b) Allg. Inputs'!$B37,'2a) Preisannahmen'!$B$4:$B$10,FALSE),MATCH('2b) Allg. Inputs'!L$34,'2a) Preisannahmen'!$D$3:$AD$3,FALSE)),IF($C$33="Szenario 2",INDEX('2a) Preisannahmen'!$D$13:$AD$19,MATCH('2b) Allg. Inputs'!$B37,'2a) Preisannahmen'!$B$13:$B$19,FALSE),MATCH('2b) Allg. Inputs'!L$34,'2a) Preisannahmen'!$D$12:$AD$12,FALSE)),IF($C$33="Szenario 3",INDEX('2a) Preisannahmen'!$D$22:$AD$28,MATCH('2b) Allg. Inputs'!$B37,'2a) Preisannahmen'!$B$22:$B$28,FALSE),MATCH('2b) Allg. Inputs'!L$34,'2a) Preisannahmen'!$D$21:$AD$21,FALSE)),""))),"") | ... T37: =_xlfn.IFNA(IF($C$33="Szenario 1",INDEX('2a) Preisannahmen'!$D$4:$AD$10,MATCH('2b) Allg. Inputs'!$B37,'2a) Preisannahmen'!$B$4:$B$10,FALSE),MATCH('2b) Allg. Inputs'!T$34,'2a) Preisannahmen'!$D$3:$AD$3,FALSE)),IF($C$33="Szenario 2",INDEX('2a) Preisannahmen'!$D$13:$AD$19,MATCH('2b) Allg. Inputs'!$B37,'2a) Preisannahmen'!$B$13:$B$19,FALSE),MATCH('2b) Allg. Inputs'!T$34,'2a) Preisannahmen'!$D$12:$AD$12,FALSE)),IF($C$33="Szenario 3",INDEX('2a) Preisannahmen'!$D$22:$AD$28,MATCH('2b) Allg. Inputs'!$B37,'2a) Preisannahmen'!$B$22:$B$28,FALSE),MATCH('2b) Allg. Inputs'!T$34,'2a) Preisannahmen'!$D$21:$AD$21,FALSE)),""))),"")
B38: Erdgas | D38: EUR/MWh | E38: =_xlfn.IFNA(IF($C$33="Szenario 1",INDEX('2a) Preisannahmen'!$D$4:$AD$10,MATCH('2b) Allg. Inputs'!$B38,'2a) Preisannahmen'!$B$4:$B$10,FALSE),MATCH('2b) Allg. Inputs'!E$34,'2a) Preisannahmen'!$D$3:$AD$3,FALSE)),IF($C$33="Szenario 2",INDEX('2a) Preisannahmen'!$D$13:$AD$19,MATCH('2b) Allg. Inputs'!$B38,'2a) Preisannahmen'!$B$13:$B$19,FALSE),MATCH('2b) Allg. Inputs'!E$34,'2a) Preisannahmen'!$D$12:$AD$12,FALSE)),IF($C$33="Szenario 3",INDEX('2a) Preisannahmen'!$D$22:$AD$28,MATCH('2b) Allg. Inputs'!$B38,'2a) Preisannahmen'!$B$22:$B$28,FALSE),MATCH('2b) Allg. Inputs'!E$34,'2a) Preisannahmen'!$D$21:$AD$21,FALSE)),""))),"") | F38: =_xlfn.IFNA(IF($C$33="Szenario 1",INDEX('2a) Preisannahmen'!$D$4:$AD$10,MATCH('2b) Allg. Inputs'!$B38,'2a) Preisannahmen'!$B$4:$B$10,FALSE),MATCH('2b) Allg. Inputs'!F$34,'2a) Preisannahmen'!$D$3:$AD$3,FALSE)),IF($C$33="Szenario 2",INDEX('2a) Preisannahmen'!$D$13:$AD$19,MATCH('2b) Allg. Inputs'!$B38,'2a) Preisannahmen'!$B$13:$B$19,FALSE),MATCH('2b) Allg. Inputs'!F$34,'2a) Preisannahmen'!$D$12:$AD$12,FALSE)),IF($C$33="Szenario 3",INDEX('2a) Preisannahmen'!$D$22:$AD$28,MATCH('2b) Allg. Inputs'!$B38,'2a) Preisannahmen'!$B$22:$B$28,FALSE),MATCH('2b) Allg. Inputs'!F$34,'2a) Preisannahmen'!$D$21:$AD$21,FALSE)),""))),"") | G38: =_xlfn.IFNA(IF($C$33="Szenario 1",INDEX('2a) Preisannahmen'!$D$4:$AD$10,MATCH('2b) Allg. Inputs'!$B38,'2a) Preisannahmen'!$B$4:$B$10,FALSE),MATCH('2b) Allg. Inputs'!G$34,'2a) Preisannahmen'!$D$3:$AD$3,FALSE)),IF($C$33="Szenario 2",INDEX('2a) Preisannahmen'!$D$13:$AD$19,MATCH('2b) Allg. Inputs'!$B38,'2a) Preisannahmen'!$B$13:$B$19,FALSE),MATCH('2b) Allg. Inputs'!G$34,'2a) Preisannahmen'!$D$12:$AD$12,FALSE)),IF($C$33="Szenario 3",INDEX('2a) Preisannahmen'!$D$22:$AD$28,MATCH('2b) Allg. Inputs'!$B38,'2a) Preisannahmen'!$B$22:$B$28,FALSE),MATCH('2b) Allg. Inputs'!G$34,'2a) Preisannahmen'!$D$21:$AD$21,FALSE)),""))),"") | H38: =_xlfn.IFNA(IF($C$33="Szenario 1",INDEX('2a) Preisannahmen'!$D$4:$AD$10,MATCH('2b) Allg. Inputs'!$B38,'2a) Preisannahmen'!$B$4:$B$10,FALSE),MATCH('2b) Allg. Inputs'!H$34,'2a) Preisannahmen'!$D$3:$AD$3,FALSE)),IF($C$33="Szenario 2",INDEX('2a) Preisannahmen'!$D$13:$AD$19,MATCH('2b) Allg. Inputs'!$B38,'2a) Preisannahmen'!$B$13:$B$19,FALSE),MATCH('2b) Allg. Inputs'!H$34,'2a) Preisannahmen'!$D$12:$AD$12,FALSE)),IF($C$33="Szenario 3",INDEX('2a) Preisannahmen'!$D$22:$AD$28,MATCH('2b) Allg. Inputs'!$B38,'2a) Preisannahmen'!$B$22:$B$28,FALSE),MATCH('2b) Allg. Inputs'!H$34,'2a) Preisannahmen'!$D$21:$AD$21,FALSE)),""))),"") | I38: =_xlfn.IFNA(IF($C$33="Szenario 1",INDEX('2a) Preisannahmen'!$D$4:$AD$10,MATCH('2b) Allg. Inputs'!$B38,'2a) Preisannahmen'!$B$4:$B$10,FALSE),MATCH('2b) Allg. Inputs'!I$34,'2a) Preisannahmen'!$D$3:$AD$3,FALSE)),IF($C$33="Szenario 2",INDEX('2a) Preisannahmen'!$D$13:$AD$19,MATCH('2b) Allg. Inputs'!$B38,'2a) Preisannahmen'!$B$13:$B$19,FALSE),MATCH('2b) Allg. Inputs'!I$34,'2a) Preisannahmen'!$D$12:$AD$12,FALSE)),IF($C$33="Szenario 3",INDEX('2a) Preisannahmen'!$D$22:$AD$28,MATCH('2b) Allg. Inputs'!$B38,'2a) Preisannahmen'!$B$22:$B$28,FALSE),MATCH('2b) Allg. Inputs'!I$34,'2a) Preisannahmen'!$D$21:$AD$21,FALSE)),""))),"") | J38: =_xlfn.IFNA(IF($C$33="Szenario 1",INDEX('2a) Preisannahmen'!$D$4:$AD$10,MATCH('2b) Allg. Inputs'!$B38,'2a) Preisannahmen'!$B$4:$B$10,FALSE),MATCH('2b) Allg. Inputs'!J$34,'2a) Preisannahmen'!$D$3:$AD$3,FALSE)),IF($C$33="Szenario 2",INDEX('2a) Preisannahmen'!$D$13:$AD$19,MATCH('2b) Allg. Inputs'!$B38,'2a) Preisannahmen'!$B$13:$B$19,FALSE),MATCH('2b) Allg. Inputs'!J$34,'2a) Preisannahmen'!$D$12:$AD$12,FALSE)),IF($C$33="Szenario 3",INDEX('2a) Preisannahmen'!$D$22:$AD$28,MATCH('2b) Allg. Inputs'!$B38,'2a) Preisannahmen'!$B$22:$B$28,FALSE),MATCH('2b) Allg. Inputs'!J$34,'2a) Preisannahmen'!$D$21:$AD$21,FALSE)),""))),"") | K38: =_xlfn.IFNA(IF($C$33="Szenario 1",INDEX('2a) Preisannahmen'!$D$4:$AD$10,MATCH('2b) Allg. Inputs'!$B38,'2a) Preisannahmen'!$B$4:$B$10,FALSE),MATCH('2b) Allg. Inputs'!K$34,'2a) Preisannahmen'!$D$3:$AD$3,FALSE)),IF($C$33="Szenario 2",INDEX('2a) Preisannahmen'!$D$13:$AD$19,MATCH('2b) Allg. Inputs'!$B38,'2a) Preisannahmen'!$B$13:$B$19,FALSE),MATCH('2b) Allg. Inputs'!K$34,'2a) Preisannahmen'!$D$12:$AD$12,FALSE)),IF($C$33="Szenario 3",INDEX('2a) Preisannahmen'!$D$22:$AD$28,MATCH('2b) Allg. Inputs'!$B38,'2a) Preisannahmen'!$B$22:$B$28,FALSE),MATCH('2b) Allg. Inputs'!K$34,'2a) Preisannahmen'!$D$21:$AD$21,FALSE)),""))),"") | L38: =_xlfn.IFNA(IF($C$33="Szenario 1",INDEX('2a) Preisannahmen'!$D$4:$AD$10,MATCH('2b) Allg. Inputs'!$B38,'2a) Preisannahmen'!$B$4:$B$10,FALSE),MATCH('2b) Allg. Inputs'!L$34,'2a) Preisannahmen'!$D$3:$AD$3,FALSE)),IF($C$33="Szenario 2",INDEX('2a) Preisannahmen'!$D$13:$AD$19,MATCH('2b) Allg. Inputs'!$B38,'2a) Preisannahmen'!$B$13:$B$19,FALSE),MATCH('2b) Allg. Inputs'!L$34,'2a) Preisannahmen'!$D$12:$AD$12,FALSE)),IF($C$33="Szenario 3",INDEX('2a) Preisannahmen'!$D$22:$AD$28,MATCH('2b) Allg. Inputs'!$B38,'2a) Preisannahmen'!$B$22:$B$28,FALSE),MATCH('2b) Allg. Inputs'!L$34,'2a) Preisannahmen'!$D$21:$AD$21,FALSE)),""))),"") | ... T38: =_xlfn.IFNA(IF($C$33="Szenario 1",INDEX('2a) Preisannahmen'!$D$4:$AD$10,MATCH('2b) Allg. Inputs'!$B38,'2a) Preisannahmen'!$B$4:$B$10,FALSE),MATCH('2b) Allg. Inputs'!T$34,'2a) Preisannahmen'!$D$3:$AD$3,FALSE)),IF($C$33="Szenario 2",INDEX('2a) Preisannahmen'!$D$13:$AD$19,MATCH('2b) Allg. Inputs'!$B38,'2a) Preisannahmen'!$B$13:$B$19,FALSE),MATCH('2b) Allg. Inputs'!T$34,'2a) Preisannahmen'!$D$12:$AD$12,FALSE)),IF($C$33="Szenario 3",INDEX('2a) Preisannahmen'!$D$22:$AD$28,MATCH('2b) Allg. Inputs'!$B38,'2a) Preisannahmen'!$B$22:$B$28,FALSE),MATCH('2b) Allg. Inputs'!T$34,'2a) Preisannahmen'!$D$21:$AD$21,FALSE)),""))),"")
B39: Kokskohle | D39: EUR/MWh | E39: =_xlfn.IFNA(IF($C$33="Szenario 1",INDEX('2a) Preisannahmen'!$D$4:$AD$10,MATCH('2b) Allg. Inputs'!$B39,'2a) Preisannahmen'!$B$4:$B$10,FALSE),MATCH('2b) Allg. Inputs'!E$34,'2a) Preisannahmen'!$D$3:$AD$3,FALSE)),IF($C$33="Szenario 2",INDEX('2a) Preisannahmen'!$D$13:$AD$19,MATCH('2b) Allg. Inputs'!$B39,'2a) Preisannahmen'!$B$13:$B$19,FALSE),MATCH('2b) Allg. Inputs'!E$34,'2a) Preisannahmen'!$D$12:$AD$12,FALSE)),IF($C$33="Szenario 3",INDEX('2a) Preisannahmen'!$D$22:$AD$28,MATCH('2b) Allg. Inputs'!$B39,'2a) Preisannahmen'!$B$22:$B$28,FALSE),MATCH('2b) Allg. Inputs'!E$34,'2a) Preisannahmen'!$D$21:$AD$21,FALSE)),""))),"") | F39: =_xlfn.IFNA(IF($C$33="Szenario 1",INDEX('2a) Preisannahmen'!$D$4:$AD$10,MATCH('2b) Allg. Inputs'!$B39,'2a) Preisannahmen'!$B$4:$B$10,FALSE),MATCH('2b) Allg. Inputs'!F$34,'2a) Preisannahmen'!$D$3:$AD$3,FALSE)),IF($C$33="Szenario 2",INDEX('2a) Preisannahmen'!$D$13:$AD$19,MATCH('2b) Allg. Inputs'!$B39,'2a) Preisannahmen'!$B$13:$B$19,FALSE),MATCH('2b) Allg. Inputs'!F$34,'2a) Preisannahmen'!$D$12:$AD$12,FALSE)),IF($C$33="Szenario 3",INDEX('2a) Preisannahmen'!$D$22:$AD$28,MATCH('2b) Allg. Inputs'!$B39,'2a) Preisannahmen'!$B$22:$B$28,FALSE),MATCH('2b) Allg. Inputs'!F$34,'2a) Preisannahmen'!$D$21:$AD$21,FALSE)),""))),"") | G39: =_xlfn.IFNA(IF($C$33="Szenario 1",INDEX('2a) Preisannahmen'!$D$4:$AD$10,MATCH('2b) Allg. Inputs'!$B39,'2a) Preisannahmen'!$B$4:$B$10,FALSE),MATCH('2b) Allg. Inputs'!G$34,'2a) Preisannahmen'!$D$3:$AD$3,FALSE)),IF($C$33="Szenario 2",INDEX('2a) Preisannahmen'!$D$13:$AD$19,MATCH('2b) Allg. Inputs'!$B39,'2a) Preisannahmen'!$B$13:$B$19,FALSE),MATCH('2b) Allg. Inputs'!G$34,'2a) Preisannahmen'!$D$12:$AD$12,FALSE)),IF($C$33="Szenario 3",INDEX('2a) Preisannahmen'!$D$22:$AD$28,MATCH('2b) Allg. Inputs'!$B39,'2a) Preisannahmen'!$B$22:$B$28,FALSE),MATCH('2b) Allg. Inputs'!G$34,'2a) Preisannahmen'!$D$21:$AD$21,FALSE)),""))),"") | H39: =_xlfn.IFNA(IF($C$33="Szenario 1",INDEX('2a) Preisannahmen'!$D$4:$AD$10,MATCH('2b) Allg. Inputs'!$B39,'2a) Preisannahmen'!$B$4:$B$10,FALSE),MATCH('2b) Allg. Inputs'!H$34,'2a) Preisannahmen'!$D$3:$AD$3,FALSE)),IF($C$33="Szenario 2",INDEX('2a) Preisannahmen'!$D$13:$AD$19,MATCH('2b) Allg. Inputs'!$B39,'2a) Preisannahmen'!$B$13:$B$19,FALSE),MATCH('2b) Allg. Inputs'!H$34,'2a) Preisannahmen'!$D$12:$AD$12,FALSE)),IF($C$33="Szenario 3",INDEX('2a) Preisannahmen'!$D$22:$AD$28,MATCH('2b) Allg. Inputs'!$B39,'2a) Preisannahmen'!$B$22:$B$28,FALSE),MATCH('2b) Allg. Inputs'!H$34,'2a) Preisannahmen'!$D$21:$AD$21,FALSE)),""))),"") | I39: =_xlfn.IFNA(IF($C$33="Szenario 1",INDEX('2a) Preisannahmen'!$D$4:$AD$10,MATCH('2b) Allg. Inputs'!$B39,'2a) Preisannahmen'!$B$4:$B$10,FALSE),MATCH('2b) Allg. Inputs'!I$34,'2a) Preisannahmen'!$D$3:$AD$3,FALSE)),IF($C$33="Szenario 2",INDEX('2a) Preisannahmen'!$D$13:$AD$19,MATCH('2b) Allg. Inputs'!$B39,'2a) Preisannahmen'!$B$13:$B$19,FALSE),MATCH('2b) Allg. Inputs'!I$34,'2a) Preisannahmen'!$D$12:$AD$12,FALSE)),IF($C$33="Szenario 3",INDEX('2a) Preisannahmen'!$D$22:$AD$28,MATCH('2b) Allg. Inputs'!$B39,'2a) Preisannahmen'!$B$22:$B$28,FALSE),MATCH('2b) Allg. Inputs'!I$34,'2a) Preisannahmen'!$D$21:$AD$21,FALSE)),""))),"") | J39: =_xlfn.IFNA(IF($C$33="Szenario 1",INDEX('2a) Preisannahmen'!$D$4:$AD$10,MATCH('2b) Allg. Inputs'!$B39,'2a) Preisannahmen'!$B$4:$B$10,FALSE),MATCH('2b) Allg. Inputs'!J$34,'2a) Preisannahmen'!$D$3:$AD$3,FALSE)),IF($C$33="Szenario 2",INDEX('2a) Preisannahmen'!$D$13:$AD$19,MATCH('2b) Allg. Inputs'!$B39,'2a) Preisannahmen'!$B$13:$B$19,FALSE),MATCH('2b) Allg. Inputs'!J$34,'2a) Preisannahmen'!$D$12:$AD$12,FALSE)),IF($C$33="Szenario 3",INDEX('2a) Preisannahmen'!$D$22:$AD$28,MATCH('2b) Allg. Inputs'!$B39,'2a) Preisannahmen'!$B$22:$B$28,FALSE),MATCH('2b) Allg. Inputs'!J$34,'2a) Preisannahmen'!$D$21:$AD$21,FALSE)),""))),"") | K39: =_xlfn.IFNA(IF($C$33="Szenario 1",INDEX('2a) Preisannahmen'!$D$4:$AD$10,MATCH('2b) Allg. Inputs'!$B39,'2a) Preisannahmen'!$B$4:$B$10,FALSE),MATCH('2b) Allg. Inputs'!K$34,'2a) Preisannahmen'!$D$3:$AD$3,FALSE)),IF($C$33="Szenario 2",INDEX('2a) Preisannahmen'!$D$13:$AD$19,MATCH('2b) Allg. Inputs'!$B39,'2a) Preisannahmen'!$B$13:$B$19,FALSE),MATCH('2b) Allg. Inputs'!K$34,'2a) Preisannahmen'!$D$12:$AD$12,FALSE)),IF($C$33="Szenario 3",INDEX('2a) Preisannahmen'!$D$22:$AD$28,MATCH('2b) Allg. Inputs'!$B39,'2a) Preisannahmen'!$B$22:$B$28,FALSE),MATCH('2b) Allg. Inputs'!K$34,'2a) Preisannahmen'!$D$21:$AD$21,FALSE)),""))),"") | L39: =_xlfn.IFNA(IF($C$33="Szenario 1",INDEX('2a) Preisannahmen'!$D$4:$AD$10,MATCH('2b) Allg. Inputs'!$B39,'2a) Preisannahmen'!$B$4:$B$10,FALSE),MATCH('2b) Allg. Inputs'!L$34,'2a) Preisannahmen'!$D$3:$AD$3,FALSE)),IF($C$33="Szenario 2",INDEX('2a) Preisannahmen'!$D$13:$AD$19,MATCH('2b) Allg. Inputs'!$B39,'2a) Preisannahmen'!$B$13:$B$19,FALSE),MATCH('2b) Allg. Inputs'!L$34,'2a) Preisannahmen'!$D$12:$AD$12,FALSE)),IF($C$33="Szenario 3",INDEX('2a) Preisannahmen'!$D$22:$AD$28,MATCH('2b) Allg. Inputs'!$B39,'2a) Preisannahmen'!$B$22:$B$28,FALSE),MATCH('2b) Allg. Inputs'!L$34,'2a) Preisannahmen'!$D$21:$AD$21,FALSE)),""))),"") | ... T39: =_xlfn.IFNA(IF($C$33="Szenario 1",INDEX('2a) Preisannahmen'!$D$4:$AD$10,MATCH('2b) Allg. Inputs'!$B39,'2a) Preisannahmen'!$B$4:$B$10,FALSE),MATCH('2b) Allg. Inputs'!T$34,'2a) Preisannahmen'!$D$3:$AD$3,FALSE)),IF($C$33="Szenario 2",INDEX('2a) Preisannahmen'!$D$13:$AD$19,MATCH('2b) Allg. Inputs'!$B39,'2a) Preisannahmen'!$B$13:$B$19,FALSE),MATCH('2b) Allg. Inputs'!T$34,'2a) Preisannahmen'!$D$12:$AD$12,FALSE)),IF($C$33="Szenario 3",INDEX('2a) Preisannahmen'!$D$22:$AD$28,MATCH('2b) Allg. Inputs'!$B39,'2a) Preisannahmen'!$B$22:$B$28,FALSE),MATCH('2b) Allg. Inputs'!T$34,'2a) Preisannahmen'!$D$21:$AD$21,FALSE)),""))),"")
B40: Kesselkohle | D40: EUR/MWh | E40: =_xlfn.IFNA(IF($C$33="Szenario 1",INDEX('2a) Preisannahmen'!$D$4:$AD$10,MATCH('2b) Allg. Inputs'!$B40,'2a) Preisannahmen'!$B$4:$B$10,FALSE),MATCH('2b) Allg. Inputs'!E$34,'2a) Preisannahmen'!$D$3:$AD$3,FALSE)),IF($C$33="Szenario 2",INDEX('2a) Preisannahmen'!$D$13:$AD$19,MATCH('2b) Allg. Inputs'!$B40,'2a) Preisannahmen'!$B$13:$B$19,FALSE),MATCH('2b) Allg. Inputs'!E$34,'2a) Preisannahmen'!$D$12:$AD$12,FALSE)),IF($C$33="Szenario 3",INDEX('2a) Preisannahmen'!$D$22:$AD$28,MATCH('2b) Allg. Inputs'!$B40,'2a) Preisannahmen'!$B$22:$B$28,FALSE),MATCH('2b) Allg. Inputs'!E$34,'2a) Preisannahmen'!$D$21:$AD$21,FALSE)),""))),"") | F40: =_xlfn.IFNA(IF($C$33="Szenario 1",INDEX('2a) Preisannahmen'!$D$4:$AD$10,MATCH('2b) Allg. Inputs'!$B40,'2a) Preisannahmen'!$B$4:$B$10,FALSE),MATCH('2b) Allg. Inputs'!F$34,'2a) Preisannahmen'!$D$3:$AD$3,FALSE)),IF($C$33="Szenario 2",INDEX('2a) Preisannahmen'!$D$13:$AD$19,MATCH('2b) Allg. Inputs'!$B40,'2a) Preisannahmen'!$B$13:$B$19,FALSE),MATCH('2b) Allg. Inputs'!F$34,'2a) Preisannahmen'!$D$12:$AD$12,FALSE)),IF($C$33="Szenario 3",INDEX('2a) Preisannahmen'!$D$22:$AD$28,MATCH('2b) Allg. Inputs'!$B40,'2a) Preisannahmen'!$B$22:$B$28,FALSE),MATCH('2b) Allg. Inputs'!F$34,'2a) Preisannahmen'!$D$21:$AD$21,FALSE)),""))),"") | G40: =_xlfn.IFNA(IF($C$33="Szenario 1",INDEX('2a) Preisannahmen'!$D$4:$AD$10,MATCH('2b) Allg. Inputs'!$B40,'2a) Preisannahmen'!$B$4:$B$10,FALSE),MATCH('2b) Allg. Inputs'!G$34,'2a) Preisannahmen'!$D$3:$AD$3,FALSE)),IF($C$33="Szenario 2",INDEX('2a) Preisannahmen'!$D$13:$AD$19,MATCH('2b) Allg. Inputs'!$B40,'2a) Preisannahmen'!$B$13:$B$19,FALSE),MATCH('2b) Allg. Inputs'!G$34,'2a) Preisannahmen'!$D$12:$AD$12,FALSE)),IF($C$33="Szenario 3",INDEX('2a) Preisannahmen'!$D$22:$AD$28,MATCH('2b) Allg. Inputs'!$B40,'2a) Preisannahmen'!$B$22:$B$28,FALSE),MATCH('2b) Allg. Inputs'!G$34,'2a) Preisannahmen'!$D$21:$AD$21,FALSE)),""))),"") | H40: =_xlfn.IFNA(IF($C$33="Szenario 1",INDEX('2a) Preisannahmen'!$D$4:$AD$10,MATCH('2b) Allg. Inputs'!$B40,'2a) Preisannahmen'!$B$4:$B$10,FALSE),MATCH('2b) Allg. Inputs'!H$34,'2a) Preisannahmen'!$D$3:$AD$3,FALSE)),IF($C$33="Szenario 2",INDEX('2a) Preisannahmen'!$D$13:$AD$19,MATCH('2b) Allg. Inputs'!$B40,'2a) Preisannahmen'!$B$13:$B$19,FALSE),MATCH('2b) Allg. Inputs'!H$34,'2a) Preisannahmen'!$D$12:$AD$12,FALSE)),IF($C$33="Szenario 3",INDEX('2a) Preisannahmen'!$D$22:$AD$28,MATCH('2b) Allg. Inputs'!$B40,'2a) Preisannahmen'!$B$22:$B$28,FALSE),MATCH('2b) Allg. Inputs'!H$34,'2a) Preisannahmen'!$D$21:$AD$21,FALSE)),""))),"") | I40: =_xlfn.IFNA(IF($C$33="Szenario 1",INDEX('2a) Preisannahmen'!$D$4:$AD$10,MATCH('2b) Allg. Inputs'!$B40,'2a) Preisannahmen'!$B$4:$B$10,FALSE),MATCH('2b) Allg. Inputs'!I$34,'2a) Preisannahmen'!$D$3:$AD$3,FALSE)),IF($C$33="Szenario 2",INDEX('2a) Preisannahmen'!$D$13:$AD$19,MATCH('2b) Allg. Inputs'!$B40,'2a) Preisannahmen'!$B$13:$B$19,FALSE),MATCH('2b) Allg. Inputs'!I$34,'2a) Preisannahmen'!$D$12:$AD$12,FALSE)),IF($C$33="Szenario 3",INDEX('2a) Preisannahmen'!$D$22:$AD$28,MATCH('2b) Allg. Inputs'!$B40,'2a) Preisannahmen'!$B$22:$B$28,FALSE),MATCH('2b) Allg. Inputs'!I$34,'2a) Preisannahmen'!$D$21:$AD$21,FALSE)),""))),"") | J40: =_xlfn.IFNA(IF($C$33="Szenario 1",INDEX('2a) Preisannahmen'!$D$4:$AD$10,MATCH('2b) Allg. Inputs'!$B40,'2a) Preisannahmen'!$B$4:$B$10,FALSE),MATCH('2b) Allg. Inputs'!J$34,'2a) Preisannahmen'!$D$3:$AD$3,FALSE)),IF($C$33="Szenario 2",INDEX('2a) Preisannahmen'!$D$13:$AD$19,MATCH('2b) Allg. Inputs'!$B40,'2a) Preisannahmen'!$B$13:$B$19,FALSE),MATCH('2b) Allg. Inputs'!J$34,'2a) Preisannahmen'!$D$12:$AD$12,FALSE)),IF($C$33="Szenario 3",INDEX('2a) Preisannahmen'!$D$22:$AD$28,MATCH('2b) Allg. Inputs'!$B40,'2a) Preisannahmen'!$B$22:$B$28,FALSE),MATCH('2b) Allg. Inputs'!J$34,'2a) Preisannahmen'!$D$21:$AD$21,FALSE)),""))),"") | K40: =_xlfn.IFNA(IF($C$33="Szenario 1",INDEX('2a) Preisannahmen'!$D$4:$AD$10,MATCH('2b) Allg. Inputs'!$B40,'2a) Preisannahmen'!$B$4:$B$10,FALSE),MATCH('2b) Allg. Inputs'!K$34,'2a) Preisannahmen'!$D$3:$AD$3,FALSE)),IF($C$33="Szenario 2",INDEX('2a) Preisannahmen'!$D$13:$AD$19,MATCH('2b) Allg. Inputs'!$B40,'2a) Preisannahmen'!$B$13:$B$19,FALSE),MATCH('2b) Allg. Inputs'!K$34,'2a) Preisannahmen'!$D$12:$AD$12,FALSE)),IF($C$33="Szenario 3",INDEX('2a) Preisannahmen'!$D$22:$AD$28,MATCH('2b) Allg. Inputs'!$B40,'2a) Preisannahmen'!$B$22:$B$28,FALSE),MATCH('2b) Allg. Inputs'!K$34,'2a) Preisannahmen'!$D$21:$AD$21,FALSE)),""))),"") | L40: =_xlfn.IFNA(IF($C$33="Szenario 1",INDEX('2a) Preisannahmen'!$D$4:$AD$10,MATCH('2b) Allg. Inputs'!$B40,'2a) Preisannahmen'!$B$4:$B$10,FALSE),MATCH('2b) Allg. Inputs'!L$34,'2a) Preisannahmen'!$D$3:$AD$3,FALSE)),IF($C$33="Szenario 2",INDEX('2a) Preisannahmen'!$D$13:$AD$19,MATCH('2b) Allg. Inputs'!$B40,'2a) Preisannahmen'!$B$13:$B$19,FALSE),MATCH('2b) Allg. Inputs'!L$34,'2a) Preisannahmen'!$D$12:$AD$12,FALSE)),IF($C$33="Szenario 3",INDEX('2a) Preisannahmen'!$D$22:$AD$28,MATCH('2b) Allg. Inputs'!$B40,'2a) Preisannahmen'!$B$22:$B$28,FALSE),MATCH('2b) Allg. Inputs'!L$34,'2a) Preisannahmen'!$D$21:$AD$21,FALSE)),""))),"") | ... T40: =_xlfn.IFNA(IF($C$33="Szenario 1",INDEX('2a) Preisannahmen'!$D$4:$AD$10,MATCH('2b) Allg. Inputs'!$B40,'2a) Preisannahmen'!$B$4:$B$10,FALSE),MATCH('2b) Allg. Inputs'!T$34,'2a) Preisannahmen'!$D$3:$AD$3,FALSE)),IF($C$33="Szenario 2",INDEX('2a) Preisannahmen'!$D$13:$AD$19,MATCH('2b) Allg. Inputs'!$B40,'2a) Preisannahmen'!$B$13:$B$19,FALSE),MATCH('2b) Allg. Inputs'!T$34,'2a) Preisannahmen'!$D$12:$AD$12,FALSE)),IF($C$33="Szenario 3",INDEX('2a) Preisannahmen'!$D$22:$AD$28,MATCH('2b) Allg. Inputs'!$B40,'2a) Preisannahmen'!$B$22:$B$28,FALSE),MATCH('2b) Allg. Inputs'!T$34,'2a) Preisannahmen'!$D$21:$AD$21,FALSE)),""))),"")
B41: CO2-Preis im EU-ETS | D41: EUR/t CO2-Äq. | E41: =_xlfn.IFNA(IF($C$33="Szenario 1",INDEX('2a) Preisannahmen'!$D$4:$AD$10,MATCH('2b) Allg. Inputs'!$B41,'2a) Preisannahmen'!$B$4:$B$10,FALSE),MATCH('2b) Allg. Inputs'!E$34,'2a) Preisannahmen'!$D$3:$AD$3,FALSE)),IF($C$33="Szenario 2",INDEX('2a) Preisannahmen'!$D$13:$AD$19,MATCH('2b) Allg. Inputs'!$B41,'2a) Preisannahmen'!$B$13:$B$19,FALSE),MATCH('2b) Allg. Inputs'!E$34,'2a) Preisannahmen'!$D$12:$AD$12,FALSE)),IF($C$33="Szenario 3",INDEX('2a) Preisannahmen'!$D$22:$AD$28,MATCH('2b) Allg. Inputs'!$B41,'2a) Preisannahmen'!$B$22:$B$28,FALSE),MATCH('2b) Allg. Inputs'!E$34,'2a) Preisannahmen'!$D$21:$AD$21,FALSE)),""))),"") | F41: =_xlfn.IFNA(IF($C$33="Szenario 1",INDEX('2a) Preisannahmen'!$D$4:$AD$10,MATCH('2b) Allg. Inputs'!$B41,'2a) Preisannahmen'!$B$4:$B$10,FALSE),MATCH('2b) Allg. Inputs'!F$34,'2a) Preisannahmen'!$D$3:$AD$3,FALSE)),IF($C$33="Szenario 2",INDEX('2a) Preisannahmen'!$D$13:$AD$19,MATCH('2b) Allg. Inputs'!$B41,'2a) Preisannahmen'!$B$13:$B$19,FALSE),MATCH('2b) Allg. Inputs'!F$34,'2a) Preisannahmen'!$D$12:$AD$12,FALSE)),IF($C$33="Szenario 3",INDEX('2a) Preisannahmen'!$D$22:$AD$28,MATCH('2b) Allg. Inputs'!$B41,'2a) Preisannahmen'!$B$22:$B$28,FALSE),MATCH('2b) Allg. Inputs'!F$34,'2a) Preisannahmen'!$D$21:$AD$21,FALSE)),""))),"") | G41: =_xlfn.IFNA(IF($C$33="Szenario 1",INDEX('2a) Preisannahmen'!$D$4:$AD$10,MATCH('2b) Allg. Inputs'!$B41,'2a) Preisannahmen'!$B$4:$B$10,FALSE),MATCH('2b) Allg. Inputs'!G$34,'2a) Preisannahmen'!$D$3:$AD$3,FALSE)),IF($C$33="Szenario 2",INDEX('2a) Preisannahmen'!$D$13:$AD$19,MATCH('2b) Allg. Inputs'!$B41,'2a) Preisannahmen'!$B$13:$B$19,FALSE),MATCH('2b) Allg. Inputs'!G$34,'2a) Preisannahmen'!$D$12:$AD$12,FALSE)),IF($C$33="Szenario 3",INDEX('2a) Preisannahmen'!$D$22:$AD$28,MATCH('2b) Allg. Inputs'!$B41,'2a) Preisannahmen'!$B$22:$B$28,FALSE),MATCH('2b) Allg. Inputs'!G$34,'2a) Preisannahmen'!$D$21:$AD$21,FALSE)),""))),"") | H41: =_xlfn.IFNA(IF($C$33="Szenario 1",INDEX('2a) Preisannahmen'!$D$4:$AD$10,MATCH('2b) Allg. Inputs'!$B41,'2a) Preisannahmen'!$B$4:$B$10,FALSE),MATCH('2b) Allg. Inputs'!H$34,'2a) Preisannahmen'!$D$3:$AD$3,FALSE)),IF($C$33="Szenario 2",INDEX('2a) Preisannahmen'!$D$13:$AD$19,MATCH('2b) Allg. Inputs'!$B41,'2a) Preisannahmen'!$B$13:$B$19,FALSE),MATCH('2b) Allg. Inputs'!H$34,'2a) Preisannahmen'!$D$12:$AD$12,FALSE)),IF($C$33="Szenario 3",INDEX('2a) Preisannahmen'!$D$22:$AD$28,MATCH('2b) Allg. Inputs'!$B41,'2a) Preisannahmen'!$B$22:$B$28,FALSE),MATCH('2b) Allg. Inputs'!H$34,'2a) Preisannahmen'!$D$21:$AD$21,FALSE)),""))),"") | I41: =_xlfn.IFNA(IF($C$33="Szenario 1",INDEX('2a) Preisannahmen'!$D$4:$AD$10,MATCH('2b) Allg. Inputs'!$B41,'2a) Preisannahmen'!$B$4:$B$10,FALSE),MATCH('2b) Allg. Inputs'!I$34,'2a) Preisannahmen'!$D$3:$AD$3,FALSE)),IF($C$33="Szenario 2",INDEX('2a) Preisannahmen'!$D$13:$AD$19,MATCH('2b) Allg. Inputs'!$B41,'2a) Preisannahmen'!$B$13:$B$19,FALSE),MATCH('2b) Allg. Inputs'!I$34,'2a) Preisannahmen'!$D$12:$AD$12,FALSE)),IF($C$33="Szenario 3",INDEX('2a) Preisannahmen'!$D$22:$AD$28,MATCH('2b) Allg. Inputs'!$B41,'2a) Preisannahmen'!$B$22:$B$28,FALSE),MATCH('2b) Allg. Inputs'!I$34,'2a) Preisannahmen'!$D$21:$AD$21,FALSE)),""))),"") | J41: =_xlfn.IFNA(IF($C$33="Szenario 1",INDEX('2a) Preisannahmen'!$D$4:$AD$10,MATCH('2b) Allg. Inputs'!$B41,'2a) Preisannahmen'!$B$4:$B$10,FALSE),MATCH('2b) Allg. Inputs'!J$34,'2a) Preisannahmen'!$D$3:$AD$3,FALSE)),IF($C$33="Szenario 2",INDEX('2a) Preisannahmen'!$D$13:$AD$19,MATCH('2b) Allg. Inputs'!$B41,'2a) Preisannahmen'!$B$13:$B$19,FALSE),MATCH('2b) Allg. Inputs'!J$34,'2a) Preisannahmen'!$D$12:$AD$12,FALSE)),IF($C$33="Szenario 3",INDEX('2a) Preisannahmen'!$D$22:$AD$28,MATCH('2b) Allg. Inputs'!$B41,'2a) Preisannahmen'!$B$22:$B$28,FALSE),MATCH('2b) Allg. Inputs'!J$34,'2a) Preisannahmen'!$D$21:$AD$21,FALSE)),""))),"") | K41: =_xlfn.IFNA(IF($C$33="Szenario 1",INDEX('2a) Preisannahmen'!$D$4:$AD$10,MATCH('2b) Allg. Inputs'!$B41,'2a) Preisannahmen'!$B$4:$B$10,FALSE),MATCH('2b) Allg. Inputs'!K$34,'2a) Preisannahmen'!$D$3:$AD$3,FALSE)),IF($C$33="Szenario 2",INDEX('2a) Preisannahmen'!$D$13:$AD$19,MATCH('2b) Allg. Inputs'!$B41,'2a) Preisannahmen'!$B$13:$B$19,FALSE),MATCH('2b) Allg. Inputs'!K$34,'2a) Preisannahmen'!$D$12:$AD$12,FALSE)),IF($C$33="Szenario 3",INDEX('2a) Preisannahmen'!$D$22:$AD$28,MATCH('2b) Allg. Inputs'!$B41,'2a) Preisannahmen'!$B$22:$B$28,FALSE),MATCH('2b) Allg. Inputs'!K$34,'2a) Preisannahmen'!$D$21:$AD$21,FALSE)),""))),"") | L41: =_xlfn.IFNA(IF($C$33="Szenario 1",INDEX('2a) Preisannahmen'!$D$4:$AD$10,MATCH('2b) Allg. Inputs'!$B41,'2a) Preisannahmen'!$B$4:$B$10,FALSE),MATCH('2b) Allg. Inputs'!L$34,'2a) Preisannahmen'!$D$3:$AD$3,FALSE)),IF($C$33="Szenario 2",INDEX('2a) Preisannahmen'!$D$13:$AD$19,MATCH('2b) Allg. Inputs'!$B41,'2a) Preisannahmen'!$B$13:$B$19,FALSE),MATCH('2b) Allg. Inputs'!L$34,'2a) Preisannahmen'!$D$12:$AD$12,FALSE)),IF($C$33="Szenario 3",INDEX('2a) Preisannahmen'!$D$22:$AD$28,MATCH('2b) Allg. Inputs'!$B41,'2a) Preisannahmen'!$B$22:$B$28,FALSE),MATCH('2b) Allg. Inputs'!L$34,'2a) Preisannahmen'!$D$21:$AD$21,FALSE)),""))),"") | ... T41: =_xlfn.IFNA(IF($C$33="Szenario 1",INDEX('2a) Preisannahmen'!$D$4:$AD$10,MATCH('2b) Allg. Inputs'!$B41,'2a) Preisannahmen'!$B$4:$B$10,FALSE),MATCH('2b) Allg. Inputs'!T$34,'2a) Preisannahmen'!$D$3:$AD$3,FALSE)),IF($C$33="Szenario 2",INDEX('2a) Preisannahmen'!$D$13:$AD$19,MATCH('2b) Allg. Inputs'!$B41,'2a) Preisannahmen'!$B$13:$B$19,FALSE),MATCH('2b) Allg. Inputs'!T$34,'2a) Preisannahmen'!$D$12:$AD$12,FALSE)),IF($C$33="Szenario 3",INDEX('2a) Preisannahmen'!$D$22:$AD$28,MATCH('2b) Allg. Inputs'!$B41,'2a) Preisannahmen'!$B$22:$B$28,FALSE),MATCH('2b) Allg. Inputs'!T$34,'2a) Preisannahmen'!$D$21:$AD$21,FALSE)),""))),"")

Sheet 2c) Elektrolyseurförderung
B2: Elektrolyseanlage
B3: Wenn in Ihrem Vorhaben Wasserstoff eingesetzt wird, der durch Elektrolyseanlagen eines verbundenen Unternehmens produziert wird, beachten Sie, dass die Förderung, die für diese Elektrolyseanlagen ausgezahlt oder auf andere Weise gewährt wurde, von der Fördersumme abgezogen werden muss, um eine mögliche Doppelförderung zu vermeiden.
B4: Angaben zur Elektrolyseanlage
B5: Erläuterung: Für die Berechnung der Höhe des abzuziehenden Betrages für die Förderung der Elektrolyseanlage des verbundenen Unternehmens wird die Förderung für CAPEX und für den Betrieb der Elektrolyseanlage bezogen auf ihre Produktionsmenge separat betrachtet. Bitte geben Sie hier die ausgezahlte oder sonst gewährte CAPEX-Förderung für die Elektrolyseanlage sowie deren Kapazität an.
B6: Kategorie | C6: Variablenbezeichnung | D6: Einheit
B7: Ausgezahlte oder auf sonstige Weise gewährte CAPEX-Förderung für Elektrolyseanlage | C7: FElyCAPEX | D7: EUR
B8: Kapazität der Elektrolyseanlage (elektrische Leistung) | C8: PEly | D8: MWel
B9: Abzugsbetrag für im geförderten Vorhaben eingesetzten Wasserstoff je MWh, der von der geförderten Elektrolyseanlage hergestellt wurde. | C9: fElyCAPEX | D9: EUR/MWh | E9: =IFERROR(E7/(E8*IF(E10="Höherer Wert",F10,0.65)*IF(E12="Höherer Wert", F12,0.46)*E11),0) -> 0
B10: Wirkungsgrad Elektrolyseanlage bezogen auf den Heizwert | C10: ηEly | D10: MWH2/MWel | E10: Standardwert von 65 %
B11: Abschreibungsdauer der Elektrolyseanlage | C11: tEly | D11: h | E11: 131472
B12: Jahresnutzungsgrad | C12: jEly | D12: - | E12: Standardwert von 46 %
B15: Angaben zu Förderung im Verbund
B16: Erläuterung: Um die Angaben zur Elektrolyseurförderung korrekt zu erfassen, geben Sie bitte die Höhe der ausgezahlten oder auf sonstige Weise gewährten Förderung für den Betrieb der Elektrolyseanlage je Produktionsmenge in Euro pro Megawattstunde (EUR/MWh) an. Zudem ist die Menge des im geförderten Vorhaben eingesetzten Wasserstoffs, welcher durch die geförderte Elektrolyseanlage produziert wurde, in Megawattstunden (MWh) anzugeben. Für Erläuterungen zu Berechnungen wird auf Abschnitt 1 des Anhangs 1 FRL CCfD verwiesen.
B17: Kategorie | C17: Variablenbezeichnung | D17: Einheit
E18: =YEAR('2b) Allg. Inputs'!$C$8) -> 1900 | F18: =E18+1 -> 1901 | G18: =F18+1 -> 1902 | H18: =G18+1 -> 1903 | I18: =H18+1 -> 1904 | J18: =I18+1 -> 1905 | K18: =J18+1 -> 1906 | L18: =K18+1 -> 1907 | M18: =L18+1 -> 1908 | ... S18: =R18+1 -> 1914 | T18: =IF('4c) Berechnungen_MFS'!E99="Nein","",S18+1)
B19: Ausgezahlte oder auf sonstige Weise gewährte Förderung eines verbundenen Unternehmens des Zuwendungsempfängers für den Betrieb der Elektrolyseanlage je Produktionsmenge. | C19: fElyOPEX,t | D19: EUR/MWh
B20: Menge des im geförderten Vorhaben eingesetzten Wasserstoffs (im Abrechnungsjahr), welcher durch die geförderte Elektrolyseanlage produziert worden ist. | C20: DEly,CCfDH2,t | D20: MWh
B21: Höhe des von der Zuwendung abzuziehenden Betrags bezüglich des CAPEX bezogenen Teils der Förderung. | C21: ΔFElyCAPEX,t | D21: EUR | E21: =E20*$E$9 -> 0 | F21: =F20*$E$9 -> 0 | G21: =G20*$E$9 -> 0 | H21: =H20*$E$9 -> 0 | I21: =I20*$E$9 -> 0 | J21: =J20*$E$9 -> 0 | K21: =K20*$E$9 -> 0 | L21: =L20*$E$9 -> 0 | ... T21: =T20*$E$9 -> 0
B22: Höhe des von der Zuwendung abzuziehenden Betrags bezüglich einer ausgezahlten oder auf sonstige Weise gewährten Förderung eines verbundenen Unternehmens. | C22: ΔFElyOPEX,t | D22: EUR | E22: =E19*E20 -> 0 | F22: =F19*F20 -> 0 | G22: =G19*G20 -> 0 | H22: =H19*H20 -> 0 | I22: =I19*I20 -> 0 | J22: =J19*J20 -> 0 | K22: =K19*K20 -> 0 | L22: =L19*L20 -> 0 | ... T22: =T19*T20 -> 0
B23: Förderung für im Vorhaben eingesetzten Wasserstoff, der durch geförderte Elektrolyseanlagen eines verbundenen Unternehmens hergestellt worden ist und nach Nummer 7.5(d) FRL CCfD abzuziehen ist. | C23: ΔFEly,t | D23: EUR | E23: =E21+E22 -> 0 | F23: =F21+F22 -> 0 | G23: =G21+G22 -> 0 | H23: =H21+H22 -> 0 | I23: =I21+I22 -> 0 | J23: =J21+J22 -> 0 | K23: =K21+K22 -> 0 | L23: =L21+L22 -> 0 | ... T23: =T21+T22 -> 0

Sheet 2d) Planwerte (Anlage)
B2: Planwerte des Vorhabens
B3: Auf diesem Tabellenblatt werden die jeweilige(n) Referenz(en) ausgewählt und die entsprechenden geplanten Verbrauchsparameter des Vorhabens eingetragen.
B9: Referenz
B10: Parameter | C10: Referenzsystem 1 | D10: Referenzsystem 2 (optional) | E10: Referenzsystem 3 (optional) | F10: Referenzsystem 4 (optional) | G10: Referenzsystem 5 (optional) | H10: Referenzsystem 6 (optional) | I10: Referenzsystem 7 (optional)
B11: Referenz auf die sich bezogen wird | C11: - nicht ausgewählt - | D11: - nicht ausgewählt - | E11: - nicht ausgewählt - | F11: - nicht ausgewählt - | G11: - nicht ausgewählt - | H11: - nicht ausgewählt - | I11: - nicht ausgewählt -
B12: Spezifische Emissionen (t CO2-Äq./ME (Vor)-Produkt) | C12: =IFERROR(SUMIF('3b) Referenzsysteme'!$B$6:$B$57,'2d) Planwerte (Anlage)'!C$11,'3b) Referenzsysteme'!$J$6:$J$57),"") -> 0 | D12: =IFERROR(SUMIF('3b) Referenzsysteme'!$B$6:$B$57,'2d) Planwerte (Anlage)'!D$11,'3b) Referenzsysteme'!$J$6:$J$57),"") -> 0 | E12: =IFERROR(SUMIF('3b) Referenzsysteme'!$B$6:$B$57,'2d) Planwerte (Anlage)'!E$11,'3b) Referenzsysteme'!$J$6:$J$57),"") -> 0 | F12: =IFERROR(SUMIF('3b) Referenzsysteme'!$B$6:$B$57,'2d) Planwerte (Anlage)'!F$11,'3b) Referenzsysteme'!$J$6:$J$57),"") -> 0 | G12: =IFERROR(SUMIF('3b) Referenzsysteme'!$B$6:$B$57,'2d) Planwerte (Anlage)'!G$11,'3b) Referenzsysteme'!$J$6:$J$57),"") -> 0 | H12: =IFERROR(SUMIF('3b) Referenzsysteme'!$B$6:$B$57,'2d) Planwerte (Anlage)'!H$11,'3b) Referenzsysteme'!$J$6:$J$57),"") -> 0 | I12: =IFERROR(SUMIF('3b) Referenzsysteme'!$B$6:$B$57,'2d) Planwerte (Anlage)'!I$11,'3b) Referenzsysteme'!$J$6:$J$57),"") -> 0
B15: Produktionsmengen
B16: Jährliche Produktionsmenge je Referenzsystem | C16: Einheit | D16: Referenzsystem | E16: =YEAR('2b) Allg. Inputs'!$C$8) -> 1900 | F16: =E16+1 -> 1901 | G16: =F16+1 -> 1902 | H16: =G16+1 -> 1903 | I16: =H16+1 -> 1904 | J16: =I16+1 -> 1905 | K16: =J16+1 -> 1906 | L16: =K16+1 -> 1907 | M16: =L16+1 -> 1908 | ... R16: =Q16+1 -> 1913 | S16: =IF('4c) Berechnungen_MFS'!E99 = "Nein",R16+1, R16+1&" 1. Teil-KJ") -> 1914 | T16: =IF('4c) Berechnungen_MFS'!E99 = "Nein","", R16+1&" 2. Teil-KJ") | U16: =IF('4c) Berechnungen_MFS'!E99="Ja",R16+2,"")
B17: Geplante Produktionsmenge pro Jahr | C17: =IF(OR(C11="50: Wasserstoff",C11="51: Synthesegas", C11="Brennstoffeinsatz", C11="Wärmebereitstellung und Brennstoffeinsatz"),"ME Vorprodukt","ME Produkt") -> ME Produkt | D17: =C11 -> - nicht ausgewählt -
B18: Geplante Produktionsmenge pro Jahr | C18: =IF(OR(D11="50: Wasserstoff",D11="51: Synthesegas", D11="Brennstoffeinsatz", D11="Wärmebereitstellung und Brennstoffeinsatz"),"ME Vorprodukt","ME Produkt") -> ME Produkt | D18: =D11 -> - nicht ausgewählt -
B19: Geplante Produktionsmenge pro Jahr | C19: =IF(OR(E11="50: Wasserstoff",E11="51: Synthesegas", E11="Brennstoffeinsatz", E11="Wärmebereitstellung und Brennstoffeinsatz"),"ME Vorprodukt","ME Produkt") -> ME Produkt | D19: =E11 -> - nicht ausgewählt -
B20: Geplante Produktionsmenge pro Jahr | C20: =IF(OR(F11="50: Wasserstoff",F11="51: Synthesegas", F11="Brennstoffeinsatz", F11="Wärmebereitstellung und Brennstoffeinsatz"),"ME Vorprodukt","ME Produkt") -> ME Produkt | D20: =F11 -> - nicht ausgewählt -
B21: Geplante Produktionsmenge pro Jahr | C21: =IF(OR(G11="50: Wasserstoff",G11="51: Synthesegas", G11="Brennstoffeinsatz", G11="Wärmebereitstellung und Brennstoffeinsatz"),"ME Vorprodukt","ME Produkt") -> ME Produkt | D21: =G11 -> - nicht ausgewählt -
B22: Geplante Produktionsmenge pro Jahr | C22: =IF(OR(H11="50: Wasserstoff",H11="51: Synthesegas", H11="Brennstoffeinsatz", H11="Wärmebereitstellung und Brennstoffeinsatz"),"ME Vorprodukt","ME Produkt") -> ME Produkt | D22: =H11 -> - nicht ausgewählt -
B23: Geplante Produktionsmenge pro Jahr | C23: =IF(OR(I11="50: Wasserstoff",I11="51: Synthesegas", I11="Brennstoffeinsatz", I11="Wärmebereitstellung und Brennstoffeinsatz"),"ME Vorprodukt","ME Produkt") -> ME Produkt | D23: =I11 -> - nicht ausgewählt -
B26: Zusätzliche Angaben bei vorgelagertem Referenzsystem Wasserstoff | C26: =IF(OR(C11="50: Wasserstoff",D11="50: Wasserstoff",E11="50: Wasserstoff",F11="50: Wasserstoff",G11="50: Wasserstoff",H11="50: Wasserstoff",I11="50: Wasserstoff"),"50: Wasserstoff","")
B27: Parameter | C27: Einheit | D27: =IF($C$26="50: Wasserstoff",_xlfn.CONCAT("Industrieprodukt ",_xlfn.XLOOKUP($C$26,'3b) Referenzsysteme'!$W$6:$W$12,'3b) Referenzsysteme'!$X$6:$X$12),"a"),"") | E27: =IF($C$26="50: Wasserstoff",_xlfn.CONCAT("Industrieprodukt ",_xlfn.XLOOKUP($C$26,'3b) Referenzsysteme'!$W$6:$W$12,'3b) Referenzsysteme'!$X$6:$X$12),"b"),"") | F27: =IF($C$26="50: Wasserstoff",_xlfn.CONCAT("Industrieprodukt ",_xlfn.XLOOKUP($C$26,'3b) Referenzsysteme'!$W$6:$W$12,'3b) Referenzsysteme'!$X$6:$X$12),"c"),"") | G27: =IF($C$26="50: Wasserstoff",_xlfn.CONCAT("Industrieprodukt ",_xlfn.XLOOKUP($C$26,'3b) Referenzsysteme'!$W$6:$W$12,'3b) Referenzsysteme'!$X$6:$X$12),"d"),"")
B28: Name des Industrieprodukts | C28: -
B29: Einheit des Industrieprodukts | C29: -
B30: Produktemissionen | C30: t CO2-Äq./ME Produkt
B31: Produktionsmenge je gefördertem Produkt | C31: Einheit | D31: Industrieprodukt | E31: =YEAR('2b) Allg. Inputs'!$C$8) -> 1900 | F31: =E31+1 -> 1901 | G31: =F31+1 -> 1902 | H31: =G31+1 -> 1903 | I31: =H31+1 -> 1904 | J31: =I31+1 -> 1905 | K31: =J31+1 -> 1906 | L31: =K31+1 -> 1907 | M31: =L31+1 -> 1908 | ... R31: =Q31+1 -> 1913 | S31: =IF('4c) Berechnungen_MFS'!E99 = "Nein",R31+1, R31+1&" 1. Teil-KJ") -> 1914 | T31: =IF('4c) Berechnungen_MFS'!E99 = "Nein","", R31+1&" 2. Teil-KJ") | U31: =IF('4c) Berechnungen_MFS'!E99="Ja",R31+2,"")
B32: Geplante Produktionsmenge pro Jahr | C32: ME Produkt | D32: =IF(D28="","",D28)
B33: Spezifische Einsatzmenge Vorprodukt | C33: ME Vorprodukt / ME Produkt | E33: =IFERROR('4a) Berechnungen zu Planwerten'!E166,0) -> 0 | F33: =IFERROR('4a) Berechnungen zu Planwerten'!F166,0) -> 0 | G33: =IFERROR('4a) Berechnungen zu Planwerten'!G166,0) -> 0 | H33: =IFERROR('4a) Berechnungen zu Planwerten'!H166,0) -> 0 | I33: =IFERROR('4a) Berechnungen zu Planwerten'!I166,0) -> 0 | J33: =IFERROR('4a) Berechnungen zu Planwerten'!J166,0) -> 0 | K33: =IFERROR('4a) Berechnungen zu Planwerten'!K166,0) -> 0 | L33: =IFERROR('4a) Berechnungen zu Planwerten'!L166,0) -> 0 | ... U33: =IFERROR('4a) Berechnungen zu Planwerten'!U166,0) -> 0
B34: Geplante Produktionsmenge pro Jahr | C34: ME Produkt | D34: =IF(E28="","",E28)
B35: Spezifische Einsatzmenge Vorprodukt | C35: ME Vorprodukt / ME Produkt | E35: =IFERROR('4a) Berechnungen zu Planwerten'!E167,0) -> 0 | F35: =IFERROR('4a) Berechnungen zu Planwerten'!F167,0) -> 0 | G35: =IFERROR('4a) Berechnungen zu Planwerten'!G167,0) -> 0 | H35: =IFERROR('4a) Berechnungen zu Planwerten'!H167,0) -> 0 | I35: =IFERROR('4a) Berechnungen zu Planwerten'!I167,0) -> 0 | J35: =IFERROR('4a) Berechnungen zu Planwerten'!J167,0) -> 0 | K35: =IFERROR('4a) Berechnungen zu Planwerten'!K167,0) -> 0 | L35: =IFERROR('4a) Berechnungen zu Planwerten'!L167,0) -> 0 | ... U35: =IFERROR('4a) Berechnungen zu Planwerten'!U167,0) -> 0
B36: Geplante Produktionsmenge pro Jahr | C36: ME Produkt | D36: =IF(F28="","",F28)
B37: Spezifische Einsatzmenge Vorprodukt | C37: ME Vorprodukt / ME Produkt | E37: =IFERROR('4a) Berechnungen zu Planwerten'!E168,0) -> 0 | F37: =IFERROR('4a) Berechnungen zu Planwerten'!F168,0) -> 0 | G37: =IFERROR('4a) Berechnungen zu Planwerten'!G168,0) -> 0 | H37: =IFERROR('4a) Berechnungen zu Planwerten'!H168,0) -> 0 | I37: =IFERROR('4a) Berechnungen zu Planwerten'!I168,0) -> 0 | J37: =IFERROR('4a) Berechnungen zu Planwerten'!J168,0) -> 0 | K37: =IFERROR('4a) Berechnungen zu Planwerten'!K168,0) -> 0 | L37: =IFERROR('4a) Berechnungen zu Planwerten'!L168,0) -> 0 | ... U37: =IFERROR('4a) Berechnungen zu Planwerten'!U168,0) -> 0
B38: Geplante Produktionsmenge pro Jahr | C38: ME Produkt | D38: =IF(G28="","",G28)
B39: Spezifische Einsatzmenge Vorprodukt | C39: ME Vorprodukt / ME Produkt | E39: =IFERROR('4a) Berechnungen zu Planwerten'!E169,0) -> 0 | F39: =IFERROR('4a) Berechnungen zu Planwerten'!F169,0) -> 0 | G39: =IFERROR('4a) Berechnungen zu Planwerten'!G169,0) -> 0 | H39: =IFERROR('4a) Berechnungen zu Planwerten'!H169,0) -> 0 | I39: =IFERROR('4a) Berechnungen zu Planwerten'!I169,0) -> 0 | J39: =IFERROR('4a) Berechnungen zu Planwerten'!J169,0) -> 0 | K39: =IFERROR('4a) Berechnungen zu Planwerten'!K169,0) -> 0 | L39: =IFERROR('4a) Berechnungen zu Planwerten'!L169,0) -> 0 | ... U39: =IFERROR('4a) Berechnungen zu Planwerten'!U169,0) -> 0
B42: Zusätzliche Angaben bei vorgelagertem Referenzsystem Synthesegas | C42: =IF(OR(C11="51: Synthesegas",D11="51: Synthesegas",E11="51: Synthesegas",F11="51: Synthesegas",G11="51: Synthesegas",H11="51: Synthesegas",I11="51: Synthesegas"),"51: Synthesegas","")
B43: Parameter | C43: Einheit | D43: =IF($C$42="51: Synthesegas",_xlfn.CONCAT("Industrieprodukt ",_xlfn.XLOOKUP($C$42,'3b) Referenzsysteme'!$W$6:$W$12,'3b) Referenzsysteme'!$X$6:$X$12),"a"),"") | E43: =IF($C$42="51: Synthesegas",_xlfn.CONCAT("Industrieprodukt ",_xlfn.XLOOKUP($C$42,'3b) Referenzsysteme'!$W$6:$W$12,'3b) Referenzsysteme'!$X$6:$X$12),"b"),"") | F43: =IF($C$42="51: Synthesegas",_xlfn.CONCAT("Industrieprodukt ",_xlfn.XLOOKUP($C$42,'3b) Referenzsysteme'!$W$6:$W$12,'3b) Referenzsysteme'!$X$6:$X$12),"c"),"") | G43: =IF($C$42="51: Synthesegas",_xlfn.CONCAT("Industrieprodukt ",_xlfn.XLOOKUP($C$42,'3b) Referenzsysteme'!$W$6:$W$12,'3b) Referenzsysteme'!$X$6:$X$12),"d"),"")
B44: Name des Industrieprodukts | C44: -
B45: Einheit des Industrieprodukts | C45: -
B46: Produktemissionen | C46: t CO2-Äq./ME Produkt
B47: Produktionsmenge je gefördertem Produkt | C47: Einheit | D47: Industrieprodukt | E47: =YEAR('2b) Allg. Inputs'!$C$8) -> 1900 | F47: =E47+1 -> 1901 | G47: =F47+1 -> 1902 | H47: =G47+1 -> 1903 | I47: =H47+1 -> 1904 | J47: =I47+1 -> 1905 | K47: =J47+1 -> 1906 | L47: =K47+1 -> 1907 | M47: =L47+1 -> 1908 | ... R47: =Q47+1 -> 1913 | S47: =IF('4c) Berechnungen_MFS'!E99 = "Nein",R47+1, R47+1&" 1. Teil-KJ") -> 1914 | T47: =IF('4c) Berechnungen_MFS'!E99 = "Nein","", R47+1&" 2. Teil-KJ") | U47: =IF('4c) Berechnungen_MFS'!E99="Ja",R47+2,"")
B48: Geplante Produktionsmenge pro Jahr | C48: ME Produkt | D48: =IF(D44="","",D44)
B49: Spezifische Einsatzmenge Vorprodukt | C49: ME Vorprodukt / ME Produkt | E49: =IFERROR('4a) Berechnungen zu Planwerten'!E183,0) -> 0 | F49: =IFERROR('4a) Berechnungen zu Planwerten'!F183,0) -> 0 | G49: =IFERROR('4a) Berechnungen zu Planwerten'!G183,0) -> 0 | H49: =IFERROR('4a) Berechnungen zu Planwerten'!H183,0) -> 0 | I49: =IFERROR('4a) Berechnungen zu Planwerten'!I183,0) -> 0 | J49: =IFERROR('4a) Berechnungen zu Planwerten'!J183,0) -> 0 | K49: =IFERROR('4a) Berechnungen zu Planwerten'!K183,0) -> 0 | L49: =IFERROR('4a) Berechnungen zu Planwerten'!L183,0) -> 0 | ... U49: =IFERROR('4a) Berechnungen zu Planwerten'!U183,0) -> 0
B50: Geplante Produktionsmenge pro Jahr | C50: ME Produkt | D50: =IF(E44="","",E44)
B51: Spezifische Einsatzmenge Vorprodukt | C51: ME Vorprodukt / ME Produkt | E51: =IFERROR('4a) Berechnungen zu Planwerten'!E184,0) -> 0 | F51: =IFERROR('4a) Berechnungen zu Planwerten'!F184,0) -> 0 | G51: =IFERROR('4a) Berechnungen zu Planwerten'!G184,0) -> 0 | H51: =IFERROR('4a) Berechnungen zu Planwerten'!H184,0) -> 0 | I51: =IFERROR('4a) Berechnungen zu Planwerten'!I184,0) -> 0 | J51: =IFERROR('4a) Berechnungen zu Planwerten'!J184,0) -> 0 | K51: =IFERROR('4a) Berechnungen zu Planwerten'!K184,0) -> 0 | L51: =IFERROR('4a) Berechnungen zu Planwerten'!L184,0) -> 0 | ... U51: =IFERROR('4a) Berechnungen zu Planwerten'!U184,0) -> 0
B52: Geplante Produktionsmenge pro Jahr | C52: ME Produkt | D52: =IF(F44="","",F44)
B53: Spezifische Einsatzmenge Vorprodukt | C53: ME Vorprodukt / ME Produkt | E53: =IFERROR('4a) Berechnungen zu Planwerten'!E185,0) -> 0 | F53: =IFERROR('4a) Berechnungen zu Planwerten'!F185,0) -> 0 | G53: =IFERROR('4a) Berechnungen zu Planwerten'!G185,0) -> 0 | H53: =IFERROR('4a) Berechnungen zu Planwerten'!H185,0) -> 0 | I53: =IFERROR('4a) Berechnungen zu Planwerten'!I185,0) -> 0 | J53: =IFERROR('4a) Berechnungen zu Planwerten'!J185,0) -> 0 | K53: =IFERROR('4a) Berechnungen zu Planwerten'!K185,0) -> 0 | L53: =IFERROR('4a) Berechnungen zu Planwerten'!L185,0) -> 0 | ... U53: =IFERROR('4a) Berechnungen zu Planwerten'!U185,0) -> 0
B54: Geplante Produktionsmenge pro Jahr | C54: ME Produkt | D54: =IF(G44="","",G44)
B55: Spezifische Einsatzmenge Vorprodukt | C55: ME Vorprodukt / ME Produkt | E55: =IFERROR('4a) Berechnungen zu Planwerten'!E186,0) -> 0 | F55: =IFERROR('4a) Berechnungen zu Planwerten'!F186,0) -> 0 | G55: =IFERROR('4a) Berechnungen zu Planwerten'!G186,0) -> 0 | H55: =IFERROR('4a) Berechnungen zu Planwerten'!H186,0) -> 0 | I55: =IFERROR('4a) Berechnungen zu Planwerten'!I186,0) -> 0 | J55: =IFERROR('4a) Berechnungen zu Planwerten'!J186,0) -> 0 | K55: =IFERROR('4a) Berechnungen zu Planwerten'!K186,0) -> 0 | L55: =IFERROR('4a) Berechnungen zu Planwerten'!L186,0) -> 0 | ... U55: =IFERROR('4a) Berechnungen zu Planwerten'!U186,0) -> 0
B58: Zusätzliche Angaben bei vorgelagertem Referenzsystem Wärmebereitstellung und Brennstoffeinsatz | C58: =IF(OR(C11="Wärmebereitstellung und Brennstoffeinsatz",D11="Wärmebereitstellung und Brennstoffeinsatz",E11="Wärmebereitstellung und Brennstoffeinsatz",F11="Wärmebereitstellung und Brennstoffeinsatz",G11="Wärmebereitstellung und Brennstoffeinsatz",H11="Wärmebereitstellung und Brennstoffeinsatz",I11="Wärmebereitstellung und Brennstoffeinsatz"),"Wärmebereitstellung und Brennstoffeinsatz","")
B59: Parameter | C59: Einheit | D59: =IF($C$58="Wärmebereitstellung und Brennstoffeinsatz",_xlfn.CONCAT("Industrieprodukt ",_xlfn.XLOOKUP($C$58,'3b) Referenzsysteme'!$W$6:$W$12,'3b) Referenzsysteme'!$X$6:$X$12),"a"),"") | E59: =IF($C$58="Wärmebereitstellung und Brennstoffeinsatz",_xlfn.CONCAT("Industrieprodukt ",_xlfn.XLOOKUP($C$58,'3b) Referenzsysteme'!$W$6:$W$12,'3b) Referenzsysteme'!$X$6:$X$12),"b"),"") | F59: =IF($C$58="Wärmebereitstellung und Brennstoffeinsatz",_xlfn.CONCAT("Industrieprodukt ",_xlfn.XLOOKUP($C$58,'3b) Referenzsysteme'!$W$6:$W$12,'3b) Referenzsysteme'!$X$6:$X$12),"c"),"") | G59: =IF($C$58="Wärmebereitstellung und Brennstoffeinsatz",_xlfn.CONCAT("Industrieprodukt ",_xlfn.XLOOKUP($C$58,'3b) Referenzsysteme'!$W$6:$W$12,'3b) Referenzsysteme'!$X$6:$X$12),"d"),"")
B60: Name des Industrieprodukts | C60: -
B61: Einheit des Industrieprodukts | C61: -
B62: Produktemissionen | C62: t CO2-Äq./ME Produkt
B63: Produktionsmenge je gefördertem Produkt | C63: Einheit | D63: Industrieprodukt | E63: =YEAR('2b) Allg. Inputs'!$C$8) -> 1900 | F63: =E63+1 -> 1901 | G63: =F63+1 -> 1902 | H63: =G63+1 -> 1903 | I63: =H63+1 -> 1904 | J63: =I63+1 -> 1905 | K63: =J63+1 -> 1906 | L63: =K63+1 -> 1907 | M63: =L63+1 -> 1908 | ... R63: =Q63+1 -> 1913 | S63: =IF('4c) Berechnungen_MFS'!E99 = "Nein",R63+1, R63+1&" 1. Teil-KJ") -> 1914 | T63: =IF('4c) Berechnungen_MFS'!E99 = "Nein","", R63+1&" 2. Teil-KJ") | U63: =IF('4c) Berechnungen_MFS'!E99="Ja",R63+2,"")
B64: Geplante Produktionsmenge pro Jahr | C64: ME Produkt | D64: =IF(D60="","",D60)
B65: Spezifische Einsatzmenge Vorprodukt | C65: ME Vorprodukt / ME Produkt | E65: =IFERROR('4a) Berechnungen zu Planwerten'!E200,0) -> 0 | F65: =IFERROR('4a) Berechnungen zu Planwerten'!F200,0) -> 0 | G65: =IFERROR('4a) Berechnungen zu Planwerten'!G200,0) -> 0 | H65: =IFERROR('4a) Berechnungen zu Planwerten'!H200,0) -> 0 | I65: =IFERROR('4a) Berechnungen zu Planwerten'!I200,0) -> 0 | J65: =IFERROR('4a) Berechnungen zu Planwerten'!J200,0) -> 0 | K65: =IFERROR('4a) Berechnungen zu Planwerten'!K200,0) -> 0 | L65: =IFERROR('4a) Berechnungen zu Planwerten'!L200,0) -> 0 | ... U65: =IFERROR('4a) Berechnungen zu Planwerten'!U200,0) -> 0
B66: Geplante Produktionsmenge pro Jahr | C66: ME Produkt | D66: =IF(E60="","",E60)
B67: Spezifische Einsatzmenge Vorprodukt | C67: ME Vorprodukt / ME Produkt | E67: =IFERROR('4a) Berechnungen zu Planwerten'!E201,0) -> 0 | F67: =IFERROR('4a) Berechnungen zu Planwerten'!F201,0) -> 0 | G67: =IFERROR('4a) Berechnungen zu Planwerten'!G201,0) -> 0 | H67: =IFERROR('4a) Berechnungen zu Planwerten'!H201,0) -> 0 | I67: =IFERROR('4a) Berechnungen zu Planwerten'!I201,0) -> 0 | J67: =IFERROR('4a) Berechnungen zu Planwerten'!J201,0) -> 0 | K67: =IFERROR('4a) Berechnungen zu Planwerten'!K201,0) -> 0 | L67: =IFERROR('4a) Berechnungen zu Planwerten'!L201,0) -> 0 | ... U67: =IFERROR('4a) Berechnungen zu Planwerten'!U201,0) -> 0
B68: Geplante Produktionsmenge pro Jahr | C68: ME Produkt | D68: =IF(F60="","",F60)
B69: Spezifische Einsatzmenge Vorprodukt | C69: ME Vorprodukt / ME Produkt | E69: =IFERROR('4a) Berechnungen zu Planwerten'!E202,0) -> 0 | F69: =IFERROR('4a) Berechnungen zu Planwerten'!F202,0) -> 0 | G69: =IFERROR('4a) Berechnungen zu Planwerten'!G202,0) -> 0 | H69: =IFERROR('4a) Berechnungen zu Planwerten'!H202,0) -> 0 | I69: =IFERROR('4a) Berechnungen zu Planwerten'!I202,0) -> 0 | J69: =IFERROR('4a) Berechnungen zu Planwerten'!J202,0) -> 0 | K69: =IFERROR('4a) Berechnungen zu Planwerten'!K202,0) -> 0 | L69: =IFERROR('4a) Berechnungen zu Planwerten'!L202,0) -> 0 | ... U69: =IFERROR('4a) Berechnungen zu Planwerten'!U202,0) -> 0
B70: Geplante Produktionsmenge pro Jahr | C70: ME Produkt | D70: =IF(G60="","",G60)
B71: Spezifische Einsatzmenge Vorprodukt | C71: ME Vorprodukt / ME Produkt | E71: =IFERROR('4a) Berechnungen zu Planwerten'!E203,0) -> 0 | F71: =IFERROR('4a) Berechnungen zu Planwerten'!F203,0) -> 0 | G71: =IFERROR('4a) Berechnungen zu Planwerten'!G203,0) -> 0 | H71: =IFERROR('4a) Berechnungen zu Planwerten'!H203,0) -> 0 | I71: =IFERROR('4a) Berechnungen zu Planwerten'!I203,0) -> 0 | J71: =IFERROR('4a) Berechnungen zu Planwerten'!J203,0) -> 0 | K71: =IFERROR('4a) Berechnungen zu Planwerten'!K203,0) -> 0 | L71: =IFERROR('4a) Berechnungen zu Planwerten'!L203,0) -> 0 | ... U71: =IFERROR('4a) Berechnungen zu Planwerten'!U203,0) -> 0
B74: Vorhabensspezifische absolute Angaben
B75: Absolute Energieträgereinsätze (Heizwert Hi) für das Gesamtvorhaben | C75: Einheit | D75: Typ Wasserstoffderivat | E75: =YEAR('2b) Allg. Inputs'!$C$8) -> 1900 | F75: =E75+1 -> 1901 | G75: =F75+1 -> 1902 | H75: =G75+1 -> 1903 | I75: =H75+1 -> 1904 | J75: =I75+1 -> 1905 | K75: =J75+1 -> 1906 | L75: =K75+1 -> 1907 | M75: =L75+1 -> 1908 | ... R75: =Q75+1 -> 1913 | S75: =IF('4c) Berechnungen_MFS'!$E$99 = "Nein",R75+1, R75+1&" 1. Teil-KJ") -> 1914 | T75: =IF('4c) Berechnungen_MFS'!$E$99 = "Nein","", R75+1&" 2. Teil-KJ") | U75: =IF('4c) Berechnungen_MFS'!$E$99="Ja",R75+2,"")
B76: Strom | C76: MWh/Jahr | D76: -
B77: Erneuerbarer Wasserstoff gemäß Nummer 2.14 FRL CCfD | C77: MWh/Jahr | D77: -
B78: CO2-armer Wasserstoff gemäß Nummer 2.11 FRL CCfD | C78: MWh/Jahr | D78: -
B79: Erdgas gemäß Nummer 4.13 FRL CCfD | C79: MWh/Jahr | D79: -
B80: Biomasse gemäß Nummern 4.10 & 4.11 FRL CCfD einschließlich biogener Wasserstoff und biogene Wasserstoffderivate (gasförmig) gemäß Nummer 2.9 FRL CCfD | C80: MWh/Jahr | D80: -
B81: Biomasse gemäß Nummern 4.10 & 4.11 FRL CCfD einschließlich biogener Wasserstoff und biogene Wasserstoffderivate (fest/flüssig) gemäß Nummer 2.9 FRL CCfD | C81: MWh/Jahr | D81: -
B82: Wiederverwertete kohlenstoffhaltige Brennstoffe (RCFs) gemäß Nummer 4.12 FRL CCfD | C82: MWh/Jahr | D82: -
B83: - bitte Wasserstoffderivat benennen - | C83: MWh/Jahr | D83: - nicht ausgewählt -
B84: - bitte Wasserstoffderivat benennen - | C84: MWh/Jahr | D84: - nicht ausgewählt -
B85: - bitte Wasserstoffderivat benennen - | C85: MWh/Jahr | D85: - nicht ausgewählt -
B86: - bitte Wasserstoffderivat benennen - | C86: MWh/Jahr | D86: - nicht ausgewählt -
B87: Absolute Energieträgereinsätze (Heizwert Hi) für umweltschädlichste fossile Brennstoffe gemäß Nummer 4.14 FRL CCfD | E87: =YEAR('2b) Allg. Inputs'!$C$8) -> 1900 | F87: =E87+1 -> 1901 | G87: =F87+1 -> 1902 | H87: =G87+1 -> 1903 | I87: =H87+1 -> 1904 | J87: =I87+1 -> 1905 | K87: =J87+1 -> 1906 | L87: =K87+1 -> 1907 | M87: =L87+1 -> 1908 | ... R87: =Q87+1 -> 1913 | S87: =IF('4c) Berechnungen_MFS'!E99 = "Nein",R87+1, R87+1&" 1. Teil-KJ") -> 1914 | T87: =IF('4c) Berechnungen_MFS'!E99 = "Nein","", R87+1&" 2. Teil-KJ") | U87: =IF('4c) Berechnungen_MFS'!E99="Ja",R87+2,"")
B88: Kokskohle | C88: MWh/Jahr | D88: -
B89: Kesselkohle | C89: MWh/Jahr | D89: -
B90: - bitte weitere umweltschädlichste Energieträger hier benennen - | C90: MWh/Jahr | D90: -
B91: - bitte weitere umweltschädlichste Energieträger hier benennen - | C91: MWh/Jahr | D91: -
B92: - bitte weitere umweltschädlichste Energieträger hier benennen - | C92: MWh/Jahr | D92: -
B93: - bitte weitere umweltschädlichste Energieträger hier benennen - | C93: MWh/Jahr | D93: -
B94: Absolute Energieträgereinsätze (Heizwert Hi) für den Einsatz von Abfall als Energieträger | D94: Art oder Ursprung des Abfalls | E94: =YEAR('2b) Allg. Inputs'!$C$8) -> 1900 | F94: =E94+1 -> 1901 | G94: =F94+1 -> 1902 | H94: =G94+1 -> 1903 | I94: =H94+1 -> 1904 | J94: =I94+1 -> 1905 | K94: =J94+1 -> 1906 | L94: =K94+1 -> 1907 | M94: =L94+1 -> 1908 | ... R94: =Q94+1 -> 1913 | S94: =IF('4c) Berechnungen_MFS'!$E$99 = "Nein",R94+1, R94+1&" 1. Teil-KJ") -> 1914 | T94: =IF('4c) Berechnungen_MFS'!$E$99 = "Nein","", R94+1&" 2. Teil-KJ") | U94: =IF('4c) Berechnungen_MFS'!$E$99="Ja",R94+2,"")
B95: - bitte Abfallart benennen - | C95: MWh/Jahr | D95: - nicht ausgewählt -
B96: - bitte Abfallart benennen - | C96: MWh/Jahr | D96: - nicht ausgewählt -
B97: - bitte Abfallart benennen - | C97: MWh/Jahr | D97: - nicht ausgewählt -
B98: - bitte Abfallart benennen - | C98: MWh/Jahr | D98: - nicht ausgewählt -
B99: - bitte Abfallart benennen - | C99: MWh/Jahr | D99: - nicht ausgewählt -
B100: - bitte Abfallart benennen - | C100: MWh/Jahr | D100: - nicht ausgewählt -
B101: Absolute Energieträgereinsätze (Heizwert Hi) anderer konventioneller Energieträger | E101: =YEAR('2b) Allg. Inputs'!$C$8) -> 1900 | F101: =E101+1 -> 1901 | G101: =F101+1 -> 1902 | H101: =G101+1 -> 1903 | I101: =H101+1 -> 1904 | J101: =I101+1 -> 1905 | K101: =J101+1 -> 1906 | L101: =K101+1 -> 1907 | M101: =L101+1 -> 1908 | ... R101: =Q101+1 -> 1913 | S101: =IF('4c) Berechnungen_MFS'!$E$99 = "Nein",R101+1, R101+1&" 1. Teil-KJ") -> 1914 | T101: =IF('4c) Berechnungen_MFS'!$E$99 = "Nein","", R101+1&" 2. Teil-KJ") | U101: =IF('4c) Berechnungen_MFS'!$E$99="Ja",R101+2,"")
B102: - bitte Energieträger benennen - | C102: MWh/Jahr | D102: -
B103: - bitte Energieträger benennen - | C103: MWh/Jahr | D103: -
B104: - bitte Energieträger benennen - | C104: MWh/Jahr | D104: -
B105: - bitte Energieträger benennen - | C105: MWh/Jahr | D105: -
B106: - bitte Energieträger benennen - | C106: MWh/Jahr | D106: -
B107: - bitte Energieträger benennen - | C107: MWh/Jahr | D107: -
B108: Absolute Energieträgereinsätze (Heizwert Hi) für die Herstellung von stofflich genutzten Wasserstoffderivaten | D108: - | E108: =YEAR('2b) Allg. Inputs'!$C$8) -> 1900 | F108: =E108+1 -> 1901 | G108: =F108+1 -> 1902 | H108: =G108+1 -> 1903 | I108: =H108+1 -> 1904 | J108: =I108+1 -> 1905 | K108: =J108+1 -> 1906 | L108: =K108+1 -> 1907 | M108: =L108+1 -> 1908 | ... R108: =Q108+1 -> 1913 | S108: =IF('4c) Berechnungen_MFS'!E99 = "Nein",R108+1, R108+1&" 1. Teil-KJ") -> 1914 | T108: =IF('4c) Berechnungen_MFS'!E99 = "Nein","", R108+1&" 2. Teil-KJ") | U108: =IF('4c) Berechnungen_MFS'!E99="Ja",R108+2,"")
B109: Strom für die Produktion von Wasserstoffderivaten | C109: MWh/Jahr | D109: -
B110: Erneuerbarer Wasserstoff für die Produktion von Wasserstoffderivaten | C110: MWh/Jahr | D110: -
B111: CO2-armer Wasserstoff für die Produktion von Wasserstoffderivaten | C111: MWh/Jahr | D111: -
B112: Erdgas für die Produktion von Wasserstoffderivaten | C112: MWh/Jahr | D112: -
B113: Biomasse (gasförmig) für die Produktion von Wasserstoffderivaten | C113: MWh/Jahr
B114: Biomasse (fest/flüssig) für die Produktion von Wasserstoffderivaten | C114: MWh/Jahr | D114: -
B115: Wiederverwertete kohlenstoffhaltige Brennstoffe gemäß Nummer 4.12 FRL CCfD für die Produktion von Wasserstoffderivaten | C115: MWh/Jahr | D115: -
B116: - Sonstige Energieträger benennen - | C116: MWh/Jahr | D116: -
...

Sheet 2e) Realisierte Werte (Anlage)
B2: Realisierte Werte des Vorhabens
B3: Auf diesem Tabellenblatt werden die realisierten Verbrauchsparameter des Vorhabens eingetragen.
B5: Abweichung von geplanten Verbrauchsparametern
B6: Wird erwartet, dass realisierte Verbrauchsparameter von geplanten Verbrauchsparametern abweichen? | C6: Nein | F6: =IF(C6="Ja","Bitte füllen Sie dieses Tabellenblatt zu realisierten Verbrauchsparametern aus.","Bitte füllen Sie dieses Tabellenblatt nicht aus.") -> Bitte füllen Sie dieses Tabellenblatt nicht aus.
B9: Referenz
B10: Parameter | C10: Referenzsystem 1 | D10: Referenzsystem 2 (optional) | E10: Referenzsystem 3 (optional) | F10: Referenzsystem 4 (optional) | G10: Referenzsystem 5 (optional) | H10: Referenzsystem 6 (optional) | I10: Referenzsystem 7 (optional)
B11: Referenz auf die sich bezogen wird | C11: =IF($C$6="Ja",'2d) Planwerte (Anlage)'!C11,"- nicht ausgewählt -") -> - nicht ausgewählt - | D11: =IF($C$6="Ja",'2d) Planwerte (Anlage)'!D11,"- nicht ausgewählt -") -> - nicht ausgewählt - | E11: =IF($C$6="Ja",'2d) Planwerte (Anlage)'!E11,"- nicht ausgewählt -") -> - nicht ausgewählt - | F11: =IF($C$6="Ja",'2d) Planwerte (Anlage)'!F11,"- nicht ausgewählt -") -> - nicht ausgewählt - | G11: =IF($C$6="Ja",'2d) Planwerte (Anlage)'!G11,"- nicht ausgewählt -") -> - nicht ausgewählt - | H11: =IF($C$6="Ja",'2d) Planwerte (Anlage)'!H11,"- nicht ausgewählt -") -> - nicht ausgewählt - | I11: =IF($C$6="Ja",'2d) Planwerte (Anlage)'!I11,"- nicht ausgewählt -") -> - nicht ausgewählt -
B12: Spezifische Emissionen (t CO2-Äq./ME (Vor)-Produkt) | C12: =IF($C$6="Ja",'2d) Planwerte (Anlage)'!C12,"") | D12: =IF($C$6="Ja",'2d) Planwerte (Anlage)'!D12,"") | E12: =IF($C$6="Ja",'2d) Planwerte (Anlage)'!E12,"") | F12: =IF($C$6="Ja",'2d) Planwerte (Anlage)'!F12,"") | G12: =IF($C$6="Ja",'2d) Planwerte (Anlage)'!G12,"") | H12: =IF($C$6="Ja",'2d) Planwerte (Anlage)'!H12,"") | I12: =IF($C$6="Ja",'2d) Planwerte (Anlage)'!I12,"")
B15: Produktionsmengen Vorhaben (abgerechnetes Produkt)
B16: Produktionsmenge je Referenzsystem | C16: Einheit | D16: Referenzsystem | E16: =YEAR('2b) Allg. Inputs'!$C$8) -> 1900 | F16: =E16+1 -> 1901 | G16: =F16+1 -> 1902 | H16: =G16+1 -> 1903 | I16: =H16+1 -> 1904 | J16: =I16+1 -> 1905 | K16: =J16+1 -> 1906 | L16: =K16+1 -> 1907 | M16: =L16+1 -> 1908 | ... R16: =Q16+1 -> 1913 | S16: =IF('4c) Berechnungen_MFS'!E99 = "Nein",R16+1, R16+1&" 1. Teil-KJ") -> 1914 | T16: =IF('4c) Berechnungen_MFS'!E99 = "Nein","", R16+1&" 2. Teil-KJ") | U16: =IF('4c) Berechnungen_MFS'!E99="Ja",R16+2,"")
B17: Realisierte Produktionsmenge pro Jahr | C17: =IF(OR(C11="50: Wasserstoff",C11="51: Synthesegas", C11="Wärmebereitstellung und Brennstoffeinsatz"),"ME Vorprodukt","ME Produkt") -> ME Produkt | D17: =C11 -> - nicht ausgewählt -
B18: Realisierte Produktionsmenge pro Jahr | C18: =IF(OR(D11="50: Wasserstoff",D11="51: Synthesegas",D11="Wärmebereitstellung und Brennstoffeinsatz"),"ME Vorprodukt","ME Produkt") -> ME Produkt | D18: =D11 -> - nicht ausgewählt -
B19: Realisierte Produktionsmenge pro Jahr | C19: =IF(OR(E11="50: Wasserstoff",E11="51: Synthesegas", E11="Wärmebereitstellung und Brennstoffeinsatz"),"ME Vorprodukt","ME Produkt") -> ME Produkt | D19: =E11 -> - nicht ausgewählt -
B20: Realisierte Produktionsmenge pro Jahr | C20: =IF(OR(F11="50: Wasserstoff",F11="51: Synthesegas", F11="Wärmebereitstellung und Brennstoffeinsatz"),"ME Vorprodukt","ME Produkt") -> ME Produkt | D20: =F11 -> - nicht ausgewählt -
B21: Realisierte Produktionsmenge pro Jahr | C21: =IF(OR(G11="50: Wasserstoff",G11="51: Synthesegas", G11="Wärmebereitstellung und Brennstoffeinsatz"),"ME Vorprodukt","ME Produkt") -> ME Produkt | D21: =G11 -> - nicht ausgewählt -
B22: Realisierte Produktionsmenge pro Jahr | C22: =IF(OR(H11="50: Wasserstoff",H11="51: Synthesegas", H11="Wärmebereitstellung und Brennstoffeinsatz"),"ME Vorprodukt","ME Produkt") -> ME Produkt | D22: =H11 -> - nicht ausgewählt -
B23: Realisierte Produktionsmenge pro Jahr | C23: =IF(OR(I11="50: Wasserstoff",I11="51: Synthesegas", I11="Wärmebereitstellung und Brennstoffeinsatz"),"ME Vorprodukt","ME Produkt") -> ME Produkt | D23: =I11 -> - nicht ausgewählt -
B26: Zusätzliche Angaben beim vorgelagerten Referenzsystem Wasserstoff | C26: =IF(OR(C11="50: Wasserstoff",D11="50: Wasserstoff",E11="50: Wasserstoff",F11="50: Wasserstoff",G11="50: Wasserstoff",H11="50: Wasserstoff",I11="50: Wasserstoff"),"50: Wasserstoff","")
B27: Parameter | C27: Einheit | D27: =IF($C$26="50: Wasserstoff",_xlfn.CONCAT("Industrieprodukt ",_xlfn.XLOOKUP($C$26,'3b) Referenzsysteme'!$W$6:$W$12,'3b) Referenzsysteme'!$X$6:$X$12),"a"),"") | E27: =IF($C$26="50: Wasserstoff",_xlfn.CONCAT("Industrieprodukt ",_xlfn.XLOOKUP($C$26,'3b) Referenzsysteme'!$W$6:$W$12,'3b) Referenzsysteme'!$X$6:$X$12),"b"),"") | F27: =IF($C$26="50: Wasserstoff",_xlfn.CONCAT("Industrieprodukt ",_xlfn.XLOOKUP($C$26,'3b) Referenzsysteme'!$W$6:$W$12,'3b) Referenzsysteme'!$X$6:$X$12),"c"),"") | G27: =IF($C$26="50: Wasserstoff",_xlfn.CONCAT("Industrieprodukt ",_xlfn.XLOOKUP($C$26,'3b) Referenzsysteme'!$W$6:$W$12,'3b) Referenzsysteme'!$X$6:$X$12),"d"),"")
B28: Name des Industrieprodukts | C28: - | D28: =IF($C$6="Ja",IF('2d) Planwerte (Anlage)'!D28="", "", '2d) Planwerte (Anlage)'!D28),"") | E28: =IF($C$6="Ja",IF('2d) Planwerte (Anlage)'!E28="", "", '2d) Planwerte (Anlage)'!E28),"") | F28: =IF($C$6="Ja",IF('2d) Planwerte (Anlage)'!F28="", "", '2d) Planwerte (Anlage)'!F28),"") | G28: =IF($C$6="Ja",IF('2d) Planwerte (Anlage)'!G28="", "", '2d) Planwerte (Anlage)'!G28),"")
B29: Einheit des Industrieprodukts | C29: - | D29: =IF($C$6="Ja",IF('2d) Planwerte (Anlage)'!D29="", "", '2d) Planwerte (Anlage)'!D29),"") | E29: =IF($C$6="Ja",IF('2d) Planwerte (Anlage)'!E29="", "", '2d) Planwerte (Anlage)'!E29),"") | F29: =IF($C$6="Ja",IF('2d) Planwerte (Anlage)'!F29="", "", '2d) Planwerte (Anlage)'!F29),"") | G29: =IF($C$6="Ja",IF('2d) Planwerte (Anlage)'!G29="", "", '2d) Planwerte (Anlage)'!G29),"")
B30: Produktemissionen | C30: t CO2-Äq./ME Produkt | D30: =IF($C$6="Ja",IF('2d) Planwerte (Anlage)'!D30="", "", '2d) Planwerte (Anlage)'!D30),"") | E30: =IF($C$6="Ja",IF('2d) Planwerte (Anlage)'!E30="", "", '2d) Planwerte (Anlage)'!E30),"") | F30: =IF($C$6="Ja",IF('2d) Planwerte (Anlage)'!F30="", "", '2d) Planwerte (Anlage)'!F30),"") | G30: =IF($C$6="Ja",IF('2d) Planwerte (Anlage)'!G30="", "", '2d) Planwerte (Anlage)'!G30),"")
B31: Produktionsmenge je gefördertem Produkt | C31: Einheit | D31: Industrieprodukt | E31: =YEAR('2b) Allg. Inputs'!$C$8) -> 1900 | F31: =E31+1 -> 1901 | G31: =F31+1 -> 1902 | H31: =G31+1 -> 1903 | I31: =H31+1 -> 1904 | J31: =I31+1 -> 1905 | K31: =J31+1 -> 1906 | L31: =K31+1 -> 1907 | M31: =L31+1 -> 1908 | ... R31: =Q31+1 -> 1913 | S31: =IF('4c) Berechnungen_MFS'!E99 = "Nein",R31+1, R31+1&" 1. Teil-KJ") -> 1914 | T31: =IF('4c) Berechnungen_MFS'!E99 = "Nein","", R31+1&" 2. Teil-KJ") | U31: =IF('4c) Berechnungen_MFS'!E99="Ja",R31+2,"")
B32: Realisierte Produktionsmenge pro Jahr | C32: ME Produkt | D32: =IF(D28="","",D28)
B33: Spezifische Einsatzmenge Vorprodukt | C33: ME Vorprodukt / ME Produkt | E33: =IFERROR('4a) Berechnungen zu Planwerten'!E166,0) -> 0 | F33: =IFERROR('4a) Berechnungen zu Planwerten'!F166,0) -> 0 | G33: =IFERROR('4a) Berechnungen zu Planwerten'!G166,0) -> 0 | H33: =IFERROR('4a) Berechnungen zu Planwerten'!H166,0) -> 0 | I33: =IFERROR('4a) Berechnungen zu Planwerten'!I166,0) -> 0 | J33: =IFERROR('4a) Berechnungen zu Planwerten'!J166,0) -> 0 | K33: =IFERROR('4a) Berechnungen zu Planwerten'!K166,0) -> 0 | L33: =IFERROR('4a) Berechnungen zu Planwerten'!L166,0) -> 0 | ... U33: =IFERROR('4a) Berechnungen zu Planwerten'!U166,0) -> 0
B34: Realisierte Produktionsmenge pro Jahr | C34: ME Produkt | D34: =IF(E28="","",E28)
B35: Spezifische Einsatzmenge Vorprodukt | C35: ME Vorprodukt / ME Produkt | E35: =IFERROR('4a) Berechnungen zu Planwerten'!E167,0) -> 0 | F35: =IFERROR('4a) Berechnungen zu Planwerten'!F167,0) -> 0 | G35: =IFERROR('4a) Berechnungen zu Planwerten'!G167,0) -> 0 | H35: =IFERROR('4a) Berechnungen zu Planwerten'!H167,0) -> 0 | I35: =IFERROR('4a) Berechnungen zu Planwerten'!I167,0) -> 0 | J35: =IFERROR('4a) Berechnungen zu Planwerten'!J167,0) -> 0 | K35: =IFERROR('4a) Berechnungen zu Planwerten'!K167,0) -> 0 | L35: =IFERROR('4a) Berechnungen zu Planwerten'!L167,0) -> 0 | ... U35: =IFERROR('4a) Berechnungen zu Planwerten'!U167,0) -> 0
B36: Realisierte Produktionsmenge pro Jahr | C36: ME Produkt | D36: =IF(F28="","",F28)
B37: Spezifische Einsatzmenge Vorprodukt | C37: ME Vorprodukt / ME Produkt | E37: =IFERROR('4a) Berechnungen zu Planwerten'!E168,0) -> 0 | F37: =IFERROR('4a) Berechnungen zu Planwerten'!F168,0) -> 0 | G37: =IFERROR('4a) Berechnungen zu Planwerten'!G168,0) -> 0 | H37: =IFERROR('4a) Berechnungen zu Planwerten'!H168,0) -> 0 | I37: =IFERROR('4a) Berechnungen zu Planwerten'!I168,0) -> 0 | J37: =IFERROR('4a) Berechnungen zu Planwerten'!J168,0) -> 0 | K37: =IFERROR('4a) Berechnungen zu Planwerten'!K168,0) -> 0 | L37: =IFERROR('4a) Berechnungen zu Planwerten'!L168,0) -> 0 | ... U37: =IFERROR('4a) Berechnungen zu Planwerten'!U168,0) -> 0
B38: Realisierte Produktionsmenge pro Jahr | C38: ME Produkt | D38: =IF(G28="","",G28)
B39: Spezifische Einsatzmenge Vorprodukt | C39: ME Vorprodukt / ME Produkt | E39: =IFERROR('4a) Berechnungen zu Planwerten'!E169,0) -> 0 | F39: =IFERROR('4a) Berechnungen zu Planwerten'!F169,0) -> 0 | G39: =IFERROR('4a) Berechnungen zu Planwerten'!G169,0) -> 0 | H39: =IFERROR('4a) Berechnungen zu Planwerten'!H169,0) -> 0 | I39: =IFERROR('4a) Berechnungen zu Planwerten'!I169,0) -> 0 | J39: =IFERROR('4a) Berechnungen zu Planwerten'!J169,0) -> 0 | K39: =IFERROR('4a) Berechnungen zu Planwerten'!K169,0) -> 0 | L39: =IFERROR('4a) Berechnungen zu Planwerten'!L169,0) -> 0 | ... U39: =IFERROR('4a) Berechnungen zu Planwerten'!U169,0) -> 0
B42: Zusätzliche Angaben beim vorgelagerten Referenzsystem Synthesegas | C42: =IF(OR(C11="51: Synthesegas",D11="51: Synthesegas",E11="51: Synthesegas",F11="51: Synthesegas",G11="51: Synthesegas",H11="51: Synthesegas",I11="51: Synthesegas"),"51: Synthesegas","")
B43: Parameter | C43: Einheit | D43: =IF($C$42="51: Synthesegas",_xlfn.CONCAT("Industrieprodukt ",_xlfn.XLOOKUP($C$42,'3b) Referenzsysteme'!$W$6:$W$12,'3b) Referenzsysteme'!$X$6:$X$12),"a"),"") | E43: =IF($C$42="51: Synthesegas",_xlfn.CONCAT("Industrieprodukt ",_xlfn.XLOOKUP($C$42,'3b) Referenzsysteme'!$W$6:$W$12,'3b) Referenzsysteme'!$X$6:$X$12),"b"),"") | F43: =IF($C$42="51: Synthesegas",_xlfn.CONCAT("Industrieprodukt ",_xlfn.XLOOKUP($C$42,'3b) Referenzsysteme'!$W$6:$W$12,'3b) Referenzsysteme'!$X$6:$X$12),"c"),"") | G43: =IF($C$42="51: Synthesegas",_xlfn.CONCAT("Industrieprodukt ",_xlfn.XLOOKUP($C$42,'3b) Referenzsysteme'!$W$6:$W$12,'3b) Referenzsysteme'!$X$6:$X$12),"d"),"")
B44: Name des Industrieprodukts | C44: - | D44: =IF($C$6="Ja",IF('2d) Planwerte (Anlage)'!D44="", "", '2d) Planwerte (Anlage)'!D44),"") | E44: =IF($C$6="Ja",IF('2d) Planwerte (Anlage)'!E44="", "", '2d) Planwerte (Anlage)'!E44),"") | F44: =IF($C$6="Ja",IF('2d) Planwerte (Anlage)'!F44="", "", '2d) Planwerte (Anlage)'!F44),"") | G44: =IF($C$6="Ja",IF('2d) Planwerte (Anlage)'!G44="", "", '2d) Planwerte (Anlage)'!G44),"")
B45: Einheit des Industrieprodukts | C45: - | D45: =IF($C$6="Ja",IF('2d) Planwerte (Anlage)'!D45="", "", '2d) Planwerte (Anlage)'!D45),"") | E45: =IF($C$6="Ja",IF('2d) Planwerte (Anlage)'!E45="", "", '2d) Planwerte (Anlage)'!E45),"") | F45: =IF($C$6="Ja",IF('2d) Planwerte (Anlage)'!F45="", "", '2d) Planwerte (Anlage)'!F45),"") | G45: =IF($C$6="Ja",IF('2d) Planwerte (Anlage)'!G45="", "", '2d) Planwerte (Anlage)'!G45),"")
B46: Produktemissionen | C46: t CO2-Äq./ME Produkt | D46: =IF($C$6="Ja",IF('2d) Planwerte (Anlage)'!D46="", "", '2d) Planwerte (Anlage)'!D46),"") | E46: =IF($C$6="Ja",IF('2d) Planwerte (Anlage)'!E46="", "", '2d) Planwerte (Anlage)'!E46),"") | F46: =IF($C$6="Ja",IF('2d) Planwerte (Anlage)'!F46="", "", '2d) Planwerte (Anlage)'!F46),"") | G46: =IF($C$6="Ja",IF('2d) Planwerte (Anlage)'!G46="", "", '2d) Planwerte (Anlage)'!G46),"")
B47: Produktionsmenge je gefördertem Produkt | C47: Einheit | D47: Industrieprodukt | E47: =YEAR('2b) Allg. Inputs'!$C$8) -> 1900 | F47: =E47+1 -> 1901 | G47: =F47+1 -> 1902 | H47: =G47+1 -> 1903 | I47: =H47+1 -> 1904 | J47: =I47+1 -> 1905 | K47: =J47+1 -> 1906 | L47: =K47+1 -> 1907 | M47: =L47+1 -> 1908 | ... R47: =Q47+1 -> 1913 | S47: =IF('4c) Berechnungen_MFS'!E99 = "Nein",R47+1, R47+1&" 1. Teil-KJ") -> 1914 | T47: =IF('4c) Berechnungen_MFS'!E99 = "Nein","", R47+1&" 2. Teil-KJ") | U47: =IF('4c) Berechnungen_MFS'!E99="Ja",R47+2,"")
B48: Realisierte Produktionsmenge pro Jahr | C48: ME Produkt | D48: =IF(D44="","",D44)
B49: Spezifische Einsatzmenge Vorprodukt | C49: ME Vorprodukt / ME Produkt | E49: =IFERROR('4a) Berechnungen zu Planwerten'!E183,0) -> 0 | F49: =IFERROR('4a) Berechnungen zu Planwerten'!F183,0) -> 0 | G49: =IFERROR('4a) Berechnungen zu Planwerten'!G183,0) -> 0 | H49: =IFERROR('4a) Berechnungen zu Planwerten'!H183,0) -> 0 | I49: =IFERROR('4a) Berechnungen zu Planwerten'!I183,0) -> 0 | J49: =IFERROR('4a) Berechnungen zu Planwerten'!J183,0) -> 0 | K49: =IFERROR('4a) Berechnungen zu Planwerten'!K183,0) -> 0 | L49: =IFERROR('4a) Berechnungen zu Planwerten'!L183,0) -> 0 | ... U49: =IFERROR('4a) Berechnungen zu Planwerten'!U183,0) -> 0
B50: Realisierte Produktionsmenge pro Jahr | C50: ME Produkt | D50: =IF(E44="","",E44)
B51: Spezifische Einsatzmenge Vorprodukt | C51: ME Vorprodukt / ME Produkt | E51: =IFERROR('4a) Berechnungen zu Planwerten'!E184,0) -> 0 | F51: =IFERROR('4a) Berechnungen zu Planwerten'!F184,0) -> 0 | G51: =IFERROR('4a) Berechnungen zu Planwerten'!G184,0) -> 0 | H51: =IFERROR('4a) Berechnungen zu Planwerten'!H184,0) -> 0 | I51: =IFERROR('4a) Berechnungen zu Planwerten'!I184,0) -> 0 | J51: =IFERROR('4a) Berechnungen zu Planwerten'!J184,0) -> 0 | K51: =IFERROR('4a) Berechnungen zu Planwerten'!K184,0) -> 0 | L51: =IFERROR('4a) Berechnungen zu Planwerten'!L184,0) -> 0 | ... U51: =IFERROR('4a) Berechnungen zu Planwerten'!U184,0) -> 0
B52: Realisierte Produktionsmenge pro Jahr | C52: ME Produkt | D52: =IF(F44="","",F44)
B53: Spezifische Einsatzmenge Vorprodukt | C53: ME Vorprodukt / ME Produkt | E53: =IFERROR('4a) Berechnungen zu Planwerten'!E185,0) -> 0 | F53: =IFERROR('4a) Berechnungen zu Planwerten'!F185,0) -> 0 | G53: =IFERROR('4a) Berechnungen zu Planwerten'!G185,0) -> 0 | H53: =IFERROR('4a) Berechnungen zu Planwerten'!H185,0) -> 0 | I53: =IFERROR('4a) Berechnungen zu Planwerten'!I185,0) -> 0 | J53: =IFERROR('4a) Berechnungen zu Planwerten'!J185,0) -> 0 | K53: =IFERROR('4a) Berechnungen zu Planwerten'!K185,0) -> 0 | L53: =IFERROR('4a) Berechnungen zu Planwerten'!L185,0) -> 0 | ... U53: =IFERROR('4a) Berechnungen zu Planwerten'!U185,0) -> 0
B54: Realisierte Produktionsmenge pro Jahr | C54: ME Produkt | D54: =IF(G44="","",G44)
B55: Spezifische Einsatzmenge Vorprodukt | C55: ME Vorprodukt / ME Produkt | E55: =IFERROR('4a) Berechnungen zu Planwerten'!E186,0) -> 0 | F55: =IFERROR('4a) Berechnungen zu Planwerten'!F186,0) -> 0 | G55: =IFERROR('4a) Berechnungen zu Planwerten'!G186,0) -> 0 | H55: =IFERROR('4a) Berechnungen zu Planwerten'!H186,0) -> 0 | I55: =IFERROR('4a) Berechnungen zu Planwerten'!I186,0) -> 0 | J55: =IFERROR('4a) Berechnungen zu Planwerten'!J186,0) -> 0 | K55: =IFERROR('4a) Berechnungen zu Planwerten'!K186,0) -> 0 | L55: =IFERROR('4a) Berechnungen zu Planwerten'!L186,0) -> 0 | ... U55: =IFERROR('4a) Berechnungen zu Planwerten'!U186,0) -> 0
B58: Zusätzliche Angaben beim vorgelagerten Referenzsystem Wärmebereitstellung und Brennstoffeinsatz | C58: =IF(OR(C11="Wärmebereitstellung und Brennstoffeinsatz",D11="Wärmebereitstellung und Brennstoffeinsatz",E11="Wärmebereitstellung und Brennstoffeinsatz",F11="Wärmebereitstellung und Brennstoffeinsatz",G11="Wärmebereitstellung und Brennstoffeinsatz",H11="Wärmebereitstellung und Brennstoffeinsatz",I11="Wärmebereitstellung und Brennstoffeinsatz"),"Wärmebereitstellung und Brennstoffeinsatz","")
B59: Parameter | C59: Einheit | D59: =IF($C$58="Wärmebereitstellung und Brennstoffeinsatz",_xlfn.CONCAT("Industrieprodukt ",_xlfn.XLOOKUP($C$58,'3b) Referenzsysteme'!$W$6:$W$12,'3b) Referenzsysteme'!$X$6:$X$12),"a"),"") | E59: =IF($C$58="Wärmebereitstellung und Brennstoffeinsatz",_xlfn.CONCAT("Industrieprodukt ",_xlfn.XLOOKUP($C$58,'3b) Referenzsysteme'!$W$6:$W$12,'3b) Referenzsysteme'!$X$6:$X$12),"b"),"") | F59: =IF($C$58="Wärmebereitstellung und Brennstoffeinsatz",_xlfn.CONCAT("Industrieprodukt ",_xlfn.XLOOKUP($C$58,'3b) Referenzsysteme'!$W$6:$W$12,'3b) Referenzsysteme'!$X$6:$X$12),"c"),"") | G59: =IF($C$58="Wärmebereitstellung und Brennstoffeinsatz",_xlfn.CONCAT("Industrieprodukt ",_xlfn.XLOOKUP($C$58,'3b) Referenzsysteme'!$W$6:$W$12,'3b) Referenzsysteme'!$X$6:$X$12),"d"),"")
B60: Name des Industrieprodukts | C60: - | D60: =IF($C$6="Ja",IF('2d) Planwerte (Anlage)'!D60="", "", '2d) Planwerte (Anlage)'!D60),"") | E60: =IF($C$6="Ja",IF('2d) Planwerte (Anlage)'!E60="", "", '2d) Planwerte (Anlage)'!E60),"") | F60: =IF($C$6="Ja",IF('2d) Planwerte (Anlage)'!F60="", "", '2d) Planwerte (Anlage)'!F60),"") | G60: =IF($C$6="Ja",IF('2d) Planwerte (Anlage)'!G60="", "", '2d) Planwerte (Anlage)'!G60),"")
B61: Einheit des Industrieprodukts | C61: - | D61: =IF($C$6="Ja",IF('2d) Planwerte (Anlage)'!D61="", "", '2d) Planwerte (Anlage)'!D61),"") | E61: =IF($C$6="Ja",IF('2d) Planwerte (Anlage)'!E61="", "", '2d) Planwerte (Anlage)'!E61),"") | F61: =IF($C$6="Ja",IF('2d) Planwerte (Anlage)'!F61="", "", '2d) Planwerte (Anlage)'!F61),"") | G61: =IF($C$6="Ja",IF('2d) Planwerte (Anlage)'!G61="", "", '2d) Planwerte (Anlage)'!G61),"")
B62: Produktemissionen | C62: t CO2-Äq./ME Produkt | D62: =IF($C$6="Ja",IF('2d) Planwerte (Anlage)'!D62="", "", '2d) Planwerte (Anlage)'!D62),"") | E62: =IF($C$6="Ja",IF('2d) Planwerte (Anlage)'!E62="", "", '2d) Planwerte (Anlage)'!E62),"") | F62: =IF($C$6="Ja",IF('2d) Planwerte (Anlage)'!F62="", "", '2d) Planwerte (Anlage)'!F62),"") | G62: =IF($C$6="Ja",IF('2d) Planwerte (Anlage)'!G62="", "", '2d) Planwerte (Anlage)'!G62),"")
B63: Produktionsmenge je gefördertem Produkt | C63: Einheit | D63: Industrieprodukt | E63: =YEAR('2b) Allg. Inputs'!$C$8) -> 1900 | F63: =E63+1 -> 1901 | G63: =F63+1 -> 1902 | H63: =G63+1 -> 1903 | I63: =H63+1 -> 1904 | J63: =I63+1 -> 1905 | K63: =J63+1 -> 1906 | L63: =K63+1 -> 1907 | M63: =L63+1 -> 1908 | ... R63: =Q63+1 -> 1913 | S63: =IF('4c) Berechnungen_MFS'!E99 = "Nein",R63+1, R63+1&" 1. Teil-KJ") -> 1914 | T63: =IF('4c) Berechnungen_MFS'!E99 = "Nein","", R63+1&" 2. Teil-KJ") | U63: =IF('4c) Berechnungen_MFS'!E99="Ja",R63+2,"")
B64: Realisierte Produktionsmenge pro Jahr | C64: ME Produkt | D64: =IF(D60="","",D60)
B65: Spezifische Einsatzmenge Vorprodukt | C65: ME Vorprodukt / ME Produkt | E65: =IFERROR('4a) Berechnungen zu Planwerten'!E200,0) -> 0 | F65: =IFERROR('4a) Berechnungen zu Planwerten'!F200,0) -> 0 | G65: =IFERROR('4a) Berechnungen zu Planwerten'!G200,0) -> 0 | H65: =IFERROR('4a) Berechnungen zu Planwerten'!H200,0) -> 0 | I65: =IFERROR('4a) Berechnungen zu Planwerten'!I200,0) -> 0 | J65: =IFERROR('4a) Berechnungen zu Planwerten'!J200,0) -> 0 | K65: =IFERROR('4a) Berechnungen zu Planwerten'!K200,0) -> 0 | L65: =IFERROR('4a) Berechnungen zu Planwerten'!L200,0) -> 0 | ... U65: =IFERROR('4a) Berechnungen zu Planwerten'!U200,0) -> 0
B66: Realisierte Produktionsmenge pro Jahr | C66: ME Produkt | D66: =IF(E60="","",E60)
B67: Spezifische Einsatzmenge Vorprodukt | C67: ME Vorprodukt / ME Produkt | E67: =IFERROR('4a) Berechnungen zu Planwerten'!E201,0) -> 0 | F67: =IFERROR('4a) Berechnungen zu Planwerten'!F201,0) -> 0 | G67: =IFERROR('4a) Berechnungen zu Planwerten'!G201,0) -> 0 | H67: =IFERROR('4a) Berechnungen zu Planwerten'!H201,0) -> 0 | I67: =IFERROR('4a) Berechnungen zu Planwerten'!I201,0) -> 0 | J67: =IFERROR('4a) Berechnungen zu Planwerten'!J201,0) -> 0 | K67: =IFERROR('4a) Berechnungen zu Planwerten'!K201,0) -> 0 | L67: =IFERROR('4a) Berechnungen zu Planwerten'!L201,0) -> 0 | ... U67: =IFERROR('4a) Berechnungen zu Planwerten'!U201,0) -> 0
B68: Realisierte Produktionsmenge pro Jahr | C68: ME Produkt | D68: =IF(F60="","",F60)
B69: Spezifische Einsatzmenge Vorprodukt | C69: ME Vorprodukt / ME Produkt | E69: =IFERROR('4a) Berechnungen zu Planwerten'!E202,0) -> 0 | F69: =IFERROR('4a) Berechnungen zu Planwerten'!F202,0) -> 0 | G69: =IFERROR('4a) Berechnungen zu Planwerten'!G202,0) -> 0 | H69: =IFERROR('4a) Berechnungen zu Planwerten'!H202,0) -> 0 | I69: =IFERROR('4a) Berechnungen zu Planwerten'!I202,0) -> 0 | J69: =IFERROR('4a) Berechnungen zu Planwerten'!J202,0) -> 0 | K69: =IFERROR('4a) Berechnungen zu Planwerten'!K202,0) -> 0 | L69: =IFERROR('4a) Berechnungen zu Planwerten'!L202,0) -> 0 | ... U69: =IFERROR('4a) Berechnungen zu Planwerten'!U202,0) -> 0
B70: Realisierte Produktionsmenge pro Jahr | C70: ME Produkt | D70: =IF(G60="","",G60)
B71: Spezifische Einsatzmenge Vorprodukt | C71: ME Vorprodukt / ME Produkt | E71: =IFERROR('4a) Berechnungen zu Planwerten'!E203,0) -> 0 | F71: =IFERROR('4a) Berechnungen zu Planwerten'!F203,0) -> 0 | G71: =IFERROR('4a) Berechnungen zu Planwerten'!G203,0) -> 0 | H71: =IFERROR('4a) Berechnungen zu Planwerten'!H203,0) -> 0 | I71: =IFERROR('4a) Berechnungen zu Planwerten'!I203,0) -> 0 | J71: =IFERROR('4a) Berechnungen zu Planwerten'!J203,0) -> 0 | K71: =IFERROR('4a) Berechnungen zu Planwerten'!K203,0) -> 0 | L71: =IFERROR('4a) Berechnungen zu Planwerten'!L203,0) -> 0 | ... U71: =IFERROR('4a) Berechnungen zu Planwerten'!U203,0) -> 0
B74: Vorhabensspezifische absolute Angaben
B75: Absolute Energieträgereinsätze (Heizwert Hi) für das Gesamtvorhaben | C75: Einheit | D75: Typ Wasserstoffderivat | E75: =YEAR('2b) Allg. Inputs'!$C$8) -> 1900 | F75: =E75+1 -> 1901 | G75: =F75+1 -> 1902 | H75: =G75+1 -> 1903 | I75: =H75+1 -> 1904 | J75: =I75+1 -> 1905 | K75: =J75+1 -> 1906 | L75: =K75+1 -> 1907 | M75: =L75+1 -> 1908 | ... R75: =Q75+1 -> 1913 | S75: =IF('4c) Berechnungen_MFS'!E99 = "Nein",R75+1, R75+1&" 1. Teil-KJ") -> 1914 | T75: =IF('4c) Berechnungen_MFS'!E99 = "Nein","", R75+1&" 2. Teil-KJ") | U75: =IF('4c) Berechnungen_MFS'!E99="Ja",R75+2,"")
B76: Strom | C76: MWh/Jahr | D76: -
B77: Erneuerbarer Wasserstoff gemäß Nummer 2.14 FRL CCfD | C77: MWh/Jahr | D77: -
B78: CO2-armer Wasserstoff gemäß Nummer 2.11 FRL CCfD | C78: MWh/Jahr | D78: -
B79: Erdgas gemäß Nummer 4.13 FRL CCfD | C79: MWh/Jahr | D79: -
B80: Biomasse gemäß Nummern 4.10 & 4.11 FRL CCfD einschließlich biogener Wasserstoff und biogene Wasserstoffderivate (gasförmig) gemäß Nummer 2.9 FRL CCfD | C80: MWh/Jahr | D80: -
B81: Biomasse gemäß Nummern 4.10 & 4.11 FRL CCfD einschließlich biogener Wasserstoff und biogene Wasserstoffderivate (fest/flüssig) gemäß Nummer 2.9 FRL CCfD | C81: MWh/Jahr | D81: -
B82: Wiederverwertete kohlenstoffhaltige Brennstoffe (RCFs) gemäß Nummer 4.12 FRL CCfD | C82: MWh/Jahr | D82: -
B83: - bitte Wasserstoffderivat benennen - | C83: MWh/Jahr | D83: - nicht ausgewählt -
B84: - bitte Wasserstoffderivat benennen - | C84: MWh/Jahr | D84: - nicht ausgewählt -
B85: - bitte Wasserstoffderivat benennen - | C85: MWh/Jahr | D85: - nicht ausgewählt -
B86: - bitte Wasserstoffderivat benennen - | C86: MWh/Jahr | D86: - nicht ausgewählt -
B87: Absolute Energieträgereinsätze (Heizwert Hi) für umweltschädlichste fossile Brennstoffe gemäß Nummer 4.14 FRL CCfD | E87: =YEAR('2b) Allg. Inputs'!$C$8) -> 1900 | F87: =E87+1 -> 1901 | G87: =F87+1 -> 1902 | H87: =G87+1 -> 1903 | I87: =H87+1 -> 1904 | J87: =I87+1 -> 1905 | K87: =J87+1 -> 1906 | L87: =K87+1 -> 1907 | M87: =L87+1 -> 1908 | ... R87: =Q87+1 -> 1913 | S87: =IF('4c) Berechnungen_MFS'!$E$99 = "Nein",R87+1, R87+1&" 1. Teil-KJ") -> 1914 | T87: =IF('4c) Berechnungen_MFS'!$E$99 = "Nein","", R87+1&" 2. Teil-KJ") | U87: =IF('4c) Berechnungen_MFS'!$E$99="Ja",R87+2,"")
B88: Kokskohle | C88: MWh/Jahr | D88: -
B89: Kesselkohle | C89: MWh/Jahr | D89: -
B90: - bitte weitere umweltschädlichste Energieträger hier benennen - | C90: MWh/Jahr | D90: -
B91: - bitte weitere umweltschädlichste Energieträger hier benennen - | C91: MWh/Jahr | D91: -
B92: - bitte weitere umweltschädlichste Energieträger hier benennen - | C92: MWh/Jahr | D92: -
B93: - bitte weitere umweltschädlichste Energieträger hier benennen - | C93: MWh/Jahr | D93: -
B94: Absolute Energieträgereinsätze (Heizwert Hi) für den Einsatz von Abfall als Energieträger | D94: Art oder Ursprung des Abfalls | E94: =YEAR('2b) Allg. Inputs'!$C$8) -> 1900 | F94: =E94+1 -> 1901 | G94: =F94+1 -> 1902 | H94: =G94+1 -> 1903 | I94: =H94+1 -> 1904 | J94: =I94+1 -> 1905 | K94: =J94+1 -> 1906 | L94: =K94+1 -> 1907 | M94: =L94+1 -> 1908 | ... R94: =Q94+1 -> 1913 | S94: =IF('4c) Berechnungen_MFS'!$E$99 = "Nein",R94+1, R94+1&" 1. Teil-KJ") -> 1914 | T94: =IF('4c) Berechnungen_MFS'!$E$99 = "Nein","", R94+1&" 2. Teil-KJ") | U94: =IF('4c) Berechnungen_MFS'!$E$99="Ja",R94+2,"")
B95: - bitte Abfallart benennen - | C95: MWh/Jahr | D95: - nicht ausgewählt -
B96: - bitte Abfallart benennen - | C96: MWh/Jahr | D96: - nicht ausgewählt -
B97: - bitte Abfallart benennen - | C97: MWh/Jahr | D97: - nicht ausgewählt -
B98: - bitte Abfallart benennen - | C98: MWh/Jahr | D98: - nicht ausgewählt -
B99: - bitte Abfallart benennen - | C99: MWh/Jahr | D99: - nicht ausgewählt -
B100: - bitte Abfallart benennen - | C100: MWh/Jahr | D100: - nicht ausgewählt -
B101: Absolute Energieträgereinsätze (Heizwert Hi) anderer konventioneller Energieträger | E101: =YEAR('2b) Allg. Inputs'!$C$8) -> 1900 | F101: =E101+1 -> 1901 | G101: =F101+1 -> 1902 | H101: =G101+1 -> 1903 | I101: =H101+1 -> 1904 | J101: =I101+1 -> 1905 | K101: =J101+1 -> 1906 | L101: =K101+1 -> 1907 | M101: =L101+1 -> 1908 | ... R101: =Q101+1 -> 1913 | S101: =IF('4c) Berechnungen_MFS'!$E$99 = "Nein",R101+1, R101+1&" 1. Teil-KJ") -> 1914 | T101: =IF('4c) Berechnungen_MFS'!$E$99 = "Nein","", R101+1&" 2. Teil-KJ") | U101: =IF('4c) Berechnungen_MFS'!$E$99="Ja",R101+2,"")
B102: - bitte Energieträger benennen - | C102: MWh/Jahr | D102: -
B103: - bitte Energieträger benennen - | C103: MWh/Jahr | D103: -
B104: - bitte Energieträger benennen - | C104: MWh/Jahr | D104: -
B105: - bitte Energieträger benennen - | C105: MWh/Jahr | D105: -
B106: - bitte Energieträger benennen - | C106: MWh/Jahr | D106: -
B107: - bitte Energieträger benennen - | C107: MWh/Jahr | D107: -
B108: Absolute Energieträgereinsätze (Heizwert Hi) für die Herstellung von stofflich genutzten Wasserstoffderivaten | D108: - | E108: =YEAR('2b) Allg. Inputs'!$C$8) -> 1900 | F108: =E108+1 -> 1901 | G108: =F108+1 -> 1902 | H108: =G108+1 -> 1903 | I108: =H108+1 -> 1904 | J108: =I108+1 -> 1905 | K108: =J108+1 -> 1906 | L108: =K108+1 -> 1907 | M108: =L108+1 -> 1908 | ... R108: =Q108+1 -> 1913 | S108: =IF('4c) Berechnungen_MFS'!E99 = "Nein",R108+1, R108+1&" 1. Teil-KJ") -> 1914 | T108: =IF('4c) Berechnungen_MFS'!E99 = "Nein","", R108+1&" 2. Teil-KJ") | U108: =IF('4c) Berechnungen_MFS'!E99="Ja",R108+2,"")
B109: Strom für die Produktion von Wasserstoffderivaten | C109: MWh/Jahr | D109: -
B110: Erneuerbarer Wasserstoff für die Produktion von Wasserstoffderivaten | C110: MWh/Jahr | D110: -
B111: CO2-armer Wasserstoff für die Produktion von Wasserstoffderivaten | C111: MWh/Jahr | D111: -
B112: Erdgas für die Produktion von Wasserstoffderivaten | C112: MWh/Jahr | D112: -
B113: Biomasse (gasförmig) für die Produktion von Wasserstoffderivaten | C113: MWh/Jahr | D113: -
B114: Biomasse (fest/flüssig) für die Produktion von Wasserstoffderivaten | C114: MWh/Jahr | D114: -
...

Sheet CCfD PARAMETER >>

Sheet 3a) CCfD Parameter
B2: CCfD Inputs und Parameter
B3: Diese Parameter sind durch die Förderrichtline und den Förderaufruf CCfD 2026 vorgegeben und sollten nicht geändert werden.
B5: Dynamisierung | E5: Ja/nein
B6: Dynamisieren Strom | C6: Vorhaben | D6: 0 oder 1 | E6: 1
B7: Dynamisieren Erneuerbarer Wasserstoff | C7: Vorhaben | D7: 0 oder 1 | E7: 1
B8: Dynamisieren CO2-armer Wasserstoff | C8: Vorhaben | D8: 0 oder 1 | E8: 1
B9: Dynamisieren Erdgas | C9: Vorhaben | D9: 0 oder 1 | E9: 0
B10: Dynamisieren Kokskohle | C10: Vorhaben | D10: 0 oder 1 | E10: 0
B11: Dynamisieren Kesselkohle | C11: Vorhaben | D11: 0 oder 1 | E11: 0
B12: Dynamisieren Strom | C12: Referenzsystem | D12: 0 oder 1 | E12: 1
B13: Dynamisieren Erneuerbarer Wasserstoff | C13: Referenzsystem | D13: 0 oder 1 | E13: 0
B14: Dynamisieren CO2-armer Wasserstoff | C14: Referenzsystem | D14: 0 oder 1 | E14: 0
B15: Dynamisieren Erdgas | C15: Referenzsystem | D15: 0 oder 1 | E15: 1
B16: Dynamisieren Kokskohle | C16: Referenzsystem | D16: 0 oder 1 | E16: 1
B17: Dynamisieren Kesselkohle | C17: Referenzsystem | D17: 0 oder 1 | E17: 1
B20: Dynamisierung Faktoren | AG20: 2049 | AH20: 2050
B21: Strom | C21: Vorhaben | E21: 0.9
B22: Erneuerbarer Wasserstoff | C22: Vorhaben | E22: 0.9
B23: CO2-armer Wasserstoff | C23: Vorhaben | E23: 0.9
B24: Erdgas | C24: Vorhaben | E24: 0
B25: Kokskohle | C25: Vorhaben | E25: 0
B26: Kesselkohle | C26: Vorhaben | E26: 0
B27: Strom | C27: Referenzsystem | E27: 0.9
B28: Erneuerbarer Wasserstoff | C28: Referenzsystem | E28: 0
B29: CO2-armer Wasserstoff | C29: Referenzsystem | E29: 0
B30: Erdgas | C30: Referenzsystem | E30: 0.9
B31: Kokskohle | C31: Referenzsystem | E31: 0.9
B32: Kesselkohle | C32: Referenzsystem | E32: 0.9
B35: Absicherungspreise | E35: 2026 | F35: 2027 | G35: 2028 | H35: 2029 | I35: 2030 | J35: 2031 | K35: 2032 | L35: 2033 | M35: 2034 | N35: 2035 | O35: 2036 | P35: 2037 | Q35: 2038 | R35: 2039 | S35: 2040 | T35: 2041 | U35: 2042 | V35: 2043 | W35: 2044 | X35: 2045 | Y35: 2046 | Z35: 2047 | AA35: 2048 | AB35: 2049 | AC35: 2050 | AD35: 2051 | AE35: 2052
B36: Absicherungspreis - CO2 Preis | C36: EUR/MWh | E36: 50.35 | F36: 55.99 | G36: 61.74 | H36: 67.05 | I36: 73.02 | J36: 79.73 | K36: 87.03 | L36: 95 | M36: 103.71 | N36: 113.21 | O36: 122.9 | P36: 132.59 | Q36: 142.28 | R36: 151.97 | S36: 161.67 | T36: 171.36 | U36: 181.05 | V36: 190.74 | W36: 200.43 | X36: 210.13 | Y36: 219.82 | Z36: 229.51 | AA36: 239.2 | AB36: 248.89 | AC36: 258.59 | AD36: 258.59 | AE36: 258.59
B37: Absicherungspreis - Strom | C37: EUR/MWh | E37: 113.67 | F37: 110.08 | G37: 106.31 | H37: 103.23 | I37: 99.12 | J37: 94.02 | K37: 88.31 | L37: 82.81 | M37: 78.14 | N37: 74.25 | O37: 71.1 | P37: 68.67 | Q37: 66.92 | R37: 65.84 | S37: 65.42 | T37: 65.65 | U37: 66.49 | V37: 67.36 | W37: 68.25 | X37: 69.73 | Y37: 71.91 | Z37: 74.76 | AA37: 77.72 | AB37: 80.8 | AC37: 83.99 | AD37: 83.99 | AE37: 83.99
B38: Absicherungspreis - Erneuerbarer Wasserstoff | C38: EUR/MWh | E38: 250.71 | F38: 242.64 | G38: 234.94 | H38: 225.73 | I38: 218.79 | J38: 214.03 | K38: 211.41 | L38: 210.91 | M38: 211.11 | N38: 211.27 | O38: 211.39 | P38: 211.5 | Q38: 211.6 | R38: 211.7 | S38: 211.79 | T38: 213.32 | U38: 214.89 | V38: 216.5 | W38: 218.14 | X38: 219.82 | Y38: 221.54 | Z38: 223.3 | AA38: 225.1 | AB38: 226.94 | AC38: 228.82 | AD38: 228.82 | AE38: 228.82
B39: Absicherungspreis - CO2-armer Wasserstoff | C39: EUR/MWh | E39: 250.71 | F39: 242.64 | G39: 234.94 | H39: 225.73 | I39: 218.79 | J39: 214.03 | K39: 211.41 | L39: 210.91 | M39: 211.11 | N39: 211.27 | O39: 211.39 | P39: 211.5 | Q39: 211.6 | R39: 211.7 | S39: 211.79 | T39: 213.32 | U39: 214.89 | V39: 216.5 | W39: 218.14 | X39: 219.82 | Y39: 221.54 | Z39: 223.3 | AA39: 225.1 | AB39: 226.94 | AC39: 228.82 | AD39: 228.82 | AE39: 228.82
B40: Absicherungspreis - Erdgas | C40: EUR/MWh | E40: 41.9 | F40: 38.47 | G40: 36.54 | H40: 34.38 | I40: 32.56 | J40: 31.07 | K40: 29.89 | L40: 29 | M40: 28.41 | N40: 28.1 | O40: 28.07 | P40: 28.12 | Q40: 28.17 | R40: 28.22 | S40: 28.35 | T40: 28.77 | U40: 29.28 | V40: 29.8 | W40: 30.34 | X40: 30.9 | Y40: 31.48 | Z40: 32.08 | AA40: 32.7 | AB40: 33.34 | AC40: 34.01 | AD40: 34.01 | AE40: 34.01
B41: Absicherungspreis - Kokskohle | C41: EUR/MWh | E41: 39.5 | F41: 35.66 | G41: 33.43 | H41: 30.99 | I41: 28.86 | J41: 27.02 | K41: 25.45 | L41: 24.13 | M41: 23.06 | N41: 22.21 | O41: 21.59 | P41: 21.18 | Q41: 20.99 | R41: 20.83 | S41: 20.76 | T41: 20.91 | U41: 21.15 | V41: 21.41 | W41: 21.67 | X41: 21.94 | Y41: 22.21 | Z41: 22.5 | AA41: 22.78 | AB41: 23.06 | AC41: 23.34 | AD41: 23.34 | AE41: 23.34
B42: Absicherungspreis - Kesselkohle | C42: EUR/MWh | E42: 17.34 | F42: 15.66 | G42: 14.68 | H42: 13.61 | I42: 12.67 | J42: 11.86 | K42: 11.17 | L42: 10.6 | M42: 10.12 | N42: 9.75 | O42: 9.48 | P42: 9.3 | Q42: 9.22 | R42: 9.15 | S42: 9.12 | T42: 9.18 | U42: 9.29 | V42: 9.4 | W42: 9.52 | X42: 9.63 | Y42: 9.75 | Z42: 9.88 | AA42: 10.03 | AB42: 10.14 | AC42: 10.14 | AD42: 10.14 | AE42: 10.14
B43: Faktor zur Bestimmung der max. Dynamisierungskomponente | D43: 0.5
B45: Basispreise
B46: Strom | C46: EUR/MWh | E46: 62.08
B47: Erneuerbarer Wasserstoff | C47: EUR/MWh | E47: 184.23
B48: CO2-armer Wasserstoff | C48: EUR/MWh | E48: 184.23
B49: Erdgas | C49: EUR/MWh | E49: 25.97
B50: Kokskohle | C50: EUR/MWh | E50: 19.45
B51: Kesselkohle | C51: EUR/MWh | E51: 8.54

Sheet 3b) Referenzsysteme
B2: Referenzsysteme
B3: Energieträgereinsätze und Treibhausgasemissionen der Referenzsysteme gemäß Anhang 1 Förderaufruf CCfD 2026.
B5: Produkt | C5: Strom (MWh/ME Produkt) | D5: Wasserstoff (MWh/ME Produkt) | E5: Erdgas (MWh/ME Produkt) | F5: Kokskohle (MWh/ME Produkt) | G5: Kesselkohle (MWh/ME Produkt) | H5: Biomasse (MWh/ME Produkt) | I5: Andere (MWh/ME Produkt) | J5: THG (t CO2-Äq/ME Produkt) | K5: Aktivität unter ETS | N5: Helper 1 | O5: Helper 2 | P5: Helper 3 | Q5: Helper 4 | R5: Helper 5 | S5: Helper 6 | T5: Helper 7 | W5: Helper 7 | X5: Helper 8
B6: - nicht ausgewählt - | C6: 0 | D6: 0 | E6: 0 | F6: 0 | G6: 0 | H6: 0 | I6: 0 | J6: 0 | K6: 0 | N6: {=_xlfn.VSTACK($B$6, _xlfn._xlws.FILTER($B$7:$B$57, ISNA(MATCH($B$7:$B$57, '2d) Planwerte (Anlage)'!$C$11:$I$11, 0))))} -> - nicht ausgewählt - | O6: {=_xlfn.VSTACK($B$6, _xlfn._xlws.FILTER($B$7:$B$57, ISNA(MATCH($B$7:$B$57, '2d) Planwerte (Anlage)'!$C$11:$I$11, 0))))} -> - nicht ausgewählt - | P6: {=_xlfn.VSTACK($B$6, _xlfn._xlws.FILTER($B$7:$B$57, ISNA(MATCH($B$7:$B$57, '2d) Planwerte (Anlage)'!$C$11:$I$11, 0))))} -> - nicht ausgewählt - | Q6: {=_xlfn.VSTACK($B$6, _xlfn._xlws.FILTER($B$7:$B$57, ISNA(MATCH($B$7:$B$57, '2d) Planwerte (Anlage)'!$C$11:$I$11, 0))))} -> - nicht ausgewählt - | R6: {=_xlfn.VSTACK($B$6, _xlfn._xlws.FILTER($B$7:$B$57, ISNA(MATCH($B$7:$B$57, '2d) Planwerte (Anlage)'!$C$11:$I$11, 0))))} -> - nicht ausgewählt - | S6: {=_xlfn.VSTACK($B$6, _xlfn._xlws.FILTER($B$7:$B$57, ISNA(MATCH($B$7:$B$57, '2d) Planwerte (Anlage)'!$C$11:$I$11, 0))))} -> - nicht ausgewählt - | T6: {=_xlfn.VSTACK($B$6, _xlfn._xlws.FILTER($B$7:$B$57, ISNA(MATCH($B$7:$B$57, '2d) Planwerte (Anlage)'!$C$11:$I$11, 0))))} -> - nicht ausgewählt - | W6: {=TRANSPOSE('2d) Planwerte (Anlage)'!C11:I11)} -> - nicht ausgewählt - | X6: =IF(OR(W6=$B$53,W6=$B$54,W6=$B$57),1,0) -> 0
B7: 01: Raffinerieprodukte | C7: 0 | D7: 0 | E7: 0.11 | F7: 0 | G7: 0 | H7: 0 | I7: 0 | J7: 0.0228 | K7: 21 | N7: 01: Raffinerieprodukte | O7: 01: Raffinerieprodukte | P7: 01: Raffinerieprodukte | Q7: 01: Raffinerieprodukte | R7: 01: Raffinerieprodukte | S7: 01: Raffinerieprodukte | T7: 01: Raffinerieprodukte | W7: - nicht ausgewählt - | X7: =IF(OR(W7=$B$53,W7=$B$54,W7=$B$57),1,0)+X6 -> 0
B8: 02-04: Primärstahl | C8: 0.1 | D8: 0 | E8: 0.67 | F8: 2.83 | G8: 0.86 | H8: 0 | I8: 0 | J8: 1.321 | K8: 22-24 | N8: 02-04: Primärstahl | O8: 02-04: Primärstahl | P8: 02-04: Primärstahl | Q8: 02-04: Primärstahl | R8: 02-04: Primärstahl | S8: 02-04: Primärstahl | T8: 02-04: Primärstahl | W8: - nicht ausgewählt - | X8: =IF(OR(W8=$B$53,W8=$B$54,W8=$B$57),1,0)+X7 -> 0
B9: 05: EAF Kohlenstoffstahl | C9: 0.44 | D9: 0 | E9: 0.04 | F9: 0 | G9: 0 | H9: 0 | I9: 0 | J9: 0.05 | K9: 24 | N9: 05: EAF Kohlenstoffstahl | O9: 05: EAF Kohlenstoffstahl | P9: 05: EAF Kohlenstoffstahl | Q9: 05: EAF Kohlenstoffstahl | R9: 05: EAF Kohlenstoffstahl | S9: 05: EAF Kohlenstoffstahl | T9: 05: EAF Kohlenstoffstahl | W9: - nicht ausgewählt - | X9: =IF(OR(W9=$B$53,W9=$B$54,W9=$B$57),1,0)+X8 -> 0
B10: 06: EAF hochlegierter Stahl | C10: 0.44 | D10: 0 | E10: 0.04 | F10: 0 | G10: 0 | H10: 0 | I10: 0 | J10: 0.103 | K10: 24 | N10: 06: EAF hochlegierter Stahl | O10: 06: EAF hochlegierter Stahl | P10: 06: EAF hochlegierter Stahl | Q10: 06: EAF hochlegierter Stahl | R10: 06: EAF hochlegierter Stahl | S10: 06: EAF hochlegierter Stahl | T10: 06: EAF hochlegierter Stahl | W10: - nicht ausgewählt - | X10: =IF(OR(W10=$B$53,W10=$B$54,W10=$B$57),1,0)+X9 -> 0
B11: 07: Eisenguss | C11: 0.56 | D11: 0 | E11: 0.04 | F11: 0 | G11: 0 | H11: 0 | I11: 0 | J11: 0.073 | K11: 25 | N11: 07: Eisenguss | O11: 07: Eisenguss | P11: 07: Eisenguss | Q11: 07: Eisenguss | R11: 07: Eisenguss | S11: 07: Eisenguss | T11: 07: Eisenguss | W11: - nicht ausgewählt - | X11: =IF(OR(W11=$B$53,W11=$B$54,W11=$B$57),1,0)+X10 -> 0
B12: 08: Vorgebrannte Anoden | C12: 0.17 | D12: 0 | E12: 0.77 | F12: 7.48 | G12: 0 | H12: 0 | I12: 0 | J12: 0.312 | K12: 26 | N12: 08: Vorgebrannte Anoden | O12: 08: Vorgebrannte Anoden | P12: 08: Vorgebrannte Anoden | Q12: 08: Vorgebrannte Anoden | R12: 08: Vorgebrannte Anoden | S12: 08: Vorgebrannte Anoden | T12: 08: Vorgebrannte Anoden | W12: - nicht ausgewählt - | X12: =IF(OR(W12=$B$53,W12=$B$54,W12=$B$57),1,0)+X11 -> 0
B13: 09: Aluminium | C13: 13.9 | D13: 0 | E13: 0 | F13: 0 | G13: 0 | H13: 0 | I13: 0 | J13: 1.464 | K13: 26 | N13: 09: Aluminium | O13: 09: Aluminium | P13: 09: Aluminium | Q13: 09: Aluminium | R13: 09: Aluminium | S13: 09: Aluminium | T13: 09: Aluminium
B14: 10: Grauzementklinker | C14: 0.04 | D14: 0 | E14: 0 | F14: 0 | G14: 0.23 | H14: 0 | I14: 0.54 | J14: 0.693 | K14: 29 | N14: 10: Grauzementklinker | O14: 10: Grauzementklinker | P14: 10: Grauzementklinker | Q14: 10: Grauzementklinker | R14: 10: Grauzementklinker | S14: 10: Grauzementklinker | T14: 10: Grauzementklinker
B15: 11: Weißzementklinker | C15: 0.04 | D15: 0 | E15: 0 | F15: 0 | G15: 1.35 | H15: 0 | I15: 0 | J15: 0.957 | K15: 29 | N15: 11: Weißzementklinker | O15: 11: Weißzementklinker | P15: 11: Weißzementklinker | Q15: 11: Weißzementklinker | R15: 11: Weißzementklinker | S15: 11: Weißzementklinker | T15: 11: Weißzementklinker
B16: 12: Kalk | C16: 0.02 | D16: 0 | E16: 0 | F16: 0 | G16: 0 | H16: 0.89 | I16: 0 | J16: 0.725 | K16: 30 | N16: 12: Kalk | O16: 12: Kalk | P16: 12: Kalk | Q16: 12: Kalk | R16: 12: Kalk | S16: 12: Kalk | T16: 12: Kalk
B17: 13: Dolomitkalk | C17: 0.02 | D17: 0 | E17: 0 | F17: 0 | G17: 0 | H17: 0.89 | I17: 0 | J17: 0.815 | K17: 30 | N17: 13: Dolomitkalk | O17: 13: Dolomitkalk | P17: 13: Dolomitkalk | Q17: 13: Dolomitkalk | R17: 13: Dolomitkalk | S17: 13: Dolomitkalk | T17: 13: Dolomitkalk
B18: 14: Sinterdolomit | C18: 0.02 | D18: 0 | E18: 0 | F18: 0 | G18: 1.81 | H18: 0 | I18: 0 | J18: 1.406 | K18: 30 | N18: 14: Sinterdolomit | O18: 14: Sinterdolomit | P18: 14: Sinterdolomit | Q18: 14: Sinterdolomit | R18: 14: Sinterdolomit | S18: 14: Sinterdolomit | T18: 14: Sinterdolomit
B19: 15: Floatglas | C19: 0 | D19: 0 | E19: 1.54 | F19: 0 | G19: 0 | H19: 0 | I19: 0 | J19: 0.399 | K19: 31 | N19: 15: Floatglas | O19: 15: Floatglas | P19: 15: Floatglas | Q19: 15: Floatglas | R19: 15: Floatglas | S19: 15: Floatglas | T19: 15: Floatglas
B20: 16: Flaschen und Behälter aus nicht gefärbtem Glas | C20: 0.17 | D20: 0 | E20: 1.36 | F20: 0 | G20: 0 | H20: 0 | I20: 0 | J20: 0.29 | K20: 31 | N20: 16: Flaschen und Behälter aus nicht gefärbtem Glas | O20: 16: Flaschen und Behälter aus nicht gefärbtem Glas | P20: 16: Flaschen und Behälter aus nicht gefärbtem Glas | Q20: 16: Flaschen und Behälter aus nicht gefärbtem Glas | R20: 16: Flaschen und Behälter aus nicht gefärbtem Glas | S20: 16: Flaschen und Behälter aus nicht gefärbtem Glas | T20: 16: Flaschen und Behälter aus nicht gefärbtem Glas
B21: 17: Flaschen und Behälter aus gefärbtem Glas | C21: 0.17 | D21: 0 | E21: 1.09 | F21: 0 | G21: 0 | H21: 0 | I21: 0 | J21: 0.237 | K21: 31 | N21: 17: Flaschen und Behälter aus gefärbtem Glas | O21: 17: Flaschen und Behälter aus gefärbtem Glas | P21: 17: Flaschen und Behälter aus gefärbtem Glas | Q21: 17: Flaschen und Behälter aus gefärbtem Glas | R21: 17: Flaschen und Behälter aus gefärbtem Glas | S21: 17: Flaschen und Behälter aus gefärbtem Glas | T21: 17: Flaschen und Behälter aus gefärbtem Glas
B22: 18: Produkte aus Endlosglasfasern | C22: 0.31 | D22: 0 | E22: 0.94 | F22: 0 | G22: 0 | H22: 0 | I22: 0 | J22: 0.309 | K22: 31 | N22: 18: Produkte aus Endlosglasfasern | O22: 18: Produkte aus Endlosglasfasern | P22: 18: Produkte aus Endlosglasfasern | Q22: 18: Produkte aus Endlosglasfasern | R22: 18: Produkte aus Endlosglasfasern | S22: 18: Produkte aus Endlosglasfasern | T22: 18: Produkte aus Endlosglasfasern
B23: 19: Vormauerziegel | C23: 0.08 | D23: 0 | E23: 0.4 | F23: 0 | G23: 0 | H23: 0 | I23: 0 | J23: 0.106 | K23: 32 | N23: 19: Vormauerziegel | O23: 19: Vormauerziegel | P23: 19: Vormauerziegel | Q23: 19: Vormauerziegel | R23: 19: Vormauerziegel | S23: 19: Vormauerziegel | T23: 19: Vormauerziegel
B24: 20: Pflasterziegel | C24: 0.08 | D24: 0 | E24: 0.6 | F24: 0 | G24: 0 | H24: 0 | I24: 0 | J24: 0.146 | K24: 32 | N24: 20: Pflasterziegel | O24: 20: Pflasterziegel | P24: 20: Pflasterziegel | Q24: 20: Pflasterziegel | R24: 20: Pflasterziegel | S24: 20: Pflasterziegel | T24: 20: Pflasterziegel
... B43: 39: Salpetersäure | C43: 0.01 | D43: 0 | E43: 0.81 | F43: 0 | G43: 0 | H43: 0 | I43: 0 | J43: 0.23 | K43: 38 | N43: 39: Salpetersäure | O43: 39: Salpetersäure | P43: 39: Salpetersäure | Q43: 39: Salpetersäure | R43: 39: Salpetersäure | S43: 39: Salpetersäure | T43: 39: Salpetersäure
B44: 41: Ammoniak | D44: 0 | E44: 8.77 | F44: 0 | G44: 0 | H44: 0 | I44: 0 | J44: 1.57 | K44: 41 | N44: 41: Ammoniak | O44: 41: Ammoniak | P44: 41: Ammoniak | Q44: 41: Ammoniak | R44: 41: Ammoniak | S44: 41: Ammoniak | T44: 41: Ammoniak
B45: 42: Steamcracken | C45: 0 | D45: 0 | E45: 3.37 | F45: 0 | G45: 0 | H45: 0 | I45: 0 | J45: 0.681 | K45: 42 | N45: 42: Steamcracken | O45: 42: Steamcracken | P45: 42: Steamcracken | Q45: 42: Steamcracken | R45: 42: Steamcracken | S45: 42: Steamcracken | T45: 42: Steamcracken
B46: 43: Aromaten | C46: 0 | D46: 0 | E46: 0.11 | F46: 0 | G46: 0 | H46: 0 | I46: 0 | J46: 0.0228 | K46: 42 | N46: 43: Aromaten | O46: 43: Aromaten | P46: 43: Aromaten | Q46: 43: Aromaten | R46: 43: Aromaten | S46: 43: Aromaten | T46: 43: Aromaten
B47: 44: Styrol | C47: 0.16 | D47: 0 | E47: 1.69 | F47: 0 | G47: 0 | H47: 0 | I47: 0 | J47: 0.341 | K47: 42 | N47: 44: Styrol | O47: 44: Styrol | P47: 44: Styrol | Q47: 44: Styrol | R47: 44: Styrol | S47: 44: Styrol | T47: 44: Styrol
B48: 45: Phenol, Aceton | C48: 0.19 | D48: 0 | E48: 1.14 | F48: 0 | G48: 0 | H48: 0 | I48: 0 | J48: 0.23 | K48: 42 | N48: 45: Phenol, Aceton | O48: 45: Phenol, Aceton | P48: 45: Phenol, Aceton | Q48: 45: Phenol, Aceton | R48: 45: Phenol, Aceton | S48: 45: Phenol, Aceton | T48: 45: Phenol, Aceton
B49: 46: Ethylenoxid, Ethylenglycol | C49: 0.2 | D49: 0 | E49: 0 | F49: 0 | G49: 0 | H49: 0 | I49: 0 | J49: 0.314 | K49: 42 | N49: 46: Ethylenoxid, Ethylenglycol | O49: 46: Ethylenoxid, Ethylenglycol | P49: 46: Ethylenoxid, Ethylenglycol | Q49: 46: Ethylenoxid, Ethylenglycol | R49: 46: Ethylenoxid, Ethylenglycol | S49: 46: Ethylenoxid, Ethylenglycol | T49: 46: Ethylenoxid, Ethylenglycol
B50: 47: Vinylchloridmonomer | C50: 0.11 | D50: 0 | E50: 0.7 | F50: 0 | G50: 0 | H50: 0 | I50: 0 | J50: 0.155 | K50: 42 | N50: 47: Vinylchloridmonomer | O50: 47: Vinylchloridmonomer | P50: 47: Vinylchloridmonomer | Q50: 47: Vinylchloridmonomer | R50: 47: Vinylchloridmonomer | S50: 47: Vinylchloridmonomer | T50: 47: Vinylchloridmonomer
B51: 48: S-Polyvinylchlorid | C51: 0.19 | D51: 0 | E51: 0.33 | F51: 0 | G51: 0 | H51: 0 | I51: 0 | J51: 0.066 | K51: 42 | N51: 48: S-Polyvinylchlorid | O51: 48: S-Polyvinylchlorid | P51: 48: S-Polyvinylchlorid | Q51: 48: S-Polyvinylchlorid | R51: 48: S-Polyvinylchlorid | S51: 48: S-Polyvinylchlorid | T51: 48: S-Polyvinylchlorid
B52: 49: E-Polyvinylchlorid | C52: 0.39 | D52: 0 | E52: 0.9 | F52: 0 | G52: 0 | H52: 0 | I52: 0 | J52: 0.181 | K52: 42 | N52: 49: E-Polyvinylchlorid | O52: 49: E-Polyvinylchlorid | P52: 49: E-Polyvinylchlorid | Q52: 49: E-Polyvinylchlorid | R52: 49: E-Polyvinylchlorid | S52: 49: E-Polyvinylchlorid | T52: 49: E-Polyvinylchlorid
B53: 50: Wasserstoff | C53: 0 | D53: 0 | E53: 38.06 | F53: 0 | G53: 0 | H53: 0 | I53: 0 | J53: 6.84 | K53: 43 | N53: 50: Wasserstoff | O53: 50: Wasserstoff | P53: 50: Wasserstoff | Q53: 50: Wasserstoff | R53: 50: Wasserstoff | S53: 50: Wasserstoff | T53: 50: Wasserstoff
B54: 51: Synthesegas | D54: 0 | E54: 7.41 | F54: 0 | G54: 0 | H54: 0 | I54: 0 | J54: 0.187 | K54: 43 | N54: 51: Synthesegas | O54: 51: Synthesegas | P54: 51: Synthesegas | Q54: 51: Synthesegas | R54: 51: Synthesegas | S54: 51: Synthesegas | T54: 51: Synthesegas
B55: 52: Soda | C55: 0.09 | D55: 0 | E55: 1.21 | F55: 0 | G55: 1.49 | H55: 0 | I55: 0 | J55: 1.168 | K55: 44 | N55: 52: Soda | O55: 52: Soda | P55: 52: Soda | Q55: 52: Soda | R55: 52: Soda | S55: 52: Soda | T55: 52: Soda
B56: Industriedampf | C56: 0 | D56: 0 | E56: 0.84 | F56: 0 | G56: 0 | H56: 0.27 | I56: 0 | J56: 0.17 | K56: - | N56: Industriedampf | O56: Industriedampf | P56: Industriedampf | Q56: Industriedampf | R56: Industriedampf | S56: Industriedampf | T56: Industriedampf
B57: Wärmebereitstellung und Brennstoffeinsatz | C57: 0 | D57: 0 | E57: 0.84 | F57: 0 | G57: 0 | H57: 0.27 | I57: 0 | J57: 0.17 | K57: - | N57: Wärmebereitstellung und Brennstoffeinsatz | O57: Wärmebereitstellung und Brennstoffeinsatz | P57: Wärmebereitstellung und Brennstoffeinsatz | Q57: Wärmebereitstellung und Brennstoffeinsatz | R57: Wärmebereitstellung und Brennstoffeinsatz | S57: Wärmebereitstellung und Brennstoffeinsatz | T57: Wärmebereitstellung und Brennstoffeinsatz

Sheet Berechnungen >>

Sheet 4a) Berechnungen zu Planwerten
B2: Berechnungen zu den Planwerten
B3: In diesem Tabellenblatt finden Sie Berechnungen für die Bestimmung der maximalen Fördersumme und der Auszahlung basierend auf geplanten Verbrauchsparametern.
B7: Treibhausgasemissionsminderung Vorhaben
B8: Weitere Angaben zum Vorhaben | C8: Einheit | E8: =YEAR('2b) Allg. Inputs'!$C$8) -> 1900 | F8: =E8+1 -> 1901 | G8: =F8+1 -> 1902 | H8: =G8+1 -> 1903 | I8: =H8+1 -> 1904 | J8: =I8+1 -> 1905 | K8: =J8+1 -> 1906 | L8: =K8+1 -> 1907 | M8: =L8+1 -> 1908 | ... R8: =Q8+1 -> 1913 | S8: =IF('4c) Berechnungen_MFS'!E99 = "Nein",R8+1, R8+1&" 1. Teil-KJ") -> 1914 | T8: =IF('4c) Berechnungen_MFS'!E99 = "Nein","", R8+1&" 2. Teil-KJ") | U8: =IF('4c) Berechnungen_MFS'!E99="Ja",R8+2,"")
B9: Absolute Emissionen Vorhaben | C9: t CO2-Äq. | D9: - | E9: ='2d) Planwerte (Anlage)'!E119 -> 0 | F9: ='2d) Planwerte (Anlage)'!F119 -> 0 | G9: ='2d) Planwerte (Anlage)'!G119 -> 0 | H9: ='2d) Planwerte (Anlage)'!H119 -> 0 | I9: ='2d) Planwerte (Anlage)'!I119 -> 0 | J9: ='2d) Planwerte (Anlage)'!J119 -> 0 | K9: ='2d) Planwerte (Anlage)'!K119 -> 0 | L9: ='2d) Planwerte (Anlage)'!L119 -> 0 | ... U9: ='2d) Planwerte (Anlage)'!U119 -> 0
B10: Absolute Emissionen Referenz | C10: t CO2-Äq. | D10: - | E10: =E83 -> 0 | F10: =F83 -> 0 | G10: =G83 -> 0 | H10: =H83 -> 0 | I10: =I83 -> 0 | J10: =J83 -> 0 | K10: =K83 -> 0 | L10: =L83 -> 0 | ... U10: =U83 -> 0
B11: Absolute Treibhausgasemissionsminderung | C11: t CO2-Äq. | D11: - | E11: =IF('2d) Planwerte (Anlage)'!E119="",0,E83-'2d) Planwerte (Anlage)'!E119) -> 0 | F11: =IF('2d) Planwerte (Anlage)'!F119="",0,F83-'2d) Planwerte (Anlage)'!F119) -> 0 | G11: =IF('2d) Planwerte (Anlage)'!G119="",0,G83-'2d) Planwerte (Anlage)'!G119) -> 0 | H11: =IF('2d) Planwerte (Anlage)'!H119="",0,H83-'2d) Planwerte (Anlage)'!H119) -> 0 | I11: =IF('2d) Planwerte (Anlage)'!I119="",0,I83-'2d) Planwerte (Anlage)'!I119) -> 0 | J11: =IF('2d) Planwerte (Anlage)'!J119="",0,J83-'2d) Planwerte (Anlage)'!J119) -> 0 | K11: =IF('2d) Planwerte (Anlage)'!K119="",0,K83-'2d) Planwerte (Anlage)'!K119) -> 0 | L11: =IF('2d) Planwerte (Anlage)'!L119="",0,L83-'2d) Planwerte (Anlage)'!L119) -> 0 | ... U11: =IF('2d) Planwerte (Anlage)'!U119="",0,U83-'2d) Planwerte (Anlage)'!U119) -> 0
B12: Relative Treibhausgasemissionsminderung | C12: % | D12: - | E12: =IF('2d) Planwerte (Anlage)'!E119="",0,IFERROR(E11/E83,0)) -> 0 | F12: =IF('2d) Planwerte (Anlage)'!F119="",0,IFERROR(F11/F83,0)) -> 0 | G12: =IF('2d) Planwerte (Anlage)'!G119="",0,IFERROR(G11/G83,0)) -> 0 | H12: =IF('2d) Planwerte (Anlage)'!H119="",0,IFERROR(H11/H83,0)) -> 0 | I12: =IF('2d) Planwerte (Anlage)'!I119="",0,IFERROR(I11/I83,0)) -> 0 | J12: =IF('2d) Planwerte (Anlage)'!J119="",0,IFERROR(J11/J83,0)) -> 0 | K12: =IF('2d) Planwerte (Anlage)'!K119="",0,IFERROR(K11/K83,0)) -> 0 | L12: =IF('2d) Planwerte (Anlage)'!L119="",0,IFERROR(L11/L83,0)) -> 0 | ... U12: =IF('2d) Planwerte (Anlage)'!U119="",0,IFERROR(U11/U83,0)) -> 0
B15: Hilfstabelle I - Absolute Energieträgereinsätze (reaggregiert)
B16: Absolute Energieträgereinsätze (Gesamtvorhaben) | C16: Einheit | E16: =YEAR('2b) Allg. Inputs'!$C$8) -> 1900 | F16: =E16+1 -> 1901 | G16: =F16+1 -> 1902 | H16: =G16+1 -> 1903 | I16: =H16+1 -> 1904 | J16: =I16+1 -> 1905 | K16: =J16+1 -> 1906 | L16: =K16+1 -> 1907 | M16: =L16+1 -> 1908 | ... R16: =Q16+1 -> 1913 | S16: =IF('4c) Berechnungen_MFS'!E99 = "Nein",R16+1, R16+1&" 1. Teil-KJ") -> 1914 | T16: =IF('4c) Berechnungen_MFS'!E99 = "Nein","", R16+1&" 2. Teil-KJ") | U16: =IF('4c) Berechnungen_MFS'!E99="Ja",R16+2,"")
B17: Strom | C17: MWh/Jahr | D17: - | E17: ='2d) Planwerte (Anlage)'!E$76+'2d) Planwerte (Anlage)'!E$109 -> 0 | F17: ='2d) Planwerte (Anlage)'!F$76+'2d) Planwerte (Anlage)'!F$109 -> 0 | G17: ='2d) Planwerte (Anlage)'!G$76+'2d) Planwerte (Anlage)'!G$109 -> 0 | H17: ='2d) Planwerte (Anlage)'!H$76+'2d) Planwerte (Anlage)'!H$109 -> 0 | I17: ='2d) Planwerte (Anlage)'!I$76+'2d) Planwerte (Anlage)'!I$109 -> 0 | J17: ='2d) Planwerte (Anlage)'!J$76+'2d) Planwerte (Anlage)'!J$109 -> 0 | K17: ='2d) Planwerte (Anlage)'!K$76+'2d) Planwerte (Anlage)'!K$109 -> 0 | L17: ='2d) Planwerte (Anlage)'!L$76+'2d) Planwerte (Anlage)'!L$109 -> 0 | ... U17: ='2d) Planwerte (Anlage)'!U$76+'2d) Planwerte (Anlage)'!U$109 -> 0
B18: Erneuerbarer Wasserstoff | C18: MWh/Jahr | D18: - | E18: ='2d) Planwerte (Anlage)'!E$77+'2d) Planwerte (Anlage)'!E$110 -> 0 | F18: ='2d) Planwerte (Anlage)'!F$77+'2d) Planwerte (Anlage)'!F$110 -> 0 | G18: ='2d) Planwerte (Anlage)'!G$77+'2d) Planwerte (Anlage)'!G$110 -> 0 | H18: ='2d) Planwerte (Anlage)'!H$77+'2d) Planwerte (Anlage)'!H$110 -> 0 | I18: ='2d) Planwerte (Anlage)'!I$77+'2d) Planwerte (Anlage)'!I$110 -> 0 | J18: ='2d) Planwerte (Anlage)'!J$77+'2d) Planwerte (Anlage)'!J$110 -> 0 | K18: ='2d) Planwerte (Anlage)'!K$77+'2d) Planwerte (Anlage)'!K$110 -> 0 | L18: ='2d) Planwerte (Anlage)'!L$77+'2d) Planwerte (Anlage)'!L$110 -> 0 | ... U18: ='2d) Planwerte (Anlage)'!U$77+'2d) Planwerte (Anlage)'!U$110 -> 0
B19: CO2-armer Wasserstoff | C19: MWh/Jahr | D19: - | E19: ='2d) Planwerte (Anlage)'!E$78+'2d) Planwerte (Anlage)'!E$111 -> 0 | F19: ='2d) Planwerte (Anlage)'!F$78+'2d) Planwerte (Anlage)'!F$111 -> 0 | G19: ='2d) Planwerte (Anlage)'!G$78+'2d) Planwerte (Anlage)'!G$111 -> 0 | H19: ='2d) Planwerte (Anlage)'!H$78+'2d) Planwerte (Anlage)'!H$111 -> 0 | I19: ='2d) Planwerte (Anlage)'!I$78+'2d) Planwerte (Anlage)'!I$111 -> 0 | J19: ='2d) Planwerte (Anlage)'!J$78+'2d) Planwerte (Anlage)'!J$111 -> 0 | K19: ='2d) Planwerte (Anlage)'!K$78+'2d) Planwerte (Anlage)'!K$111 -> 0 | L19: ='2d) Planwerte (Anlage)'!L$78+'2d) Planwerte (Anlage)'!L$111 -> 0 | ... U19: ='2d) Planwerte (Anlage)'!U$78+'2d) Planwerte (Anlage)'!U$111 -> 0
B20: Erdgas | C20: MWh/Jahr | D20: - | E20: ='2d) Planwerte (Anlage)'!E$79+'2d) Planwerte (Anlage)'!E$112 -> 0 | F20: ='2d) Planwerte (Anlage)'!F$79+'2d) Planwerte (Anlage)'!F$112 -> 0 | G20: ='2d) Planwerte (Anlage)'!G$79+'2d) Planwerte (Anlage)'!G$112 -> 0 | H20: ='2d) Planwerte (Anlage)'!H$79+'2d) Planwerte (Anlage)'!H$112 -> 0 | I20: ='2d) Planwerte (Anlage)'!I$79+'2d) Planwerte (Anlage)'!I$112 -> 0 | J20: ='2d) Planwerte (Anlage)'!J$79+'2d) Planwerte (Anlage)'!J$112 -> 0 | K20: ='2d) Planwerte (Anlage)'!K$79+'2d) Planwerte (Anlage)'!K$112 -> 0 | L20: ='2d) Planwerte (Anlage)'!L$79+'2d) Planwerte (Anlage)'!L$112 -> 0 | ... U20: ='2d) Planwerte (Anlage)'!U$79+'2d) Planwerte (Anlage)'!U$112 -> 0
B21: Kokskohle | C21: MWh/Jahr | D21: - | E21: ='2d) Planwerte (Anlage)'!E$88 -> 0 | F21: ='2d) Planwerte (Anlage)'!F$88 -> 0 | G21: ='2d) Planwerte (Anlage)'!G$88 -> 0 | H21: ='2d) Planwerte (Anlage)'!H$88 -> 0 | I21: ='2d) Planwerte (Anlage)'!I$88 -> 0 | J21: ='2d) Planwerte (Anlage)'!J$88 -> 0 | K21: ='2d) Planwerte (Anlage)'!K$88 -> 0 | L21: ='2d) Planwerte (Anlage)'!L$88 -> 0 | ... U21: ='2d) Planwerte (Anlage)'!U$88 -> 0
B22: Kesselkohle | C22: MWh/Jahr | D22: - | E22: ='2d) Planwerte (Anlage)'!E$89 -> 0 | F22: ='2d) Planwerte (Anlage)'!F$89 -> 0 | G22: ='2d) Planwerte (Anlage)'!G$89 -> 0 | H22: ='2d) Planwerte (Anlage)'!H$89 -> 0 | I22: ='2d) Planwerte (Anlage)'!I$89 -> 0 | J22: ='2d) Planwerte (Anlage)'!J$89 -> 0 | K22: ='2d) Planwerte (Anlage)'!K$89 -> 0 | L22: ='2d) Planwerte (Anlage)'!L$89 -> 0 | ... U22: ='2d) Planwerte (Anlage)'!U$89 -> 0
B23: Gesamtenergieeinsatz | C23: MWh/Jahr | D23: - | E23: =IFERROR(SUM(E17:E22),0) -> 0 | F23: =IFERROR(SUM(F17:F22),0) -> 0 | G23: =IFERROR(SUM(G17:G22),0) -> 0 | H23: =IFERROR(SUM(H17:H22),0) -> 0 | I23: =IFERROR(SUM(I17:I22),0) -> 0 | J23: =IFERROR(SUM(J17:J22),0) -> 0 | K23: =IFERROR(SUM(K17:K22),0) -> 0 | L23: =IFERROR(SUM(L17:L22),0) -> 0 | ... U23: =IFERROR(SUM(U17:U22),0) -> 0
B26: Hilfstabelle II - Absolute Energieträgereinsätze (nicht aggregiert)
B27: Absolute Energieträgereinsätze (Gesamtvorhaben) | C27: Einheit | E27: =YEAR('2b) Allg. Inputs'!$C$8) -> 1900 | F27: =E27+1 -> 1901 | G27: =F27+1 -> 1902 | H27: =G27+1 -> 1903 | I27: =H27+1 -> 1904 | J27: =I27+1 -> 1905 | K27: =J27+1 -> 1906 | L27: =K27+1 -> 1907 | M27: =L27+1 -> 1908 | ... R27: =Q27+1 -> 1913 | S27: =IF('4c) Berechnungen_MFS'!E99 = "Nein",R27+1, R27+1&" 1. Teil-KJ") -> 1914 | T27: =IF('4c) Berechnungen_MFS'!E99 = "Nein","", R27+1&" 2. Teil-KJ") | U27: =IF('4c) Berechnungen_MFS'!E99="Ja",R27+2,"")
B28: Strom | C28: MWh/Jahr | D28: - | E28: ='2d) Planwerte (Anlage)'!E$76+'2d) Planwerte (Anlage)'!E$109 -> 0 | F28: ='2d) Planwerte (Anlage)'!F$76+'2d) Planwerte (Anlage)'!F$109 -> 0 | G28: ='2d) Planwerte (Anlage)'!G$76+'2d) Planwerte (Anlage)'!G$109 -> 0 | H28: ='2d) Planwerte (Anlage)'!H$76+'2d) Planwerte (Anlage)'!H$109 -> 0 | I28: ='2d) Planwerte (Anlage)'!I$76+'2d) Planwerte (Anlage)'!I$109 -> 0 | J28: ='2d) Planwerte (Anlage)'!J$76+'2d) Planwerte (Anlage)'!J$109 -> 0 | K28: ='2d) Planwerte (Anlage)'!K$76+'2d) Planwerte (Anlage)'!K$109 -> 0 | L28: ='2d) Planwerte (Anlage)'!L$76+'2d) Planwerte (Anlage)'!L$109 -> 0 | ... U28: ='2d) Planwerte (Anlage)'!U$76+'2d) Planwerte (Anlage)'!U$109 -> 0
B29: Erneuerbarer Wasserstoff | C29: MWh/Jahr | D29: - | E29: ='2d) Planwerte (Anlage)'!E$77+'2d) Planwerte (Anlage)'!E$110 -> 0 | F29: ='2d) Planwerte (Anlage)'!F$77+'2d) Planwerte (Anlage)'!F$110 -> 0 | G29: ='2d) Planwerte (Anlage)'!G$77+'2d) Planwerte (Anlage)'!G$110 -> 0 | H29: ='2d) Planwerte (Anlage)'!H$77+'2d) Planwerte (Anlage)'!H$110 -> 0 | I29: ='2d) Planwerte (Anlage)'!I$77+'2d) Planwerte (Anlage)'!I$110 -> 0 | J29: ='2d) Planwerte (Anlage)'!J$77+'2d) Planwerte (Anlage)'!J$110 -> 0 | K29: ='2d) Planwerte (Anlage)'!K$77+'2d) Planwerte (Anlage)'!K$110 -> 0 | L29: ='2d) Planwerte (Anlage)'!L$77+'2d) Planwerte (Anlage)'!L$110 -> 0 | ... U29: ='2d) Planwerte (Anlage)'!U$77+'2d) Planwerte (Anlage)'!U$110 -> 0
B30: CO2-armer Wasserstoff | C30: MWh/Jahr | D30: - | E30: ='2d) Planwerte (Anlage)'!E$78+'2d) Planwerte (Anlage)'!E$111 -> 0 | F30: ='2d) Planwerte (Anlage)'!F$78+'2d) Planwerte (Anlage)'!F$111 -> 0 | G30: ='2d) Planwerte (Anlage)'!G$78+'2d) Planwerte (Anlage)'!G$111 -> 0 | H30: ='2d) Planwerte (Anlage)'!H$78+'2d) Planwerte (Anlage)'!H$111 -> 0 | I30: ='2d) Planwerte (Anlage)'!I$78+'2d) Planwerte (Anlage)'!I$111 -> 0 | J30: ='2d) Planwerte (Anlage)'!J$78+'2d) Planwerte (Anlage)'!J$111 -> 0 | K30: ='2d) Planwerte (Anlage)'!K$78+'2d) Planwerte (Anlage)'!K$111 -> 0 | L30: ='2d) Planwerte (Anlage)'!L$78+'2d) Planwerte (Anlage)'!L$111 -> 0 | ... U30: ='2d) Planwerte (Anlage)'!U$78+'2d) Planwerte (Anlage)'!U$111 -> 0
B31: Erdgas | C31: MWh/Jahr | D31: - | E31: ='2d) Planwerte (Anlage)'!E$79+'2d) Planwerte (Anlage)'!E$112 -> 0 | F31: ='2d) Planwerte (Anlage)'!F$79+'2d) Planwerte (Anlage)'!F$112 -> 0 | G31: ='2d) Planwerte (Anlage)'!G$79+'2d) Planwerte (Anlage)'!G$112 -> 0 | H31: ='2d) Planwerte (Anlage)'!H$79+'2d) Planwerte (Anlage)'!H$112 -> 0 | I31: ='2d) Planwerte (Anlage)'!I$79+'2d) Planwerte (Anlage)'!I$112 -> 0 | J31: ='2d) Planwerte (Anlage)'!J$79+'2d) Planwerte (Anlage)'!J$112 -> 0 | K31: ='2d) Planwerte (Anlage)'!K$79+'2d) Planwerte (Anlage)'!K$112 -> 0 | L31: ='2d) Planwerte (Anlage)'!L$79+'2d) Planwerte (Anlage)'!L$112 -> 0 | ... U31: ='2d) Planwerte (Anlage)'!U$79+'2d) Planwerte (Anlage)'!U$112 -> 0
B32: Kokskohle | C32: MWh/Jahr | D32: - | E32: ='2d) Planwerte (Anlage)'!E$88 -> 0 | F32: ='2d) Planwerte (Anlage)'!F$88 -> 0 | G32: ='2d) Planwerte (Anlage)'!G$88 -> 0 | H32: ='2d) Planwerte (Anlage)'!H$88 -> 0 | I32: ='2d) Planwerte (Anlage)'!I$88 -> 0 | J32: ='2d) Planwerte (Anlage)'!J$88 -> 0 | K32: ='2d) Planwerte (Anlage)'!K$88 -> 0 | L32: ='2d) Planwerte (Anlage)'!L$88 -> 0 | ... U32: ='2d) Planwerte (Anlage)'!U$88 -> 0
B33: Kesselkohle | C33: MWh/Jahr | D33: - | E33: ='2d) Planwerte (Anlage)'!E$89 -> 0 | F33: ='2d) Planwerte (Anlage)'!F$89 -> 0 | G33: ='2d) Planwerte (Anlage)'!G$89 -> 0 | H33: ='2d) Planwerte (Anlage)'!H$89 -> 0 | I33: ='2d) Planwerte (Anlage)'!I$89 -> 0 | J33: ='2d) Planwerte (Anlage)'!J$89 -> 0 | K33: ='2d) Planwerte (Anlage)'!K$89 -> 0 | L33: ='2d) Planwerte (Anlage)'!L$89 -> 0 | ... U33: ='2d) Planwerte (Anlage)'!U$89 -> 0
B34: Biomasse (gasförmig) | C34: MWh/Jahr | D34: - | E34: ='2d) Planwerte (Anlage)'!E$80+'2d) Planwerte (Anlage)'!E$113 -> 0 | F34: ='2d) Planwerte (Anlage)'!F$80+'2d) Planwerte (Anlage)'!F$113 -> 0 | G34: ='2d) Planwerte (Anlage)'!G$80+'2d) Planwerte (Anlage)'!G$113 -> 0 | H34: ='2d) Planwerte (Anlage)'!H$80+'2d) Planwerte (Anlage)'!H$113 -> 0 | I34: ='2d) Planwerte (Anlage)'!I$80+'2d) Planwerte (Anlage)'!I$113 -> 0 | J34: ='2d) Planwerte (Anlage)'!J$80+'2d) Planwerte (Anlage)'!J$113 -> 0 | K34: ='2d) Planwerte (Anlage)'!K$80+'2d) Planwerte (Anlage)'!K$113 -> 0 | L34: ='2d) Planwerte (Anlage)'!L$80+'2d) Planwerte (Anlage)'!L$113 -> 0 | ... U34: ='2d) Planwerte (Anlage)'!U$80+'2d) Planwerte (Anlage)'!U$113 -> 0
B35: Biomasse (fest/flüssig) | C35: MWh/Jahr | D35: - | E35: ='2d) Planwerte (Anlage)'!E$81+'2d) Planwerte (Anlage)'!E$114 -> 0 | F35: ='2d) Planwerte (Anlage)'!F$81+'2d) Planwerte (Anlage)'!F$114 -> 0 | G35: ='2d) Planwerte (Anlage)'!G$81+'2d) Planwerte (Anlage)'!G$114 -> 0 | H35: ='2d) Planwerte (Anlage)'!H$81+'2d) Planwerte (Anlage)'!H$114 -> 0 | I35: ='2d) Planwerte (Anlage)'!I$81+'2d) Planwerte (Anlage)'!I$114 -> 0 | J35: ='2d) Planwerte (Anlage)'!J$81+'2d) Planwerte (Anlage)'!J$114 -> 0 | K35: ='2d) Planwerte (Anlage)'!K$81+'2d) Planwerte (Anlage)'!K$114 -> 0 | L35: ='2d) Planwerte (Anlage)'!L$81+'2d) Planwerte (Anlage)'!L$114 -> 0 | ... U35: ='2d) Planwerte (Anlage)'!U$81+'2d) Planwerte (Anlage)'!U$114 -> 0
B36: Wiederverwertete kohlenstoffhaltige Brennstoffe (RCFs) gemäß Nummer 4.12 FRL CCfD | C36: MWh/Jahr | D36: - | E36: ='2d) Planwerte (Anlage)'!E$82+'2d) Planwerte (Anlage)'!E$115 -> 0 | F36: ='2d) Planwerte (Anlage)'!F$82+'2d) Planwerte (Anlage)'!F$115 -> 0 | G36: ='2d) Planwerte (Anlage)'!G$82+'2d) Planwerte (Anlage)'!G$115 -> 0 | H36: ='2d) Planwerte (Anlage)'!H$82+'2d) Planwerte (Anlage)'!H$115 -> 0 | I36: ='2d) Planwerte (Anlage)'!I$82+'2d) Planwerte (Anlage)'!I$115 -> 0 | J36: ='2d) Planwerte (Anlage)'!J$82+'2d) Planwerte (Anlage)'!J$115 -> 0 | K36: ='2d) Planwerte (Anlage)'!K$82+'2d) Planwerte (Anlage)'!K$115 -> 0 | L36: ='2d) Planwerte (Anlage)'!L$82+'2d) Planwerte (Anlage)'!L$115 -> 0 | ... U36: ='2d) Planwerte (Anlage)'!U$82+'2d) Planwerte (Anlage)'!U$115 -> 0
B37: =IF(OR(ISBLANK('2d) Planwerte (Anlage)'!B83),'2d) Planwerte (Anlage)'!B83="- bitte Wasserstoffderivat benennen -"),"",'2d) Planwerte (Anlage)'!B83) | C37: =IF(OR(ISBLANK('2d) Planwerte (Anlage)'!B83),'2d) Planwerte (Anlage)'!B83="- bitte Wasserstoffderivat benennen -"),"","MWh/Jahr") | D37: - | E37: ='2d) Planwerte (Anlage)'!E83+IF(OR($B37<>'2d) Planwerte (Anlage)'!$B$116,$B37=""),0,1)*'2d) Planwerte (Anlage)'!E$116 -> 0 | F37: ='2d) Planwerte (Anlage)'!F83+IF(OR($B37<>'2d) Planwerte (Anlage)'!$B$116,$B37=""),0,1)*'2d) Planwerte (Anlage)'!F$116 -> 0 | G37: ='2d) Planwerte (Anlage)'!G83+IF(OR($B37<>'2d) Planwerte (Anlage)'!$B$116,$B37=""),0,1)*'2d) Planwerte (Anlage)'!G$116 -> 0 | H37: ='2d) Planwerte (Anlage)'!H83+IF(OR($B37<>'2d) Planwerte (Anlage)'!$B$116,$B37=""),0,1)*'2d) Planwerte (Anlage)'!H$116 -> 0 | I37: ='2d) Planwerte (Anlage)'!I83+IF(OR($B37<>'2d) Planwerte (Anlage)'!$B$116,$B37=""),0,1)*'2d) Planwerte (Anlage)'!I$116 -> 0 | J37: ='2d) Planwerte (Anlage)'!J83+IF(OR($B37<>'2d) Planwerte (Anlage)'!$B$116,$B37=""),0,1)*'2d) Planwerte (Anlage)'!J$116 -> 0 | K37: ='2d) Planwerte (Anlage)'!K83+IF(OR($B37<>'2d) Planwerte (Anlage)'!$B$116,$B37=""),0,1)*'2d) Planwerte (Anlage)'!K$116 -> 0 | L37: ='2d) Planwerte (Anlage)'!L83+IF(OR($B37<>'2d) Planwerte (Anlage)'!$B$116,$B37=""),0,1)*'2d) Planwerte (Anlage)'!L$116 -> 0 | ... U37: ='2d) Planwerte (Anlage)'!U83+IF(OR($B37<>'2d) Planwerte (Anlage)'!$B$116,$B37=""),0,1)*'2d) Planwerte (Anlage)'!U$116 -> 0
B38: =IF(OR(ISBLANK('2d) Planwerte (Anlage)'!B84),'2d) Planwerte (Anlage)'!B84="- bitte Wasserstoffderivat benennen -"),"",'2d) Planwerte (Anlage)'!B84) | C38: =IF(OR(ISBLANK('2d) Planwerte (Anlage)'!B84),'2d) Planwerte (Anlage)'!B84="- bitte Wasserstoffderivat benennen -"),"","MWh/Jahr") | D38: - | E38: ='2d) Planwerte (Anlage)'!E84+IF(OR($B38<>'2d) Planwerte (Anlage)'!$B$116,$B38=""),0,1)*'2d) Planwerte (Anlage)'!E$116 -> 0 | F38: ='2d) Planwerte (Anlage)'!F84+IF(OR($B38<>'2d) Planwerte (Anlage)'!$B$116,$B38=""),0,1)*'2d) Planwerte (Anlage)'!F$116 -> 0 | G38: ='2d) Planwerte (Anlage)'!G84+IF(OR($B38<>'2d) Planwerte (Anlage)'!$B$116,$B38=""),0,1)*'2d) Planwerte (Anlage)'!G$116 -> 0 | H38: ='2d) Planwerte (Anlage)'!H84+IF(OR($B38<>'2d) Planwerte (Anlage)'!$B$116,$B38=""),0,1)*'2d) Planwerte (Anlage)'!H$116 -> 0 | I38: ='2d) Planwerte (Anlage)'!I84+IF(OR($B38<>'2d) Planwerte (Anlage)'!$B$116,$B38=""),0,1)*'2d) Planwerte (Anlage)'!I$116 -> 0 | J38: ='2d) Planwerte (Anlage)'!J84+IF(OR($B38<>'2d) Planwerte (Anlage)'!$B$116,$B38=""),0,1)*'2d) Planwerte (Anlage)'!J$116 -> 0 | K38: ='2d) Planwerte (Anlage)'!K84+IF(OR($B38<>'2d) Planwerte (Anlage)'!$B$116,$B38=""),0,1)*'2d) Planwerte (Anlage)'!K$116 -> 0 | L38: ='2d) Planwerte (Anlage)'!L84+IF(OR($B38<>'2d) Planwerte (Anlage)'!$B$116,$B38=""),0,1)*'2d) Planwerte (Anlage)'!L$116 -> 0 | ... U38: ='2d) Planwerte (Anlage)'!U84+IF(OR($B38<>'2d) Planwerte (Anlage)'!$B$116,$B38=""),0,1)*'2d) Planwerte (Anlage)'!U$116 -> 0
B39: =IF(OR(ISBLANK('2d) Planwerte (Anlage)'!B85),'2d) Planwerte (Anlage)'!B85="- bitte Wasserstoffderivat benennen -"),"",'2d) Planwerte (Anlage)'!B85) | C39: =IF(OR(ISBLANK('2d) Planwerte (Anlage)'!B85),'2d) Planwerte (Anlage)'!B85="- bitte Wasserstoffderivat benennen -"),"","MWh/Jahr") | D39: - | E39: ='2d) Planwerte (Anlage)'!E85+IF(OR($B39<>'2d) Planwerte (Anlage)'!$B$116,$B39=""),0,1)*'2d) Planwerte (Anlage)'!E$116 -> 0 | F39: ='2d) Planwerte (Anlage)'!F85+IF(OR($B39<>'2d) Planwerte (Anlage)'!$B$116,$B39=""),0,1)*'2d) Planwerte (Anlage)'!F$116 -> 0 | G39: ='2d) Planwerte (Anlage)'!G85+IF(OR($B39<>'2d) Planwerte (Anlage)'!$B$116,$B39=""),0,1)*'2d) Planwerte (Anlage)'!G$116 -> 0 | H39: ='2d) Planwerte (Anlage)'!H85+IF(OR($B39<>'2d) Planwerte (Anlage)'!$B$116,$B39=""),0,1)*'2d) Planwerte (Anlage)'!H$116 -> 0 | I39: ='2d) Planwerte (Anlage)'!I85+IF(OR($B39<>'2d) Planwerte (Anlage)'!$B$116,$B39=""),0,1)*'2d) Planwerte (Anlage)'!I$116 -> 0 | J39: ='2d) Planwerte (Anlage)'!J85+IF(OR($B39<>'2d) Planwerte (Anlage)'!$B$116,$B39=""),0,1)*'2d) Planwerte (Anlage)'!J$116 -> 0 | K39: ='2d) Planwerte (Anlage)'!K85+IF(OR($B39<>'2d) Planwerte (Anlage)'!$B$116,$B39=""),0,1)*'2d) Planwerte (Anlage)'!K$116 -> 0 | L39: ='2d) Planwerte (Anlage)'!L85+IF(OR($B39<>'2d) Planwerte (Anlage)'!$B$116,$B39=""),0,1)*'2d) Planwerte (Anlage)'!L$116 -> 0 | ... U39: ='2d) Planwerte (Anlage)'!U85+IF(OR($B39<>'2d) Planwerte (Anlage)'!$B$116,$B39=""),0,1)*'2d) Planwerte (Anlage)'!U$116 -> 0
B40: =IF(OR(ISBLANK('2d) Planwerte (Anlage)'!B86),'2d) Planwerte (Anlage)'!B86="- bitte Wasserstoffderivat benennen -"),"",'2d) Planwerte (Anlage)'!B86) | C40: =IF(OR(ISBLANK('2d) Planwerte (Anlage)'!B86),'2d) Planwerte (Anlage)'!B86="- bitte Wasserstoffderivat benennen -"),"","MWh/Jahr") | D40: - | E40: ='2d) Planwerte (Anlage)'!E86+IF(OR($B40<>'2d) Planwerte (Anlage)'!$B$116,$B40=""),0,1)*'2d) Planwerte (Anlage)'!E$116 -> 0 | F40: ='2d) Planwerte (Anlage)'!F86+IF(OR($B40<>'2d) Planwerte (Anlage)'!$B$116,$B40=""),0,1)*'2d) Planwerte (Anlage)'!F$116 -> 0 | G40: ='2d) Planwerte (Anlage)'!G86+IF(OR($B40<>'2d) Planwerte (Anlage)'!$B$116,$B40=""),0,1)*'2d) Planwerte (Anlage)'!G$116 -> 0 | H40: ='2d) Planwerte (Anlage)'!H86+IF(OR($B40<>'2d) Planwerte (Anlage)'!$B$116,$B40=""),0,1)*'2d) Planwerte (Anlage)'!H$116 -> 0 | I40: ='2d) Planwerte (Anlage)'!I86+IF(OR($B40<>'2d) Planwerte (Anlage)'!$B$116,$B40=""),0,1)*'2d) Planwerte (Anlage)'!I$116 -> 0 | J40: ='2d) Planwerte (Anlage)'!J86+IF(OR($B40<>'2d) Planwerte (Anlage)'!$B$116,$B40=""),0,1)*'2d) Planwerte (Anlage)'!J$116 -> 0 | K40: ='2d) Planwerte (Anlage)'!K86+IF(OR($B40<>'2d) Planwerte (Anlage)'!$B$116,$B40=""),0,1)*'2d) Planwerte (Anlage)'!K$116 -> 0 | L40: ='2d) Planwerte (Anlage)'!L86+IF(OR($B40<>'2d) Planwerte (Anlage)'!$B$116,$B40=""),0,1)*'2d) Planwerte (Anlage)'!L$116 -> 0 | ... U40: ='2d) Planwerte (Anlage)'!U86+IF(OR($B40<>'2d) Planwerte (Anlage)'!$B$116,$B40=""),0,1)*'2d) Planwerte (Anlage)'!U$116 -> 0
B41: =IF(OR(ISBLANK('2d) Planwerte (Anlage)'!B90),'2d) Planwerte (Anlage)'!B90="- bitte weitere umweltschädlichste Energieträger hier benennen -"),"",'2d) Planwerte (Anlage)'!B90) | C41: =IF(OR(ISBLANK('2d) Planwerte (Anlage)'!B90),'2d) Planwerte (Anlage)'!B90="- bitte weitere umweltschädlichste Energieträger hier benennen -"),"","MWh/Jahr") | D41: - | E41: ='2d) Planwerte (Anlage)'!E90+IF(OR($B41<>'2d) Planwerte (Anlage)'!$B$116,$B41=""),0,1)*'2d) Planwerte (Anlage)'!E$116 -> 0 | F41: ='2d) Planwerte (Anlage)'!F90+IF(OR($B41<>'2d) Planwerte (Anlage)'!$B$116,$B41=""),0,1)*'2d) Planwerte (Anlage)'!F$116 -> 0 | G41: ='2d) Planwerte (Anlage)'!G90+IF(OR($B41<>'2d) Planwerte (Anlage)'!$B$116,$B41=""),0,1)*'2d) Planwerte (Anlage)'!G$116 -> 0 | H41: ='2d) Planwerte (Anlage)'!H90+IF(OR($B41<>'2d) Planwerte (Anlage)'!$B$116,$B41=""),0,1)*'2d) Planwerte (Anlage)'!H$116 -> 0 | I41: ='2d) Planwerte (Anlage)'!I90+IF(OR($B41<>'2d) Planwerte (Anlage)'!$B$116,$B41=""),0,1)*'2d) Planwerte (Anlage)'!I$116 -> 0 | J41: ='2d) Planwerte (Anlage)'!J90+IF(OR($B41<>'2d) Planwerte (Anlage)'!$B$116,$B41=""),0,1)*'2d) Planwerte (Anlage)'!J$116 -> 0 | K41: ='2d) Planwerte (Anlage)'!K90+IF(OR($B41<>'2d) Planwerte (Anlage)'!$B$116,$B41=""),0,1)*'2d) Planwerte (Anlage)'!K$116 -> 0 | L41: ='2d) Planwerte (Anlage)'!L90+IF(OR($B41<>'2d) Planwerte (Anlage)'!$B$116,$B41=""),0,1)*'2d) Planwerte (Anlage)'!L$116 -> 0 | ... U41: ='2d) Planwerte (Anlage)'!U90+IF(OR($B41<>'2d) Planwerte (Anlage)'!$B$116,$B41=""),0,1)*'2d) Planwerte (Anlage)'!U$116 -> 0
B42: =IF(OR(ISBLANK('2d) Planwerte (Anlage)'!B91),'2d) Planwerte (Anlage)'!B91="- bitte weitere umweltschädlichste Energieträger hier benennen -"),"",'2d) Planwerte (Anlage)'!B91) | C42: =IF(OR(ISBLANK('2d) Planwerte (Anlage)'!B91),'2d) Planwerte (Anlage)'!B91="- bitte weitere umweltschädlichste Energieträger hier benennen -"),"","MWh/Jahr") | D42: - | E42: ='2d) Planwerte (Anlage)'!E91+IF(OR($B42<>'2d) Planwerte (Anlage)'!$B$116,$B42=""),0,1)*'2d) Planwerte (Anlage)'!E$116 -> 0 | F42: ='2d) Planwerte (Anlage)'!F91+IF(OR($B42<>'2d) Planwerte (Anlage)'!$B$116,$B42=""),0,1)*'2d) Planwerte (Anlage)'!F$116 -> 0 | G42: ='2d) Planwerte (Anlage)'!G91+IF(OR($B42<>'2d) Planwerte (Anlage)'!$B$116,$B42=""),0,1)*'2d) Planwerte (Anlage)'!G$116 -> 0 | H42: ='2d) Planwerte (Anlage)'!H91+IF(OR($B42<>'2d) Planwerte (Anlage)'!$B$116,$B42=""),0,1)*'2d) Planwerte (Anlage)'!H$116 -> 0 | I42: ='2d) Planwerte (Anlage)'!I91+IF(OR($B42<>'2d) Planwerte (Anlage)'!$B$116,$B42=""),0,1)*'2d) Planwerte (Anlage)'!I$116 -> 0 | J42: ='2d) Planwerte (Anlage)'!J91+IF(OR($B42<>'2d) Planwerte (Anlage)'!$B$116,$B42=""),0,1)*'2d) Planwerte (Anlage)'!J$116 -> 0 | K42: ='2d) Planwerte (Anlage)'!K91+IF(OR($B42<>'2d) Planwerte (Anlage)'!$B$116,$B42=""),0,1)*'2d) Planwerte (Anlage)'!K$116 -> 0 | L42: ='2d) Planwerte (Anlage)'!L91+IF(OR($B42<>'2d) Planwerte (Anlage)'!$B$116,$B42=""),0,1)*'2d) Planwerte (Anlage)'!L$116 -> 0 | ... U42: ='2d) Planwerte (Anlage)'!U91+IF(OR($B42<>'2d) Planwerte (Anlage)'!$B$116,$B42=""),0,1)*'2d) Planwerte (Anlage)'!U$116 -> 0
B43: =IF(OR(ISBLANK('2d) Planwerte (Anlage)'!B92),'2d) Planwerte (Anlage)'!B92="- bitte weitere umweltschädlichste Energieträger hier benennen -"),"",'2d) Planwerte (Anlage)'!B92) | C43: =IF(OR(ISBLANK('2d) Planwerte (Anlage)'!B92),'2d) Planwerte (Anlage)'!B92="- bitte weitere umweltschädlichste Energieträger hier benennen -"),"","MWh/Jahr") | D43: - | E43: ='2d) Planwerte (Anlage)'!E92+IF(OR($B43<>'2d) Planwerte (Anlage)'!$B$116,$B43=""),0,1)*'2d) Planwerte (Anlage)'!E$116 -> 0 | F43: ='2d) Planwerte (Anlage)'!F92+IF(OR($B43<>'2d) Planwerte (Anlage)'!$B$116,$B43=""),0,1)*'2d) Planwerte (Anlage)'!F$116 -> 0 | G43: ='2d) Planwerte (Anlage)'!G92+IF(OR($B43<>'2d) Planwerte (Anlage)'!$B$116,$B43=""),0,1)*'2d) Planwerte (Anlage)'!G$116 -> 0 | H43: ='2d) Planwerte (Anlage)'!H92+IF(OR($B43<>'2d) Planwerte (Anlage)'!$B$116,$B43=""),0,1)*'2d) Planwerte (Anlage)'!H$116 -> 0 | I43: ='2d) Planwerte (Anlage)'!I92+IF(OR($B43<>'2d) Planwerte (Anlage)'!$B$116,$B43=""),0,1)*'2d) Planwerte (Anlage)'!I$116 -> 0 | J43: ='2d) Planwerte (Anlage)'!J92+IF(OR($B43<>'2d) Planwerte (Anlage)'!$B$116,$B43=""),0,1)*'2d) Planwerte (Anlage)'!J$116 -> 0 | K43: ='2d) Planwerte (Anlage)'!K92+IF(OR($B43<>'2d) Planwerte (Anlage)'!$B$116,$B43=""),0,1)*'2d) Planwerte (Anlage)'!K$116 -> 0 | L43: ='2d) Planwerte (Anlage)'!L92+IF(OR($B43<>'2d) Planwerte (Anlage)'!$B$116,$B43=""),0,1)*'2d) Planwerte (Anlage)'!L$116 -> 0 | ... U43: ='2d) Planwerte (Anlage)'!U92+IF(OR($B43<>'2d) Planwerte (Anlage)'!$B$116,$B43=""),0,1)*'2d) Planwerte (Anlage)'!U$116 -> 0
B44: =IF(OR(ISBLANK('2d) Planwerte (Anlage)'!B93),'2d) Planwerte (Anlage)'!B93="- bitte weitere umweltschädlichste Energieträger hier benennen -"),"",'2d) Planwerte (Anlage)'!B93) | C44: =IF(OR(ISBLANK('2d) Planwerte (Anlage)'!B93),'2d) Planwerte (Anlage)'!B93="- bitte weitere umweltschädlichste Energieträger hier benennen -"),"","MWh/Jahr") | D44: - | E44: ='2d) Planwerte (Anlage)'!E93+IF(OR($B44<>'2d) Planwerte (Anlage)'!$B$116,$B44=""),0,1)*'2d) Planwerte (Anlage)'!E$116 -> 0 | F44: ='2d) Planwerte (Anlage)'!F93+IF(OR($B44<>'2d) Planwerte (Anlage)'!$B$116,$B44=""),0,1)*'2d) Planwerte (Anlage)'!F$116 -> 0 | G44: ='2d) Planwerte (Anlage)'!G93+IF(OR($B44<>'2d) Planwerte (Anlage)'!$B$116,$B44=""),0,1)*'2d) Planwerte (Anlage)'!G$116 -> 0 | H44: ='2d) Planwerte (Anlage)'!H93+IF(OR($B44<>'2d) Planwerte (Anlage)'!$B$116,$B44=""),0,1)*'2d) Planwerte (Anlage)'!H$116 -> 0 | I44: ='2d) Planwerte (Anlage)'!I93+IF(OR($B44<>'2d) Planwerte (Anlage)'!$B$116,$B44=""),0,1)*'2d) Planwerte (Anlage)'!I$116 -> 0 | J44: ='2d) Planwerte (Anlage)'!J93+IF(OR($B44<>'2d) Planwerte (Anlage)'!$B$116,$B44=""),0,1)*'2d) Planwerte (Anlage)'!J$116 -> 0 | K44: ='2d) Planwerte (Anlage)'!K93+IF(OR($B44<>'2d) Planwerte (Anlage)'!$B$116,$B44=""),0,1)*'2d) Planwerte (Anlage)'!K$116 -> 0 | L44: ='2d) Planwerte (Anlage)'!L93+IF(OR($B44<>'2d) Planwerte (Anlage)'!$B$116,$B44=""),0,1)*'2d) Planwerte (Anlage)'!L$116 -> 0 | ... U44: ='2d) Planwerte (Anlage)'!U93+IF(OR($B44<>'2d) Planwerte (Anlage)'!$B$116,$B44=""),0,1)*'2d) Planwerte (Anlage)'!U$116 -> 0
B45: =IF(OR(ISBLANK('2d) Planwerte (Anlage)'!B95),'2d) Planwerte (Anlage)'!B95="- bitte Abfallart benennen -"),"",'2d) Planwerte (Anlage)'!B95) | C45: =IF(OR(ISBLANK('2d) Planwerte (Anlage)'!B95),'2d) Planwerte (Anlage)'!B95="- bitte Abfallart benennen -"),"","MWh/Jahr") | D45: - | E45: ='2d) Planwerte (Anlage)'!E95+IF(OR($B45<>'2d) Planwerte (Anlage)'!$B$116,$B45=""),0,1)*'2d) Planwerte (Anlage)'!E$116 -> 0 | F45: ='2d) Planwerte (Anlage)'!F95+IF(OR($B45<>'2d) Planwerte (Anlage)'!$B$116,$B45=""),0,1)*'2d) Planwerte (Anlage)'!F$116 -> 0 | G45: ='2d) Planwerte (Anlage)'!G95+IF(OR($B45<>'2d) Planwerte (Anlage)'!$B$116,$B45=""),0,1)*'2d) Planwerte (Anlage)'!G$116 -> 0 | H45: ='2d) Planwerte (Anlage)'!H95+IF(OR($B45<>'2d) Planwerte (Anlage)'!$B$116,$B45=""),0,1)*'2d) Planwerte (Anlage)'!H$116 -> 0 | I45: ='2d) Planwerte (Anlage)'!I95+IF(OR($B45<>'2d) Planwerte (Anlage)'!$B$116,$B45=""),0,1)*'2d) Planwerte (Anlage)'!I$116 -> 0 | J45: ='2d) Planwerte (Anlage)'!J95+IF(OR($B45<>'2d) Planwerte (Anlage)'!$B$116,$B45=""),0,1)*'2d) Planwerte (Anlage)'!J$116 -> 0 | K45: ='2d) Planwerte (Anlage)'!K95+IF(OR($B45<>'2d) Planwerte (Anlage)'!$B$116,$B45=""),0,1)*'2d) Planwerte (Anlage)'!K$116 -> 0 | L45: ='2d) Planwerte (Anlage)'!L95+IF(OR($B45<>'2d) Planwerte (Anlage)'!$B$116,$B45=""),0,1)*'2d) Planwerte (Anlage)'!L$116 -> 0 | ... U45: ='2d) Planwerte (Anlage)'!U95+IF(OR($B45<>'2d) Planwerte (Anlage)'!$B$116,$B45=""),0,1)*'2d) Planwerte (Anlage)'!U$116 -> 0
B46: =IF(OR(ISBLANK('2d) Planwerte (Anlage)'!B96),'2d) Planwerte (Anlage)'!B96="- bitte Abfallart benennen -"),"",'2d) Planwerte (Anlage)'!B96) | C46: =IF(OR(ISBLANK('2d) Planwerte (Anlage)'!B96),'2d) Planwerte (Anlage)'!B96="- bitte Abfallart benennen -"),"","MWh/Jahr") | D46: - | E46: ='2d) Planwerte (Anlage)'!E96+IF(OR($B46<>'2d) Planwerte (Anlage)'!$B$116,$B46=""),0,1)*'2d) Planwerte (Anlage)'!E$116 -> 0 | F46: ='2d) Planwerte (Anlage)'!F96+IF(OR($B46<>'2d) Planwerte (Anlage)'!$B$116,$B46=""),0,1)*'2d) Planwerte (Anlage)'!F$116 -> 0 | G46: ='2d) Planwerte (Anlage)'!G96+IF(OR($B46<>'2d) Planwerte (Anlage)'!$B$116,$B46=""),0,1)*'2d) Planwerte (Anlage)'!G$116 -> 0 | H46: ='2d) Planwerte (Anlage)'!H96+IF(OR($B46<>'2d) Planwerte (Anlage)'!$B$116,$B46=""),0,1)*'2d) Planwerte (Anlage)'!H$116 -> 0 | I46: ='2d) Planwerte (Anlage)'!I96+IF(OR($B46<>'2d) Planwerte (Anlage)'!$B$116,$B46=""),0,1)*'2d) Planwerte (Anlage)'!I$116 -> 0 | J46: ='2d) Planwerte (Anlage)'!J96+IF(OR($B46<>'2d) Planwerte (Anlage)'!$B$116,$B46=""),0,1)*'2d) Planwerte (Anlage)'!J$116 -> 0 | K46: ='2d) Planwerte (Anlage)'!K96+IF(OR($B46<>'2d) Planwerte (Anlage)'!$B$116,$B46=""),0,1)*'2d) Planwerte (Anlage)'!K$116 -> 0 | L46: ='2d) Planwerte (Anlage)'!L96+IF(OR($B46<>'2d) Planwerte (Anlage)'!$B$116,$B46=""),0,1)*'2d) Planwerte (Anlage)'!L$116 -> 0 | ... U46: ='2d) Planwerte (Anlage)'!U96+IF(OR($B46<>'2d) Planwerte (Anlage)'!$B$116,$B46=""),0,1)*'2d) Planwerte (Anlage)'!U$116 -> 0
B47: =IF(OR(ISBLANK('2d) Planwerte (Anlage)'!B97),'2d) Planwerte (Anlage)'!B97="- bitte Abfallart benennen -"),"",'2d) Planwerte (Anlage)'!B97) | C47: =IF(OR(ISBLANK('2d) Planwerte (Anlage)'!B97),'2d) Planwerte (Anlage)'!B97="- bitte Abfallart benennen -"),"","MWh/Jahr") | D47: - | E47: ='2d) Planwerte (Anlage)'!E97+IF(OR($B47<>'2d) Planwerte (Anlage)'!$B$116,$B47=""),0,1)*'2d) Planwerte (Anlage)'!E$116 -> 0 | F47: ='2d) Planwerte (Anlage)'!F97+IF(OR($B47<>'2d) Planwerte (Anlage)'!$B$116,$B47=""),0,1)*'2d) Planwerte (Anlage)'!F$116 -> 0 | G47: ='2d) Planwerte (Anlage)'!G97+IF(OR($B47<>'2d) Planwerte (Anlage)'!$B$116,$B47=""),0,1)*'2d) Planwerte (Anlage)'!G$116 -> 0 | H47: ='2d) Planwerte (Anlage)'!H97+IF(OR($B47<>'2d) Planwerte (Anlage)'!$B$116,$B47=""),0,1)*'2d) Planwerte (Anlage)'!H$116 -> 0 | I47: ='2d) Planwerte (Anlage)'!I97+IF(OR($B47<>'2d) Planwerte (Anlage)'!$B$116,$B47=""),0,1)*'2d) Planwerte (Anlage)'!I$116 -> 0 | J47: ='2d) Planwerte (Anlage)'!J97+IF(OR($B47<>'2d) Planwerte (Anlage)'!$B$116,$B47=""),0,1)*'2d) Planwerte (Anlage)'!J$116 -> 0 | K47: ='2d) Planwerte (Anlage)'!K97+IF(OR($B47<>'2d) Planwerte (Anlage)'!$B$116,$B47=""),0,1)*'2d) Planwerte (Anlage)'!K$116 -> 0 | L47: ='2d) Planwerte (Anlage)'!L97+IF(OR($B47<>'2d) Planwerte (Anlage)'!$B$116,$B47=""),0,1)*'2d) Planwerte (Anlage)'!L$116 -> 0 | ... U47: ='2d) Planwerte (Anlage)'!U97+IF(OR($B47<>'2d) Planwerte (Anlage)'!$B$116,$B47=""),0,1)*'2d) Planwerte (Anlage)'!U$116 -> 0
B48: =IF(OR(ISBLANK('2d) Planwerte (Anlage)'!B98),'2d) Planwerte (Anlage)'!B98="- bitte Abfallart benennen -"),"",'2d) Planwerte (Anlage)'!B98) | C48: =IF(OR(ISBLANK('2d) Planwerte (Anlage)'!B98),'2d) Planwerte (Anlage)'!B98="- bitte Abfallart benennen -"),"","MWh/Jahr") | D48: - | E48: ='2d) Planwerte (Anlage)'!E98+IF(OR($B48<>'2d) Planwerte (Anlage)'!$B$116,$B48=""),0,1)*'2d) Planwerte (Anlage)'!E$116 -> 0 | F48: ='2d) Planwerte (Anlage)'!F98+IF(OR($B48<>'2d) Planwerte (Anlage)'!$B$116,$B48=""),0,1)*'2d) Planwerte (Anlage)'!F$116 -> 0 | G48: ='2d) Planwerte (Anlage)'!G98+IF(OR($B48<>'2d) Planwerte (Anlage)'!$B$116,$B48=""),0,1)*'2d) Planwerte (Anlage)'!G$116 -> 0 | H48: ='2d) Planwerte (Anlage)'!H98+IF(OR($B48<>'2d) Planwerte (Anlage)'!$B$116,$B48=""),0,1)*'2d) Planwerte (Anlage)'!H$116 -> 0 | I48: ='2d) Planwerte (Anlage)'!I98+IF(OR($B48<>'2d) Planwerte (Anlage)'!$B$116,$B48=""),0,1)*'2d) Planwerte (Anlage)'!I$116 -> 0 | J48: ='2d) Planwerte (Anlage)'!J98+IF(OR($B48<>'2d) Planwerte (Anlage)'!$B$116,$B48=""),0,1)*'2d) Planwerte (Anlage)'!J$116 -> 0 | K48: ='2d) Planwerte (Anlage)'!K98+IF(OR($B48<>'2d) Planwerte (Anlage)'!$B$116,$B48=""),0,1)*'2d) Planwerte (Anlage)'!K$116 -> 0 | L48: ='2d) Planwerte (Anlage)'!L98+IF(OR($B48<>'2d) Planwerte (Anlage)'!$B$116,$B48=""),0,1)*'2d) Planwerte (Anlage)'!L$116 -> 0 | ... U48: ='2d) Planwerte (Anlage)'!U98+IF(OR($B48<>'2d) Planwerte (Anlage)'!$B$116,$B48=""),0,1)*'2d) Planwerte (Anlage)'!U$116 -> 0
B49: =IF(OR(ISBLANK('2d) Planwerte (Anlage)'!B99),'2d) Planwerte (Anlage)'!B99="- bitte Abfallart benennen -"),"",'2d) Planwerte (Anlage)'!B99) | C49: =IF(OR(ISBLANK('2d) Planwerte (Anlage)'!B99),'2d) Planwerte (Anlage)'!B99="- bitte Abfallart benennen -"),"","MWh/Jahr") | D49: - | E49: ='2d) Planwerte (Anlage)'!E99+IF(OR($B49<>'2d) Planwerte (Anlage)'!$B$116,$B49=""),0,1)*'2d) Planwerte (Anlage)'!E$116 -> 0 | F49: ='2d) Planwerte (Anlage)'!F99+IF(OR($B49<>'2d) Planwerte (Anlage)'!$B$116,$B49=""),0,1)*'2d) Planwerte (Anlage)'!F$116 -> 0 | G49: ='2d) Planwerte (Anlage)'!G99+IF(OR($B49<>'2d) Planwerte (Anlage)'!$B$116,$B49=""),0,1)*'2d) Planwerte (Anlage)'!G$116 -> 0 | H49: ='2d) Planwerte (Anlage)'!H99+IF(OR($B49<>'2d) Planwerte (Anlage)'!$B$116,$B49=""),0,1)*'2d) Planwerte (Anlage)'!H$116 -> 0 | I49: ='2d) Planwerte (Anlage)'!I99+IF(OR($B49<>'2d) Planwerte (Anlage)'!$B$116,$B49=""),0,1)*'2d) Planwerte (Anlage)'!I$116 -> 0 | J49: ='2d) Planwerte (Anlage)'!J99+IF(OR($B49<>'2d) Planwerte (Anlage)'!$B$116,$B49=""),0,1)*'2d) Planwerte (Anlage)'!J$116 -> 0 | K49: ='2d) Planwerte (Anlage)'!K99+IF(OR($B49<>'2d) Planwerte (Anlage)'!$B$116,$B49=""),0,1)*'2d) Planwerte (Anlage)'!K$116 -> 0 | L49: ='2d) Planwerte (Anlage)'!L99+IF(OR($B49<>'2d) Planwerte (Anlage)'!$B$116,$B49=""),0,1)*'2d) Planwerte (Anlage)'!L$116 -> 0 | ... U49: ='2d) Planwerte (Anlage)'!U99+IF(OR($B49<>'2d) Planwerte (Anlage)'!$B$116,$B49=""),0,1)*'2d) Planwerte (Anlage)'!U$116 -> 0
B50: =IF(OR(ISBLANK('2d) Planwerte (Anlage)'!B100),'2d) Planwerte (Anlage)'!B100="- bitte Abfallart benennen -"),"",'2d) Planwerte (Anlage)'!B100) | C50: =IF(OR(ISBLANK('2d) Planwerte (Anlage)'!B100),'2d) Planwerte (Anlage)'!B100="- bitte Abfallart benennen -"),"","MWh/Jahr") | D50: - | E50: ='2d) Planwerte (Anlage)'!E100+IF(OR($B50<>'2d) Planwerte (Anlage)'!$B$116,$B50=""),0,1)*'2d) Planwerte (Anlage)'!E$116 -> 0 | F50: ='2d) Planwerte (Anlage)'!F100+IF(OR($B50<>'2d) Planwerte (Anlage)'!$B$116,$B50=""),0,1)*'2d) Planwerte (Anlage)'!F$116 -> 0 | G50: ='2d) Planwerte (Anlage)'!G100+IF(OR($B50<>'2d) Planwerte (Anlage)'!$B$116,$B50=""),0,1)*'2d) Planwerte (Anlage)'!G$116 -> 0 | H50: ='2d) Planwerte (Anlage)'!H100+IF(OR($B50<>'2d) Planwerte (Anlage)'!$B$116,$B50=""),0,1)*'2d) Planwerte (Anlage)'!H$116 -> 0 | I50: ='2d) Planwerte (Anlage)'!I100+IF(OR($B50<>'2d) Planwerte (Anlage)'!$B$116,$B50=""),0,1)*'2d) Planwerte (Anlage)'!I$116 -> 0 | J50: ='2d) Planwerte (Anlage)'!J100+IF(OR($B50<>'2d) Planwerte (Anlage)'!$B$116,$B50=""),0,1)*'2d) Planwerte (Anlage)'!J$116 -> 0 | K50: ='2d) Planwerte (Anlage)'!K100+IF(OR($B50<>'2d) Planwerte (Anlage)'!$B$116,$B50=""),0,1)*'2d) Planwerte (Anlage)'!K$116 -> 0 | L50: ='2d) Planwerte (Anlage)'!L100+IF(OR($B50<>'2d) Planwerte (Anlage)'!$B$116,$B50=""),0,1)*'2d) Planwerte (Anlage)'!L$116 -> 0 | ... U50: ='2d) Planwerte (Anlage)'!U100+IF(OR($B50<>'2d) Planwerte (Anlage)'!$B$116,$B50=""),0,1)*'2d) Planwerte (Anlage)'!U$116 -> 0
B51: =IF(OR(ISBLANK('2d) Planwerte (Anlage)'!B102),'2d) Planwerte (Anlage)'!B102="- bitte Energieträger benennen -"),"",'2d) Planwerte (Anlage)'!B102) | C51: =IF(OR(ISBLANK('2d) Planwerte (Anlage)'!B102),'2d) Planwerte (Anlage)'!B102="- bitte Energieträger benennen -"),"","MWh/Jahr") | D51: - | E51: ='2d) Planwerte (Anlage)'!E102+IF(OR($B51<>'2d) Planwerte (Anlage)'!$B$116,$B51=""),0,1)*'2d) Planwerte (Anlage)'!E$116 -> 0 | F51: ='2d) Planwerte (Anlage)'!F102+IF(OR($B51<>'2d) Planwerte (Anlage)'!$B$116,$B51=""),0,1)*'2d) Planwerte (Anlage)'!F$116 -> 0 | G51: ='2d) Planwerte (Anlage)'!G102+IF(OR($B51<>'2d) Planwerte (Anlage)'!$B$116,$B51=""),0,1)*'2d) Planwerte (Anlage)'!G$116 -> 0 | H51: ='2d) Planwerte (Anlage)'!H102+IF(OR($B51<>'2d) Planwerte (Anlage)'!$B$116,$B51=""),0,1)*'2d) Planwerte (Anlage)'!H$116 -> 0 | I51: ='2d) Planwerte (Anlage)'!I102+IF(OR($B51<>'2d) Planwerte (Anlage)'!$B$116,$B51=""),0,1)*'2d) Planwerte (Anlage)'!I$116 -> 0 | J51: ='2d) Planwerte (Anlage)'!J102+IF(OR($B51<>'2d) Planwerte (Anlage)'!$B$116,$B51=""),0,1)*'2d) Planwerte (Anlage)'!J$116 -> 0 | K51: ='2d) Planwerte (Anlage)'!K102+IF(OR($B51<>'2d) Planwerte (Anlage)'!$B$116,$B51=""),0,1)*'2d) Planwerte (Anlage)'!K$116 -> 0 | L51: ='2d) Planwerte (Anlage)'!L102+IF(OR($B51<>'2d) Planwerte (Anlage)'!$B$116,$B51=""),0,1)*'2d) Planwerte (Anlage)'!L$116 -> 0 | ... U51: ='2d) Planwerte (Anlage)'!U102+IF(OR($B51<>'2d) Planwerte (Anlage)'!$B$116,$B51=""),0,1)*'2d) Planwerte (Anlage)'!U$116 -> 0
B52: =IF(OR(ISBLANK('2d) Planwerte (Anlage)'!B103),'2d) Planwerte (Anlage)'!B103="- bitte Energieträger benennen -"),"",'2d) Planwerte (Anlage)'!B103) | C52: =IF(OR(ISBLANK('2d) Planwerte (Anlage)'!B103),'2d) Planwerte (Anlage)'!B103="- bitte Energieträger benennen -"),"","MWh/Jahr") | D52: - | E52: ='2d) Planwerte (Anlage)'!E103+IF(OR($B52<>'2d) Planwerte (Anlage)'!$B$116,$B52=""),0,1)*'2d) Planwerte (Anlage)'!E$116 -> 0 | F52: ='2d) Planwerte (Anlage)'!F103+IF(OR($B52<>'2d) Planwerte (Anlage)'!$B$116,$B52=""),0,1)*'2d) Planwerte (Anlage)'!F$116 -> 0 | G52: ='2d) Planwerte (Anlage)'!G103+IF(OR($B52<>'2d) Planwerte (Anlage)'!$B$116,$B52=""),0,1)*'2d) Planwerte (Anlage)'!G$116 -> 0 | H52: ='2d) Planwerte (Anlage)'!H103+IF(OR($B52<>'2d) Planwerte (Anlage)'!$B$116,$B52=""),0,1)*'2d) Planwerte (Anlage)'!H$116 -> 0 | I52: ='2d) Planwerte (Anlage)'!I103+IF(OR($B52<>'2d) Planwerte (Anlage)'!$B$116,$B52=""),0,1)*'2d) Planwerte (Anlage)'!I$116 -> 0 | J52: ='2d) Planwerte (Anlage)'!J103+IF(OR($B52<>'2d) Planwerte (Anlage)'!$B$116,$B52=""),0,1)*'2d) Planwerte (Anlage)'!J$116 -> 0 | K52: ='2d) Planwerte (Anlage)'!K103+IF(OR($B52<>'2d) Planwerte (Anlage)'!$B$116,$B52=""),0,1)*'2d) Planwerte (Anlage)'!K$116 -> 0 | L52: ='2d) Planwerte (Anlage)'!L103+IF(OR($B52<>'2d) Planwerte (Anlage)'!$B$116,$B52=""),0,1)*'2d) Planwerte (Anlage)'!L$116 -> 0 | ... U52: ='2d) Planwerte (Anlage)'!U103+IF(OR($B52<>'2d) Planwerte (Anlage)'!$B$116,$B52=""),0,1)*'2d) Planwerte (Anlage)'!U$116 -> 0
